BEGIN:VCALENDAR
VERSION:2.0
PRODID:-//BÜNDNIS 90/DIE GRÜNEN - ECPv6.15.20//NONSGML v1.0//EN
CALSCALE:GREGORIAN
METHOD:PUBLISH
X-ORIGINAL-URL:https://gruene-pankow.de
X-WR-CALDESC:Veranstaltungen für BÜNDNIS 90/DIE GRÜNEN
REFRESH-INTERVAL;VALUE=DURATION:PT1H
X-Robots-Tag:noindex
X-PUBLISHED-TTL:PT1H
BEGIN:VTIMEZONE
TZID:Europe/Berlin
BEGIN:DAYLIGHT
TZOFFSETFROM:+0100
TZOFFSETTO:+0200
TZNAME:CEST
DTSTART:20210328T010000
END:DAYLIGHT
BEGIN:STANDARD
TZOFFSETFROM:+0200
TZOFFSETTO:+0100
TZNAME:CET
DTSTART:20211031T010000
END:STANDARD
BEGIN:DAYLIGHT
TZOFFSETFROM:+0100
TZOFFSETTO:+0200
TZNAME:CEST
DTSTART:20220327T010000
END:DAYLIGHT
BEGIN:STANDARD
TZOFFSETFROM:+0200
TZOFFSETTO:+0100
TZNAME:CET
DTSTART:20221030T010000
END:STANDARD
BEGIN:DAYLIGHT
TZOFFSETFROM:+0100
TZOFFSETTO:+0200
TZNAME:CEST
DTSTART:20230326T010000
END:DAYLIGHT
BEGIN:STANDARD
TZOFFSETFROM:+0200
TZOFFSETTO:+0100
TZNAME:CET
DTSTART:20231029T010000
END:STANDARD
END:VTIMEZONE
BEGIN:VEVENT
DTSTART;TZID=Europe/Berlin:20221122T200000
DTEND;TZID=Europe/Berlin:20221122T220000
DTSTAMP:20260421T103322
CREATED:20221119T161705Z
LAST-MODIFIED:20221122T135220Z
UID:4271-1669147200-1669154400@gruene-pankow.de
SUMMARY:Öffentliche Mitgliederversammlung
DESCRIPTION:Das höchste Gremium des Kreisverbands Pankow tritt zusammen in einer öffentlichen Sitzung. Es wird um den Haushalt für das nächste Jahr gehen und vor allem um unseren Auftakt für den Wahlkampf. \nBitte beachtet: Die Veranstaltung findet online und nicht wie ursprünglich angekündigt in der Kulturmarkthalle statt. \n\nBegrüßung und Formalia\n1. Lesung Haushalt 2023\nGedenken an Werner Schulz\nPolitische Rede Oda Hassepaß (MdA)\nWahlkampf: Strategien\, Organisation und Beteiligungsmöglichkeiten\nAktuelles aus der Politik\n\nAusnahmsweise wollen wir statt reglulär im Frühjahr 2023 bereits jetzt einen Haushalt für das Jahr 2023 beschließen. Die 2. Lesung und Abstimmung ist für die folgende Mitgliederversammlung vorgesehen.
URL:https://gruene-pankow.de/termin/mitgliederversammlung/
LOCATION:Online: Zoom-Raum 3
CATEGORIES:Mitglieder
END:VEVENT
END:VCALENDAR