BEGIN:VCALENDAR
VERSION:2.0
PRODID:-//BÜNDNIS 90/DIE GRÜNEN - ECPv6.15.20//NONSGML v1.0//EN
CALSCALE:GREGORIAN
METHOD:PUBLISH
X-WR-CALNAME:BÜNDNIS 90/DIE GRÜNEN
X-ORIGINAL-URL:https://gruene-pankow.de
X-WR-CALDESC:Veranstaltungen für BÜNDNIS 90/DIE GRÜNEN
REFRESH-INTERVAL;VALUE=DURATION:PT1H
X-Robots-Tag:noindex
X-PUBLISHED-TTL:PT1H
BEGIN:VTIMEZONE
TZID:Europe/Berlin
BEGIN:DAYLIGHT
TZOFFSETFROM:+0100
TZOFFSETTO:+0200
TZNAME:CEST
DTSTART:20230326T010000
END:DAYLIGHT
BEGIN:STANDARD
TZOFFSETFROM:+0200
TZOFFSETTO:+0100
TZNAME:CET
DTSTART:20231029T010000
END:STANDARD
BEGIN:DAYLIGHT
TZOFFSETFROM:+0100
TZOFFSETTO:+0200
TZNAME:CEST
DTSTART:20240331T010000
END:DAYLIGHT
BEGIN:STANDARD
TZOFFSETFROM:+0200
TZOFFSETTO:+0100
TZNAME:CET
DTSTART:20241027T010000
END:STANDARD
BEGIN:DAYLIGHT
TZOFFSETFROM:+0100
TZOFFSETTO:+0200
TZNAME:CEST
DTSTART:20250330T010000
END:DAYLIGHT
BEGIN:STANDARD
TZOFFSETFROM:+0200
TZOFFSETTO:+0100
TZNAME:CET
DTSTART:20251026T010000
END:STANDARD
END:VTIMEZONE
BEGIN:VEVENT
DTSTART;TZID=Europe/Berlin:20240502T190000
DTEND;TZID=Europe/Berlin:20240502T210000
DTSTAMP:20260419T163350
CREATED:20240428T132252Z
LAST-MODIFIED:20240429T080818Z
UID:9452-1714676400-1714683600@gruene-pankow.de
SUMMARY:Gemütliches Beisammensein - Stadtteilgruppe Weißensee
DESCRIPTION:Ihr habt es gesehen oder selbst mitgemacht: Wir haben Weißensee grün plakatiert!\nAm Donnerstag 19 Uhr treffen wir uns zu einem gemütlichen Beisammensein in der Brotfabrik.\nDas Wetter lädt zu einem netten Abend ein\, bei dem wir schonmal die nächsten Wahlkampfaktionen planen können. Rebecca und Andreas organisieren.\nEinfach dazustoßen!
URL:https://gruene-pankow.de/termin/gemuetliches-beisammensein-stadtteilgruppe-weissensee/
LOCATION:Brotfabrik\, Cali­ga­ri­platz 1\, Berlin-Weißensee\, 13086
CATEGORIES:Stadtteilgruppen
ATTACH;FMTTYPE=image/png:https://gruene-pankow.de/wp-content/uploads/2023/11/SG-Weissensee.png
ORGANIZER;CN="SG Wei%C3%9Fensee":MAILTO:weissensee@gruene-pankow.de
END:VEVENT
BEGIN:VEVENT
DTSTART;TZID=Europe/Berlin:20240516T190000
DTEND;TZID=Europe/Berlin:20240516T210000
DTSTAMP:20260419T163350
CREATED:20240513T065950Z
LAST-MODIFIED:20240513T065950Z
UID:9610-1715886000-1715893200@gruene-pankow.de
SUMMARY:Stadtteilgruppen-Treff zum EU-Wahlkampf mit den Stadtteilgruppen Prenzlauer Berg Nordost und Weißensee
DESCRIPTION:Der Wahlkampf ist in vollem Gange\, unsere Stadtteile Prenzlauer Berg Nordost und Weißensee wurden schon mit Plakaten schön begrünt. In Vorbereitung zur EU-Wahl am 9. Juni wollen wir uns zusammen mit euch zu geplanten Wahlkampfständen und Aktivitäten in der Nachbarschaft austauschen. Wir freuen uns über euer Kommen!
URL:https://gruene-pankow.de/termin/stadtteilgruppen-treff-zum-eu-wahlkampf-mit-den-stadtteilgruppen-prenzlauer-berg-nordost-und-weissensee/
LOCATION:Brotfabrik\, Cali­ga­ri­platz 1\, Berlin-Weißensee\, 13086
CATEGORIES:Europa,Stadtteilgruppen
ATTACH;FMTTYPE=image/png:https://gruene-pankow.de/wp-content/uploads/2024/05/SGn-Weissensee-Prenzlauer-Berg-Nordost.png
END:VEVENT
END:VCALENDAR