BEGIN:VCALENDAR
VERSION:2.0
PRODID:-//BÜNDNIS 90/DIE GRÜNEN - ECPv6.15.20//NONSGML v1.0//EN
CALSCALE:GREGORIAN
METHOD:PUBLISH
X-ORIGINAL-URL:https://gruene-pankow.de
X-WR-CALDESC:Veranstaltungen für BÜNDNIS 90/DIE GRÜNEN
REFRESH-INTERVAL;VALUE=DURATION:PT1H
X-Robots-Tag:noindex
X-PUBLISHED-TTL:PT1H
BEGIN:VTIMEZONE
TZID:Europe/Berlin
BEGIN:DAYLIGHT
TZOFFSETFROM:+0100
TZOFFSETTO:+0200
TZNAME:CEST
DTSTART:20220327T010000
END:DAYLIGHT
BEGIN:STANDARD
TZOFFSETFROM:+0200
TZOFFSETTO:+0100
TZNAME:CET
DTSTART:20221030T010000
END:STANDARD
BEGIN:DAYLIGHT
TZOFFSETFROM:+0100
TZOFFSETTO:+0200
TZNAME:CEST
DTSTART:20230326T010000
END:DAYLIGHT
BEGIN:STANDARD
TZOFFSETFROM:+0200
TZOFFSETTO:+0100
TZNAME:CET
DTSTART:20231029T010000
END:STANDARD
BEGIN:DAYLIGHT
TZOFFSETFROM:+0100
TZOFFSETTO:+0200
TZNAME:CEST
DTSTART:20240331T010000
END:DAYLIGHT
BEGIN:STANDARD
TZOFFSETFROM:+0200
TZOFFSETTO:+0100
TZNAME:CET
DTSTART:20241027T010000
END:STANDARD
END:VTIMEZONE
BEGIN:VEVENT
DTSTART;TZID=Europe/Berlin:20230707T160000
DTEND;TZID=Europe/Berlin:20230707T190000
DTSTAMP:20260420T100946
CREATED:20230524T131223Z
LAST-MODIFIED:20230703T105041Z
UID:6381-1688745600-1688756400@gruene-pankow.de
SUMMARY:Neubauten und Baupläne: Schulbau in Pankow
DESCRIPTION:Pankow fehlt es gegenwärtig an mindestens 3600 Schulplätzen. Darum ist der Bau von Schulen ein Schwerpunkt der bündnisgrüner Bezirks- und Schulpolitik. In diesem Jahr werden in Pankow einige Schulneubauten fertig\, die wir bei diesem Streifzug von StadtLandPankow besuchen und besprechen möchten: Eine vierzügige Typenbau-Grundschule an der Karower Chaussee\, eine ebensolche in der Rennbahnstraße. Vielleicht schauen wir auch nach der Marianne-Buggenhagen-Schule (Buch) oder der Grundschule unter den Bäumen (Blankenburg) die gerade saniert und erweitert werden. \nWer nicht weiß\, was eine Typenschule\, eine Compartment-Schule oder ein MEB (Mobiler Ergänzungsbau) ist\, kann es auf unserem Bildungsstreifzug per Fahrrad  erfahren. Entsprechen diese Schulbauten den Bedürfnissen der Schülerschaft\, der Eltern und Lehrkräfte? Was nutzt kurzfristig\, was langfristig? Sind die Gebäude nachhaltig und ökologisch konzipiert? Wie könnten Alternativen aussehen? Mit welchen Schulen können wir in den nächsten Jahren rechnen? \nMit dabei ist Louis Krüger\, Sprecher für Schulpolitik der Fraktion B’90/Grüne im Abgeordnetenhaus. \nTreffpunkt: S-Bahnhof Buch\, Bushaltestelle rechts  gegenüber Ausgang. Ausklang: Wahlkreisbüro von Louis Krüger (Berliner Straße 89\, 13189 Berlin).
URL:https://gruene-pankow.de/termin/neubauten-und-bauplaene-schulbau-in-pankow/
LOCATION:S Buch\, Wiltbergstr. 29\, Berlin\, 13125
CATEGORIES:Kreisverband,Mandatsträger*innen
ATTACH;FMTTYPE=image/png:https://gruene-pankow.de/wp-content/uploads/2023/05/Sharepics-Streifzuege-2023-–-Louis.png
ORGANIZER;CN="Louis Kr%C3%BCger (MdA)":MAILTO:info@louiskrueger.de
END:VEVENT
END:VCALENDAR