BEGIN:VCALENDAR
VERSION:2.0
PRODID:-//BÜNDNIS 90/DIE GRÜNEN - ECPv6.15.20//NONSGML v1.0//EN
CALSCALE:GREGORIAN
METHOD:PUBLISH
X-WR-CALNAME:BÜNDNIS 90/DIE GRÜNEN
X-ORIGINAL-URL:https://gruene-pankow.de
X-WR-CALDESC:Veranstaltungen für BÜNDNIS 90/DIE GRÜNEN
REFRESH-INTERVAL;VALUE=DURATION:PT1H
X-Robots-Tag:noindex
X-PUBLISHED-TTL:PT1H
BEGIN:VTIMEZONE
TZID:Europe/Berlin
BEGIN:DAYLIGHT
TZOFFSETFROM:+0100
TZOFFSETTO:+0200
TZNAME:CEST
DTSTART:20220327T010000
END:DAYLIGHT
BEGIN:STANDARD
TZOFFSETFROM:+0200
TZOFFSETTO:+0100
TZNAME:CET
DTSTART:20221030T010000
END:STANDARD
BEGIN:DAYLIGHT
TZOFFSETFROM:+0100
TZOFFSETTO:+0200
TZNAME:CEST
DTSTART:20230326T010000
END:DAYLIGHT
BEGIN:STANDARD
TZOFFSETFROM:+0200
TZOFFSETTO:+0100
TZNAME:CET
DTSTART:20231029T010000
END:STANDARD
BEGIN:DAYLIGHT
TZOFFSETFROM:+0100
TZOFFSETTO:+0200
TZNAME:CEST
DTSTART:20240331T010000
END:DAYLIGHT
BEGIN:STANDARD
TZOFFSETFROM:+0200
TZOFFSETTO:+0100
TZNAME:CET
DTSTART:20241027T010000
END:STANDARD
END:VTIMEZONE
BEGIN:VEVENT
DTSTART;TZID=Europe/Berlin:20230420T200000
DTEND;TZID=Europe/Berlin:20230420T220000
DTSTAMP:20260422T003133
CREATED:20221202T124446Z
LAST-MODIFIED:20230327T193902Z
UID:4711-1682020800-1682028000@gruene-pankow.de
SUMMARY:AG Klimaschutz
DESCRIPTION:Als Referentin haben wir Christiane Habermalz zu Gast. Sie ist Redakteurin und freie Wissenschaftsjournalistin und Autorin des Buches „Anstiftung zum gärtnerischen Ungehorsam. Bekenntnisse einer Guerillagärtnerin“. Anschließend planen wir unsere Baumscheiben-Pflanz-Aktion!🍀
URL:https://gruene-pankow.de/termin/ag-klimaschutz-4/
LOCATION:Kiezbüro B5\, Berliner Straße 5\, Berlin-Pankow\, 13187
CATEGORIES:Arbeitsgemeinschaften
ORGANIZER;CN="AG Klimaschutz":MAILTO:klimaschutz@gruene-pankow.de
END:VEVENT
END:VCALENDAR