BEGIN:VCALENDAR
VERSION:2.0
PRODID:-//BÜNDNIS 90/DIE GRÜNEN - ECPv6.15.20//NONSGML v1.0//EN
CALSCALE:GREGORIAN
METHOD:PUBLISH
X-WR-CALNAME:BÜNDNIS 90/DIE GRÜNEN
X-ORIGINAL-URL:https://gruene-pankow.de
X-WR-CALDESC:Veranstaltungen für BÜNDNIS 90/DIE GRÜNEN
REFRESH-INTERVAL;VALUE=DURATION:PT1H
X-Robots-Tag:noindex
X-PUBLISHED-TTL:PT1H
BEGIN:VTIMEZONE
TZID:Europe/Berlin
BEGIN:DAYLIGHT
TZOFFSETFROM:+0100
TZOFFSETTO:+0200
TZNAME:CEST
DTSTART:20220327T010000
END:DAYLIGHT
BEGIN:STANDARD
TZOFFSETFROM:+0200
TZOFFSETTO:+0100
TZNAME:CET
DTSTART:20221030T010000
END:STANDARD
BEGIN:DAYLIGHT
TZOFFSETFROM:+0100
TZOFFSETTO:+0200
TZNAME:CEST
DTSTART:20230326T010000
END:DAYLIGHT
BEGIN:STANDARD
TZOFFSETFROM:+0200
TZOFFSETTO:+0100
TZNAME:CET
DTSTART:20231029T010000
END:STANDARD
BEGIN:DAYLIGHT
TZOFFSETFROM:+0100
TZOFFSETTO:+0200
TZNAME:CEST
DTSTART:20240331T010000
END:DAYLIGHT
BEGIN:STANDARD
TZOFFSETFROM:+0200
TZOFFSETTO:+0100
TZNAME:CET
DTSTART:20241027T010000
END:STANDARD
END:VTIMEZONE
BEGIN:VEVENT
DTSTART;TZID=Europe/Berlin:20230604T110000
DTEND;TZID=Europe/Berlin:20230604T190000
DTSTAMP:20260421T035811
CREATED:20230524T103951Z
LAST-MODIFIED:20231127T140626Z
UID:6352-1685876400-1685905200@gruene-pankow.de
SUMMARY:Wald-Stand auf dem Umweltfestival 2023
DESCRIPTION:Auf dem diesjährigen Umweltfestival\, dem Ziel der ADFC-Sternfahrt\, ist die bündnisgrüne Fraktion im Abgeordnetenhaus mit einem Wald-Stand vertreten. Es gibt vieles zu entdecken für Groß und Klein. Kommt vorbei\, lernt Neues über den Wald und diskutiert mit uns über die Berliner Waldpolitik! Mit Julia Schneider und vielen anderen
URL:https://gruene-pankow.de/termin/wald-stand-auf-dem-umweltfestival-2023/
LOCATION:Straße des 17. Juni\, Straße des 17. Juni\, Berlin\, 10557
CATEGORIES:Berlin,Mandatsträger*innen
END:VEVENT
END:VCALENDAR