BEGIN:VCALENDAR
VERSION:2.0
PRODID:-//BÜNDNIS 90/DIE GRÜNEN - ECPv6.15.20//NONSGML v1.0//EN
CALSCALE:GREGORIAN
METHOD:PUBLISH
X-WR-CALNAME:BÜNDNIS 90/DIE GRÜNEN
X-ORIGINAL-URL:https://gruene-pankow.de
X-WR-CALDESC:Veranstaltungen für BÜNDNIS 90/DIE GRÜNEN
REFRESH-INTERVAL;VALUE=DURATION:PT1H
X-Robots-Tag:noindex
X-PUBLISHED-TTL:PT1H
BEGIN:VTIMEZONE
TZID:Europe/Berlin
BEGIN:DAYLIGHT
TZOFFSETFROM:+0100
TZOFFSETTO:+0200
TZNAME:CEST
DTSTART:20210328T010000
END:DAYLIGHT
BEGIN:STANDARD
TZOFFSETFROM:+0200
TZOFFSETTO:+0100
TZNAME:CET
DTSTART:20211031T010000
END:STANDARD
BEGIN:DAYLIGHT
TZOFFSETFROM:+0100
TZOFFSETTO:+0200
TZNAME:CEST
DTSTART:20220327T010000
END:DAYLIGHT
BEGIN:STANDARD
TZOFFSETFROM:+0200
TZOFFSETTO:+0100
TZNAME:CET
DTSTART:20221030T010000
END:STANDARD
BEGIN:DAYLIGHT
TZOFFSETFROM:+0100
TZOFFSETTO:+0200
TZNAME:CEST
DTSTART:20230326T010000
END:DAYLIGHT
BEGIN:STANDARD
TZOFFSETFROM:+0200
TZOFFSETTO:+0100
TZNAME:CET
DTSTART:20231029T010000
END:STANDARD
BEGIN:DAYLIGHT
TZOFFSETFROM:+0100
TZOFFSETTO:+0200
TZNAME:CEST
DTSTART:20240331T010000
END:DAYLIGHT
BEGIN:STANDARD
TZOFFSETFROM:+0200
TZOFFSETTO:+0100
TZNAME:CET
DTSTART:20241027T010000
END:STANDARD
END:VTIMEZONE
BEGIN:VEVENT
DTSTART;TZID=Europe/Berlin:20230822T190000
DTEND;TZID=Europe/Berlin:20230822T210000
DTSTAMP:20260419T172503
CREATED:20230623T075608Z
LAST-MODIFIED:20230804T090954Z
UID:6587-1692730800-1692738000@gruene-pankow.de
SUMMARY:Sommer-Treff im Kiezbüro B5 mit Stefan Gelbhaar
DESCRIPTION:Offene Runde zum Kennenlernen und Wiedersehen mit kühlen Getränken und netten Menschen. Gastgeber*innen: Stefan Gelbhaar (MdB).
URL:https://gruene-pankow.de/termin/sommer-treff-im-kiezbuero-b5-5/
LOCATION:Kiezbüro B5\, Berliner Straße 5\, Berlin-Pankow\, 13187
CATEGORIES:Kreisverband,Mandatsträger*innen
ATTACH;FMTTYPE=image/png:https://gruene-pankow.de/wp-content/uploads/2023/06/Sommer-treff-2023-08-22-mit-Stefan-Gelbhaar.png
END:VEVENT
BEGIN:VEVENT
DTSTART;TZID=Europe/Berlin:20230629T160000
DTEND;TZID=Europe/Berlin:20230629T170000
DTSTAMP:20260419T172503
CREATED:20230524T181018Z
LAST-MODIFIED:20230526T114735Z
UID:6407-1688054400-1688058000@gruene-pankow.de
SUMMARY:Verkehrschaos in Ahrensfelde und kein Ende in Sicht?! – Bürger*innen-Dialog mit Stefan Gelbhaar (MdB)
DESCRIPTION:
URL:https://gruene-pankow.de/termin/verkehrschaos-in-ahrensfelde-und-kein-ende-in-sicht-buergerinnen-dialog-mit-stefan-gelbhaar-mdb/
LOCATION:Gemeindesaal Ahrensfelde\, Lindenberger Straße 1\, Ahrensfelde\, 16356
CATEGORIES:Mandatsträger*innen
ORGANIZER;CN="Stefan Gelbhaar (MdB)":MAILTO:stefan.gelbhaar@bundestag.de
END:VEVENT
BEGIN:VEVENT
DTSTART;TZID=Europe/Berlin:20230626T143000
DTEND;TZID=Europe/Berlin:20230626T153000
DTSTAMP:20260419T172503
CREATED:20230524T180717Z
LAST-MODIFIED:20230524T180757Z
UID:6405-1687789800-1687793400@gruene-pankow.de
SUMMARY:Bürger*innen-Sprechstunde: Stefan Gelbhaar (MdB)
DESCRIPTION:Anmeldung unter: stefan.gelbhaar.wk@bundestag.de.
URL:https://gruene-pankow.de/termin/buergerinnen-sprechstunde-stefan-gelbhaar-mdb-5/
LOCATION:Kiezbüro PA22\, Prenzlauer Allee 22\, Berlin-Prenzlauer Berg\, 10405
CATEGORIES:Mandatsträger*innen
ORGANIZER;CN="Stefan Gelbhaar (MdB)":MAILTO:stefan.gelbhaar@bundestag.de
END:VEVENT
BEGIN:VEVENT
DTSTART;TZID=Europe/Berlin:20230616T150000
DTEND;TZID=Europe/Berlin:20230616T160000
DTSTAMP:20260419T172503
CREATED:20230524T140311Z
LAST-MODIFIED:20230524T140313Z
UID:6399-1686927600-1686931200@gruene-pankow.de
SUMMARY:33 Jahre SelbstBau e.G. – mit Stefan Gelbhaar
DESCRIPTION:
URL:https://gruene-pankow.de/termin/33-jahre-selbstbau-e-g-mit-stefan-gelbhaar/
LOCATION:K12\, Kastanienallee 12\, 10435
CATEGORIES:Mandatsträger*innen
END:VEVENT
BEGIN:VEVENT
DTSTART;TZID=Europe/Berlin:20230611T140000
DTEND;TZID=Europe/Berlin:20230611T150000
DTSTAMP:20260419T172503
CREATED:20230524T135855Z
LAST-MODIFIED:20230524T135855Z
UID:6396-1686492000-1686495600@gruene-pankow.de
SUMMARY:Bürger*innen-Sprechstunde auf den Buchholzer Festtagen: Stefan Gelbhaar (MdB)
DESCRIPTION:Stefan Gelbhaar ist vor Ort am Infostand von Bündnis 90/Die Grünen auf den Buchholzer Festtagen.
URL:https://gruene-pankow.de/termin/buergerinnen-sprechstunde-auf-den-buchholzer-festtagen-stefan-gelbhaar-mdb/
LOCATION:H Französisch Buchholz Kirche\, Hauptstraße\, Berlin\, 13127
CATEGORIES:Mandatsträger*innen
ORGANIZER;CN="Stefan Gelbhaar (MdB)":MAILTO:stefan.gelbhaar@bundestag.de
END:VEVENT
BEGIN:VEVENT
DTSTART;TZID=Europe/Berlin:20230608T190000
DTEND;TZID=Europe/Berlin:20230608T210000
DTSTAMP:20260419T172503
CREATED:20230524T100843Z
LAST-MODIFIED:20251120T085332Z
UID:6350-1686250800-1686258000@gruene-pankow.de
SUMMARY:Bündnisgrüner Stammtisch Weißensee
DESCRIPTION:Eine Flaniermeile südlich des Mirbachplatzes? Wir wollen aus aktuellem Anlass Kräfte bündeln und nächste Schritte planen\, um diesen Traum Wirklichkeit werden zu lassen. \nAußerdem: „Ask me anything“ mit SPECIAL GUESTS: Stefan Gelbhaar (MdB) und Ruben Joachim
URL:https://gruene-pankow.de/termin/buendnisgruener-stammtisch-weissensee-3/
LOCATION:Oase am Pistoriusplatz\, Pistoriusplatz\, Berlin\, 13086
CATEGORIES:Kreisverband,Mandatsträger*innen
END:VEVENT
BEGIN:VEVENT
DTSTART;TZID=Europe/Berlin:20230606T170000
DTEND;TZID=Europe/Berlin:20230606T180000
DTSTAMP:20260419T172503
CREATED:20230524T135319Z
LAST-MODIFIED:20230524T135319Z
UID:6394-1686070800-1686074400@gruene-pankow.de
SUMMARY:Bürger*innen-Sprechstunde: Stefan Gelbhaar (MdB)
DESCRIPTION:Anmeldung unter: stefan.gelbhaar.wk@bundestag.de.
URL:https://gruene-pankow.de/termin/buergerinnen-sprechstunde-stefan-gelbhaar-mdb-4/
LOCATION:Kiezbüro B5\, Berliner Straße 5\, Berlin-Pankow\, 13187
CATEGORIES:Mandatsträger*innen
ORGANIZER;CN="Stefan Gelbhaar (MdB)":MAILTO:stefan.gelbhaar@bundestag.de
END:VEVENT
BEGIN:VEVENT
DTSTART;TZID=Europe/Berlin:20230504T193000
DTEND;TZID=Europe/Berlin:20230504T213000
DTSTAMP:20260419T172503
CREATED:20230220T083612Z
LAST-MODIFIED:20251120T085331Z
UID:5888-1683228600-1683235800@gruene-pankow.de
SUMMARY:Grüner Stammtisch Pankow-Nord-Ost – mit Stefan Gelbhaar
DESCRIPTION:Als Gast mit dabei: Stefan Gelbhaar\, Bundestagsabgeordneter für Pankow. \n\nVorort vernetzen: mit anderen Mitgliedern aus der direkten Umgebung und der AG Pankow-Nord.\nVorort kennenlernen: Unser Bundestagsabgeordneter Stefan berichtet über Verkehrspolitik und aktuelle Entwicklungen\nVorort aktiv werden: Beteiligt Euch bei unserem Stand bei den Buchholzer Festtagen am 11./12. Juni 2023 und den Streifzügen durch Pankow 2023!\n\nBei Interesse meldet euch gerne unter kontakt-stammtisch-nord-ost@gruene-pankow.de.
URL:https://gruene-pankow.de/termin/gruener-stammtisch-pankow-nord-ost-4/
LOCATION:Der Eiserne Gustav\, Hauptstraße 59a\, Berlin-Französisch Buchholz\, 13127
CATEGORIES:Arbeitsgemeinschaften,Kreisverband,Mandatsträger*innen
END:VEVENT
BEGIN:VEVENT
DTSTART;TZID=Europe/Berlin:20230307T170000
DTEND;TZID=Europe/Berlin:20230307T190000
DTSTAMP:20260419T172503
CREATED:20230223T183658Z
LAST-MODIFIED:20230223T183658Z
UID:5960-1678208400-1678215600@gruene-pankow.de
SUMMARY:Bürger*innen-Sprechstunde: Stefan Gelbhaar (MdB)
DESCRIPTION:Anmeldung unter: stefan.gelbhaar.wk@bundestag.de.
URL:https://gruene-pankow.de/termin/buergerinnen-sprechstunde-stefan-gelbhaar-mdb-3/
LOCATION:Kiezbüro B5\, Berliner Straße 5\, Berlin-Pankow\, 13187
CATEGORIES:Mandatsträger*innen
ORGANIZER;CN="Stefan Gelbhaar (MdB)":MAILTO:stefan.gelbhaar@bundestag.de
END:VEVENT
BEGIN:VEVENT
DTSTART;TZID=Europe/Berlin:20230119T200000
DTEND;TZID=Europe/Berlin:20230119T220000
DTSTAMP:20260419T172503
CREATED:20221125T190850Z
LAST-MODIFIED:20230115T105643Z
UID:4664-1674158400-1674165600@gruene-pankow.de
SUMMARY:Die Schwächsten schützen – Wie geht es weiter in Pankow?
DESCRIPTION:Wie geht es weiter in Pankow? Darüber diskutieren Verkehrssenatorin Bettina Jarasch\, Stefan Gelbhaar\, Mitglied des Bundestags\, und Oda Hassepaß\, Mitglied des Berliner Abgeordnetenhauses. Das Ziel „Die Schwächsten schützen“ ist dabei der leitende Gedanke. Wie können sich Bezirk\, Stadt und Bund gegenseitig unterstützen\, damit es bei den Themen Mobilität\, Wohnen\, Klima\, Schule und Schwimmbad vorangeht? \nEs diskutieren: \n\nBettina Jarasch (Senatorin für Umwelt\, Mobilität\, Verbraucher- und Klimaschutz)\,\nStefan Gelbhaar (MdB) und\nOda Hassepaß (MdA)
URL:https://gruene-pankow.de/termin/schutz-der-schwaechsten-in-pankow/
LOCATION:Kiezbüro B5\, Berliner Straße 5\, Berlin-Pankow\, 13187
CATEGORIES:Mandatsträger*innen
END:VEVENT
BEGIN:VEVENT
DTSTART;TZID=Europe/Berlin:20230110T170000
DTEND;TZID=Europe/Berlin:20230110T190000
DTSTAMP:20260419T172503
CREATED:20221125T094437Z
LAST-MODIFIED:20221125T094437Z
UID:4633-1673370000-1673377200@gruene-pankow.de
SUMMARY:Bürger*innen-Sprechstunde: Stefan Gelbhaar (MdB)
DESCRIPTION:Anmeldung unter: stefan.gelbhaar.wk@bundestag.de.
URL:https://gruene-pankow.de/termin/buergerinnen-sprechstunde-stefan-gelbhaar-mdb-2/
LOCATION:Kiezbüro B5\, Berliner Straße 5\, Berlin-Pankow\, 13187
CATEGORIES:Mandatsträger*innen
ORGANIZER;CN="Stefan Gelbhaar (MdB)":MAILTO:stefan.gelbhaar@bundestag.de
END:VEVENT
BEGIN:VEVENT
DTSTART;TZID=Europe/Berlin:20221205T163000
DTEND;TZID=Europe/Berlin:20221205T183000
DTSTAMP:20260419T172503
CREATED:20221125T094254Z
LAST-MODIFIED:20221125T094254Z
UID:4631-1670257800-1670265000@gruene-pankow.de
SUMMARY:Bürger*innen-Sprechstunde: Stefan Gelbhaar (MdB)
DESCRIPTION:Anmeldung unter: stefan.gelbhaar.wk@bundestag.de.
URL:https://gruene-pankow.de/termin/buergerinnen-sprechstunde-stefan-gelbhaar-mdb/
LOCATION:Kiezbüro B5\, Berliner Straße 5\, Berlin-Pankow\, 13187
CATEGORIES:Mandatsträger*innen
ORGANIZER;CN="Stefan Gelbhaar (MdB)":MAILTO:stefan.gelbhaar@bundestag.de
END:VEVENT
BEGIN:VEVENT
DTSTART;TZID=Europe/Berlin:20221124T190000
DTEND;TZID=Europe/Berlin:20221124T210000
DTSTAMP:20260419T172503
CREATED:20221120T090030Z
LAST-MODIFIED:20221123T094446Z
UID:4283-1669316400-1669323600@gruene-pankow.de
SUMMARY:AG Offene Gesellschaft mit Stefan Gelbhaar (MdB): „Ein Jahr Ampel\, ein Jahr als Regierungsabgeordneter im Bundestag“
DESCRIPTION:Stefan Gelbhaar (MdB) lädt ein zu Bewertung\, Kritik\, Austausch und Fragerunde rund um ein Jahr Ampel\, ein Jahr als Regierungsabgeordneter. Wie ist es\, was ist erreicht\, was offen\, was schiefgegangen? \nOnline-Teilnahme möglich – weitere Informationen dazu folgen auf www.stefan-gelbhaar.de.
URL:https://gruene-pankow.de/termin/ag-offene-gesellschaft-mit-stefan-gelbhaar-mdb-ein-jahr-ampel-ein-jahr-als-regierungsabgeordneter-im-bundestag/
LOCATION:Kiezbüro B5\, Berliner Straße 5\, Berlin-Pankow\, 13187
CATEGORIES:Arbeitsgemeinschaften,Mandatsträger*innen
ORGANIZER;CN="Stefan Gelbhaar (MdB)":MAILTO:stefan.gelbhaar@bundestag.de
END:VEVENT
END:VCALENDAR