BEGIN:VCALENDAR
VERSION:2.0
PRODID:-//BÜNDNIS 90/DIE GRÜNEN - ECPv6.15.20//NONSGML v1.0//EN
CALSCALE:GREGORIAN
METHOD:PUBLISH
X-WR-CALNAME:BÜNDNIS 90/DIE GRÜNEN
X-ORIGINAL-URL:https://gruene-pankow.de
X-WR-CALDESC:Veranstaltungen für BÜNDNIS 90/DIE GRÜNEN
REFRESH-INTERVAL;VALUE=DURATION:PT1H
X-Robots-Tag:noindex
X-PUBLISHED-TTL:PT1H
BEGIN:VTIMEZONE
TZID:Europe/Berlin
BEGIN:DAYLIGHT
TZOFFSETFROM:+0100
TZOFFSETTO:+0200
TZNAME:CEST
DTSTART:20230326T010000
END:DAYLIGHT
BEGIN:STANDARD
TZOFFSETFROM:+0200
TZOFFSETTO:+0100
TZNAME:CET
DTSTART:20231029T010000
END:STANDARD
BEGIN:DAYLIGHT
TZOFFSETFROM:+0100
TZOFFSETTO:+0200
TZNAME:CEST
DTSTART:20240331T010000
END:DAYLIGHT
BEGIN:STANDARD
TZOFFSETFROM:+0200
TZOFFSETTO:+0100
TZNAME:CET
DTSTART:20241027T010000
END:STANDARD
BEGIN:DAYLIGHT
TZOFFSETFROM:+0100
TZOFFSETTO:+0200
TZNAME:CEST
DTSTART:20250330T010000
END:DAYLIGHT
BEGIN:STANDARD
TZOFFSETFROM:+0200
TZOFFSETTO:+0100
TZNAME:CET
DTSTART:20251026T010000
END:STANDARD
END:VTIMEZONE
BEGIN:VEVENT
DTSTART;TZID=Europe/Berlin:20240903T170000
DTEND;TZID=Europe/Berlin:20240903T180000
DTSTAMP:20260419T200435
CREATED:20240802T180343Z
LAST-MODIFIED:20240802T180343Z
UID:10615-1725382800-1725386400@gruene-pankow.de
SUMMARY:Sprechstunde Stefan Gelbhaar\, MdB
DESCRIPTION:Anmeldung: stefan.gelbhaar.wk@bundestag.de.
URL:https://gruene-pankow.de/termin/sprechstunde-stefan-gelbhaar-mdb-8/
LOCATION:Kiezbüro PA22\, Prenzlauer Allee 22\, Berlin-Prenzlauer Berg\, 10405
CATEGORIES:Bund,Mandatsträger*innen
ATTACH;FMTTYPE=image/png:https://gruene-pankow.de/wp-content/uploads/2022/12/Bildschirmfoto-2021-07-07-um-19.20.07-edited.png
ORGANIZER;CN="Stefan Gelbhaar (MdB)":MAILTO:stefan.gelbhaar@bundestag.de
END:VEVENT
BEGIN:VEVENT
DTSTART;TZID=Europe/Berlin:20240909T160000
DTEND;TZID=Europe/Berlin:20240909T173000
DTSTAMP:20260419T200435
CREATED:20240708T143002Z
LAST-MODIFIED:20240708T143018Z
UID:10026-1725897600-1725903000@gruene-pankow.de
SUMMARY:Sprechstunde von Daniela Billig
DESCRIPTION:Sprechstunde von Daniela Billig\, unserer direkt gewählten Abgeordneten für Prenzlauer Berg Süd. \nDaniela freut sich auf alle Themen\, die Euch bewegen! Meldet Euch im Büro bei Frank Schubert unter buero5.billig@gruene-fraktion.berlin und ihr bekommt ein eigenes Zeitfenster\, in dem ihr Euch mit Daniela unterhalten könnt. \nDie Teilnahme ist im Kiezbüro in der Prenzlauer Allee 22\, per Viko oder per Telefon möglich.
URL:https://gruene-pankow.de/termin/sprechstunde-von-daniela-billig-september/
LOCATION:Kiezbüro PA22\, Prenzlauer Allee 22\, Berlin-Prenzlauer Berg\, 10405
CATEGORIES:Berlin,Mandatsträger*innen
ATTACH;FMTTYPE=image/jpeg:https://gruene-pankow.de/wp-content/uploads/2024/01/BuergerInnen-Sprechstunde-Daniela-Billig-Banner.jpg
ORGANIZER;CN="Daniela Billig (MdA)":MAILTO:buero5.billig@gruene-fraktion.berlin
END:VEVENT
BEGIN:VEVENT
DTSTART;TZID=Europe/Berlin:20240919T170000
DTEND;TZID=Europe/Berlin:20240919T180000
DTSTAMP:20260419T200435
CREATED:20240802T180411Z
LAST-MODIFIED:20240802T180411Z
UID:10617-1726765200-1726768800@gruene-pankow.de
SUMMARY:Sprechstunde Stefan Gelbhaar\, MdB
DESCRIPTION:Anmeldung: stefan.gelbhaar.wk@bundestag.de.
URL:https://gruene-pankow.de/termin/sprechstunde-stefan-gelbhaar-mdb-9/
LOCATION:Kiezbüro B5\, Berliner Straße 5\, Berlin-Pankow\, 13187
CATEGORIES:Bund,Mandatsträger*innen
ATTACH;FMTTYPE=image/png:https://gruene-pankow.de/wp-content/uploads/2022/12/Bildschirmfoto-2021-07-07-um-19.20.07-edited.png
ORGANIZER;CN="Stefan Gelbhaar (MdB)":MAILTO:stefan.gelbhaar@bundestag.de
END:VEVENT
END:VCALENDAR