BEGIN:VCALENDAR
VERSION:2.0
PRODID:-//BÜNDNIS 90/DIE GRÜNEN - ECPv6.15.20//NONSGML v1.0//EN
CALSCALE:GREGORIAN
METHOD:PUBLISH
X-ORIGINAL-URL:https://gruene-pankow.de
X-WR-CALDESC:Veranstaltungen für BÜNDNIS 90/DIE GRÜNEN
REFRESH-INTERVAL;VALUE=DURATION:PT1H
X-Robots-Tag:noindex
X-PUBLISHED-TTL:PT1H
BEGIN:VTIMEZONE
TZID:Europe/Berlin
BEGIN:DAYLIGHT
TZOFFSETFROM:+0100
TZOFFSETTO:+0200
TZNAME:CEST
DTSTART:20230326T010000
END:DAYLIGHT
BEGIN:STANDARD
TZOFFSETFROM:+0200
TZOFFSETTO:+0100
TZNAME:CET
DTSTART:20231029T010000
END:STANDARD
BEGIN:DAYLIGHT
TZOFFSETFROM:+0100
TZOFFSETTO:+0200
TZNAME:CEST
DTSTART:20240331T010000
END:DAYLIGHT
BEGIN:STANDARD
TZOFFSETFROM:+0200
TZOFFSETTO:+0100
TZNAME:CET
DTSTART:20241027T010000
END:STANDARD
BEGIN:DAYLIGHT
TZOFFSETFROM:+0100
TZOFFSETTO:+0200
TZNAME:CEST
DTSTART:20250330T010000
END:DAYLIGHT
BEGIN:STANDARD
TZOFFSETFROM:+0200
TZOFFSETTO:+0100
TZNAME:CET
DTSTART:20251026T010000
END:STANDARD
END:VTIMEZONE
BEGIN:VEVENT
DTSTART;TZID=Europe/Berlin:20240409T191500
DTEND;TZID=Europe/Berlin:20240409T200000
DTSTAMP:20260420T045557
CREATED:20240119T064929Z
LAST-MODIFIED:20240119T064929Z
UID:8326-1712690100-1712692800@gruene-pankow.de
SUMMARY:Support-Sprechstunde: Sichere und funktionierende IT!
DESCRIPTION:Eine sichere und funktionierende digitale Infrastruktur ist Voraussetzung für eine gelingende Zusammenarbeit in unserem Kreisverband. Wenn Ihr Probleme bei der Nutzung der Grünen Wolke oder anderer Angebote des Grünen Netzes habt\, seid Ihr hier an der richtigen Adresse – egal\, ob Ihr die ersten Schritte damit noch vor Euch habt oder die Infrastruktur schon täglich nutzt. Gemeinsam finden wir eine Lösung oder fragen Leute\, die es wissen müssen. \nWenn Ihr selbst nachschlagen wollt\, gibt es beim Verein Netzbegrünung e.V. eine Dokumentation zum Grünen Netz und Verweise auf weiteren Support.
URL:https://gruene-pankow.de/termin/support-sprechstunde-sichere-und-funktionierende-it-4/
LOCATION:Kulturmarkthalle\, Hanns-Eisler-Straße 93\, Berlin-Prenzlauer Berg\, 10409
CATEGORIES:Kreisverband
ATTACH;FMTTYPE=image/png:https://gruene-pankow.de/wp-content/uploads/2023/11/IT-Sprechstunde.png
END:VEVENT
BEGIN:VEVENT
DTSTART;TZID=Europe/Berlin:20240416T170000
DTEND;TZID=Europe/Berlin:20240416T180000
DTSTAMP:20260420T045557
CREATED:20240322T121836Z
LAST-MODIFIED:20240322T121836Z
UID:9104-1713286800-1713290400@gruene-pankow.de
SUMMARY:Sprechstunde Stefan Gelbhaar\, MdB
DESCRIPTION:Anmeldung: stefan.gelbhaar.wk@bundestag.de.
URL:https://gruene-pankow.de/termin/sprechstunde-stefan-gelbhaar-mdb-5/
LOCATION:Kiezbüro B5\, Berliner Straße 5\, Berlin-Pankow\, 13187
CATEGORIES:Bund,Mandatsträger*innen
ATTACH;FMTTYPE=image/png:https://gruene-pankow.de/wp-content/uploads/2022/12/Bildschirmfoto-2021-07-07-um-19.20.07-edited.png
ORGANIZER;CN="Stefan Gelbhaar (MdB)":MAILTO:stefan.gelbhaar@bundestag.de
END:VEVENT
BEGIN:VEVENT
DTSTART;TZID=Europe/Berlin:20240424T170000
DTEND;TZID=Europe/Berlin:20240424T183000
DTSTAMP:20260420T045557
CREATED:20240312T141105Z
LAST-MODIFIED:20240318T130255Z
UID:9041-1713978000-1713983400@gruene-pankow.de
SUMMARY:Sprechstunde von Daniela Billig
DESCRIPTION:Sprechstunde von Daniela Billig\, unserer direkt gewählten Abgeordneten für Prenzlauer Berg Süd. \nDaniela freut sich auf alle Themen\, die Euch bewegen! Meldet Euch im Büro bei Frank Schubert unter buero5.billig@gruene-fraktion.berlin und ihr bekommt ein eigenes Zeitfenster\, in dem ihr Euch mit Daniela unterhalten könnt. \nDie Teilnahme ist im Kiezbüro in der Prenzlauer Allee 22\, per Viko oder per Telefon möglich.
URL:https://gruene-pankow.de/termin/sprechstunde-von-daniela-billig-2/
LOCATION:Kiezbüro PA22\, Prenzlauer Allee 22\, Berlin-Prenzlauer Berg\, 10405
CATEGORIES:Berlin,Mandatsträger*innen
ATTACH;FMTTYPE=image/jpeg:https://gruene-pankow.de/wp-content/uploads/2024/01/BuergerInnen-Sprechstunde-Daniela-Billig-Banner.jpg
ORGANIZER;CN="Daniela Billig (MdA)":MAILTO:buero5.billig@gruene-fraktion.berlin
END:VEVENT
BEGIN:VEVENT
DTSTART;TZID=Europe/Berlin:20240428T140000
DTEND;TZID=Europe/Berlin:20240428T150000
DTSTAMP:20260420T045557
CREATED:20240322T122409Z
LAST-MODIFIED:20240322T122409Z
UID:9109-1714312800-1714316400@gruene-pankow.de
SUMMARY:Sprechstunde Stefan Gelbhaar\, MdB\, auf dem Umweltfestival
DESCRIPTION:Sprechstunde auf dem Umweltfestival am Brandenburger Tor\, am Infostand Bündnis 90/Die Grünen. \nAnmeldung: stefan.gelbhaar.wk@bundestag.de.
URL:https://gruene-pankow.de/termin/sprechstunde-stefan-gelbhaar-mdb-auf-dem-umweltfestival/
LOCATION:Brandenburger Tor\, Berlin
CATEGORIES:Bund,Mandatsträger*innen
ATTACH;FMTTYPE=image/png:https://gruene-pankow.de/wp-content/uploads/2022/12/Bildschirmfoto-2021-07-07-um-19.20.07-edited.png
ORGANIZER;CN="Stefan Gelbhaar (MdB)":MAILTO:stefan.gelbhaar@bundestag.de
END:VEVENT
BEGIN:VEVENT
DTSTART;TZID=Europe/Berlin:20240429T170000
DTEND;TZID=Europe/Berlin:20240429T183000
DTSTAMP:20260420T045557
CREATED:20240209T123520Z
LAST-MODIFIED:20240418T132756Z
UID:8730-1714410000-1714415400@gruene-pankow.de
SUMMARY:Sprechstunde Andreas Otto
DESCRIPTION:Anmeldung sowie Fragen und Anregungen über Telefon: 030 23252445 und E-Mail: andreas.otto@gruene-fraktion.berlin. Weitere Informationen auf www.otto-direkt.de.
URL:https://gruene-pankow.de/termin/sprechstunde-andreas-otto-2/
CATEGORIES:Berlin,Mandatsträger*innen
ATTACH;FMTTYPE=image/png:https://gruene-pankow.de/wp-content/uploads/2025/12/Profil-Foto-Andreas.png
END:VEVENT
END:VCALENDAR