BEGIN:VCALENDAR
VERSION:2.0
PRODID:-//BÜNDNIS 90/DIE GRÜNEN - ECPv6.15.20//NONSGML v1.0//EN
CALSCALE:GREGORIAN
METHOD:PUBLISH
X-ORIGINAL-URL:https://gruene-pankow.de
X-WR-CALDESC:Veranstaltungen für BÜNDNIS 90/DIE GRÜNEN
REFRESH-INTERVAL;VALUE=DURATION:PT1H
X-Robots-Tag:noindex
X-PUBLISHED-TTL:PT1H
BEGIN:VTIMEZONE
TZID:Europe/Berlin
BEGIN:DAYLIGHT
TZOFFSETFROM:+0100
TZOFFSETTO:+0200
TZNAME:CEST
DTSTART:20230326T010000
END:DAYLIGHT
BEGIN:STANDARD
TZOFFSETFROM:+0200
TZOFFSETTO:+0100
TZNAME:CET
DTSTART:20231029T010000
END:STANDARD
BEGIN:DAYLIGHT
TZOFFSETFROM:+0100
TZOFFSETTO:+0200
TZNAME:CEST
DTSTART:20240331T010000
END:DAYLIGHT
BEGIN:STANDARD
TZOFFSETFROM:+0200
TZOFFSETTO:+0100
TZNAME:CET
DTSTART:20241027T010000
END:STANDARD
BEGIN:DAYLIGHT
TZOFFSETFROM:+0100
TZOFFSETTO:+0200
TZNAME:CEST
DTSTART:20250330T010000
END:DAYLIGHT
BEGIN:STANDARD
TZOFFSETFROM:+0200
TZOFFSETTO:+0100
TZNAME:CET
DTSTART:20251026T010000
END:STANDARD
END:VTIMEZONE
BEGIN:VEVENT
DTSTART;TZID=Europe/Berlin:20240219T173000
DTEND;TZID=Europe/Berlin:20240219T190000
DTSTAMP:20260420T083259
CREATED:20240129T101218Z
LAST-MODIFIED:20240209T124842Z
UID:8559-1708363800-1708369200@gruene-pankow.de
SUMMARY:Sprechstunde Daniela Billig
DESCRIPTION:Sprechstunde von Daniela Billig\, unserer direkt gewählten Abgeordneten für Prenzlauer Berg Süd. \nDaniela freut sich auf alle Themen\, die euch bewegen! Meldet euch bei Frank Schubert unter buero5.billig@gruene-fraktion.berlin und ihr bekommt ein eigenes Zeitfenster\, in dem ihr euch mit Daniela unterhalten könnt. \nDie Teilnahme ist vor Ort im Kiezbüro\, per Viko oder per Telefon möglich.
URL:https://gruene-pankow.de/termin/buergerinnensprechstunde-mit-daniela-billig/
LOCATION:Kiezbüro PA22\, Prenzlauer Allee 22\, Berlin-Prenzlauer Berg\, 10405
CATEGORIES:Berlin,Mandatsträger*innen
ATTACH;FMTTYPE=image/jpeg:https://gruene-pankow.de/wp-content/uploads/2024/01/BuergerInnen-Sprechstunde-Daniela-Billig-Banner.jpg
END:VEVENT
BEGIN:VEVENT
DTSTART;TZID=Europe/Berlin:20240220T191500
DTEND;TZID=Europe/Berlin:20240220T200000
DTSTAMP:20260420T083259
CREATED:20240119T064837Z
LAST-MODIFIED:20240119T064837Z
UID:8322-1708456500-1708459200@gruene-pankow.de
SUMMARY:Support-Sprechstunde: Sichere und funktionierende IT!
DESCRIPTION:Eine sichere und funktionierende digitale Infrastruktur ist Voraussetzung für eine gelingende Zusammenarbeit in unserem Kreisverband. Wenn Ihr Probleme bei der Nutzung der Grünen Wolke oder anderer Angebote des Grünen Netzes habt\, seid Ihr hier an der richtigen Adresse – egal\, ob Ihr die ersten Schritte damit noch vor Euch habt oder die Infrastruktur schon täglich nutzt. Gemeinsam finden wir eine Lösung oder fragen Leute\, die es wissen müssen. \nWenn Ihr selbst nachschlagen wollt\, gibt es beim Verein Netzbegrünung e.V. eine Dokumentation zum Grünen Netz und Verweise auf weiteren Support.
URL:https://gruene-pankow.de/termin/support-sprechstunde-sichere-und-funktionierende-it-2/
LOCATION:Kulturmarkthalle\, Hanns-Eisler-Straße 93\, Berlin-Prenzlauer Berg\, 10409
CATEGORIES:Kreisverband
ATTACH;FMTTYPE=image/png:https://gruene-pankow.de/wp-content/uploads/2023/11/IT-Sprechstunde.png
END:VEVENT
BEGIN:VEVENT
DTSTART;TZID=Europe/Berlin:20240223T170000
DTEND;TZID=Europe/Berlin:20240223T190000
DTSTAMP:20260420T083259
CREATED:20240209T122808Z
LAST-MODIFIED:20240209T123604Z
UID:8723-1708707600-1708714800@gruene-pankow.de
SUMMARY:Sprechstunde Cornelius Bechtler\, Bezirksstadtrat für Stadtentwicklung und Bürgerdienste
DESCRIPTION:Unser Bezirksstadtrat für Stadtentwicklung und Bürgerdienste bietet seine nächste Sprechstunde an. Hier können alle ihre Anliegen rings um Planungen für neue und alte Kieze einbringen. \nZur Vorbereitung des Gesprächs eine Anmeldung inklusive einer kurzen Schilderung des Anliegens bis zum 15.02.2024 erforderlich: nicole.holtz@ba-pankow.berlin.de.
URL:https://gruene-pankow.de/termin/sprechstunde-cornelius-bechtler-bezirksstadtrat-fuer-stadtentwicklung-und-buergerdienste/
LOCATION:Büro Bezirksstadtrat Stadtentwicklung und Bürgerdienste\, Storkower Straße 97\, Berlin-Prenzlauer Berg\, 10407
CATEGORIES:Bezirk,Mandatsträger*innen
END:VEVENT
BEGIN:VEVENT
DTSTART;TZID=Europe/Berlin:20240228T140000
DTEND;TZID=Europe/Berlin:20240228T160000
DTSTAMP:20260420T083259
CREATED:20240223T140235Z
LAST-MODIFIED:20240223T140235Z
UID:8903-1709128800-1709136000@gruene-pankow.de
SUMMARY:Sprechstunde Büro Julia Schneider (MdA)
DESCRIPTION:Sie haben Sorgen\, Wünsche\, Fragen oder Anregungen? Das Büro von Julia Schneider steht für alle Bürger*innen und Interessierte offen und kümmert sich gerne um Ihre Belange. Anmeldung erbeten unter buero.schneider@gruene-fraktion.berlin. Weitere Informationen und aktuelle Hinweise finden Sie regelmäßig im Newsletter oder stets aktuell auf der Website von Julia Schneider. \nAm 28.2. können Sie Ihren Besuch in der Sprechstunde mit einer Tour durch das C*Space Co-Working-Space verbinden\, welches an diesem Tag zum Open House einlädt.
URL:https://gruene-pankow.de/termin/sprechstunde-buero-julia-schneider-mda/
LOCATION:C*Space\, Langhansstraße 86\, Berlin-Weißensee\, 13086
CATEGORIES:Mandatsträger*innen
ATTACH;FMTTYPE=image/png:https://gruene-pankow.de/wp-content/uploads/2026/02/Profil-Foto-Julia.png
END:VEVENT
END:VCALENDAR