BEGIN:VCALENDAR
VERSION:2.0
PRODID:-//BÜNDNIS 90/DIE GRÜNEN - ECPv6.15.20//NONSGML v1.0//EN
CALSCALE:GREGORIAN
METHOD:PUBLISH
X-WR-CALNAME:BÜNDNIS 90/DIE GRÜNEN
X-ORIGINAL-URL:https://gruene-pankow.de
X-WR-CALDESC:Veranstaltungen für BÜNDNIS 90/DIE GRÜNEN
REFRESH-INTERVAL;VALUE=DURATION:PT1H
X-Robots-Tag:noindex
X-PUBLISHED-TTL:PT1H
BEGIN:VTIMEZONE
TZID:Europe/Berlin
BEGIN:DAYLIGHT
TZOFFSETFROM:+0100
TZOFFSETTO:+0200
TZNAME:CEST
DTSTART:20220327T010000
END:DAYLIGHT
BEGIN:STANDARD
TZOFFSETFROM:+0200
TZOFFSETTO:+0100
TZNAME:CET
DTSTART:20221030T010000
END:STANDARD
BEGIN:DAYLIGHT
TZOFFSETFROM:+0100
TZOFFSETTO:+0200
TZNAME:CEST
DTSTART:20230326T010000
END:DAYLIGHT
BEGIN:STANDARD
TZOFFSETFROM:+0200
TZOFFSETTO:+0100
TZNAME:CET
DTSTART:20231029T010000
END:STANDARD
BEGIN:DAYLIGHT
TZOFFSETFROM:+0100
TZOFFSETTO:+0200
TZNAME:CEST
DTSTART:20240331T010000
END:DAYLIGHT
BEGIN:STANDARD
TZOFFSETFROM:+0200
TZOFFSETTO:+0100
TZNAME:CET
DTSTART:20241027T010000
END:STANDARD
END:VTIMEZONE
BEGIN:VEVENT
DTSTART;TZID=Europe/Berlin:20231205T170000
DTEND;TZID=Europe/Berlin:20231205T180000
DTSTAMP:20260420T113756
CREATED:20231127T153940Z
LAST-MODIFIED:20231127T153940Z
UID:7707-1701795600-1701799200@gruene-pankow.de
SUMMARY:Sprechstunde Stefan Gelbhaar\, MdB
DESCRIPTION:Anmeldung: stefan.gelbhaar.wk@bundestag.de.
URL:https://gruene-pankow.de/termin/sprechstunde-stefan-gelbhaar-mdb-2/
LOCATION:Kiezbüro B5\, Berliner Straße 5\, Berlin-Pankow\, 13187
CATEGORIES:Bund,Mandatsträger*innen
ATTACH;FMTTYPE=image/png:https://gruene-pankow.de/wp-content/uploads/2022/12/Bildschirmfoto-2021-07-07-um-19.20.07-edited.png
END:VEVENT
BEGIN:VEVENT
DTSTART;TZID=Europe/Berlin:20231212T191500
DTEND;TZID=Europe/Berlin:20231212T200000
DTSTAMP:20260420T113756
CREATED:20231115T140106Z
LAST-MODIFIED:20231115T143510Z
UID:7575-1702408500-1702411200@gruene-pankow.de
SUMMARY:Grüne Support-Sprechstunde
DESCRIPTION:Eine sichere und funktionierende digitale Infrastruktur ist Voraussetzung für eine gelingende Zusammenarbeit in unserem Kreisverband. Wenn Ihr Probleme bei der Nutzung der Grünen Wolke oder anderer Angebote des Grünen Netzes habt\, seid Ihr hier an der richtigen Adressen – egal\, ob Ihr die ersten Schritte damit noch vor Euch habt oder die Infrastruktur schon täglich nutzt. Gemeinsam finden wir eine Lösung oder fragen Leute\, die es wissen müssen.
URL:https://gruene-pankow.de/termin/gruene-support-sprechstunde/
LOCATION:Kulturmarkthalle\, Hanns-Eisler-Straße 93\, Berlin-Prenzlauer Berg\, 10409
CATEGORIES:Kreisverband
END:VEVENT
END:VCALENDAR