BEGIN:VCALENDAR
VERSION:2.0
PRODID:-//BÜNDNIS 90/DIE GRÜNEN - ECPv6.15.20//NONSGML v1.0//EN
CALSCALE:GREGORIAN
METHOD:PUBLISH
X-WR-CALNAME:BÜNDNIS 90/DIE GRÜNEN
X-ORIGINAL-URL:https://gruene-pankow.de
X-WR-CALDESC:Veranstaltungen für BÜNDNIS 90/DIE GRÜNEN
REFRESH-INTERVAL;VALUE=DURATION:PT1H
X-Robots-Tag:noindex
X-PUBLISHED-TTL:PT1H
BEGIN:VTIMEZONE
TZID:Europe/Berlin
BEGIN:DAYLIGHT
TZOFFSETFROM:+0100
TZOFFSETTO:+0200
TZNAME:CEST
DTSTART:20220327T010000
END:DAYLIGHT
BEGIN:STANDARD
TZOFFSETFROM:+0200
TZOFFSETTO:+0100
TZNAME:CET
DTSTART:20221030T010000
END:STANDARD
BEGIN:DAYLIGHT
TZOFFSETFROM:+0100
TZOFFSETTO:+0200
TZNAME:CEST
DTSTART:20230326T010000
END:DAYLIGHT
BEGIN:STANDARD
TZOFFSETFROM:+0200
TZOFFSETTO:+0100
TZNAME:CET
DTSTART:20231029T010000
END:STANDARD
BEGIN:DAYLIGHT
TZOFFSETFROM:+0100
TZOFFSETTO:+0200
TZNAME:CEST
DTSTART:20240331T010000
END:DAYLIGHT
BEGIN:STANDARD
TZOFFSETFROM:+0200
TZOFFSETTO:+0100
TZNAME:CET
DTSTART:20241027T010000
END:STANDARD
END:VTIMEZONE
BEGIN:VEVENT
DTSTART;TZID=Europe/Berlin:20230607T100000
DTEND;TZID=Europe/Berlin:20230607T110000
DTSTAMP:20260420T211749
CREATED:20230524T104609Z
LAST-MODIFIED:20230524T104609Z
UID:6361-1686132000-1686135600@gruene-pankow.de
SUMMARY:Bürger*innen-Sprechstunde: Julia Schneider (MdA)
DESCRIPTION:Anmeldung unter buero.schneider@gruene-fraktion.berlin. Weitere Informationen und aktuelle Hinweise regelmäßig im Newsletter.
URL:https://gruene-pankow.de/termin/buergerinnen-sprechstunde-julia-schneider-mda-22/
CATEGORIES:Mandatsträger*innen
END:VEVENT
BEGIN:VEVENT
DTSTART;TZID=Europe/Berlin:20230614T100000
DTEND;TZID=Europe/Berlin:20230614T110000
DTSTAMP:20260420T211749
CREATED:20230524T104625Z
LAST-MODIFIED:20230524T104625Z
UID:6363-1686736800-1686740400@gruene-pankow.de
SUMMARY:Bürger*innen-Sprechstunde: Julia Schneider (MdA)
DESCRIPTION:Anmeldung unter buero.schneider@gruene-fraktion.berlin. Weitere Informationen und aktuelle Hinweise regelmäßig im Newsletter.
URL:https://gruene-pankow.de/termin/buergerinnen-sprechstunde-julia-schneider-mda-23/
CATEGORIES:Mandatsträger*innen
END:VEVENT
BEGIN:VEVENT
DTSTART;TZID=Europe/Berlin:20230621T100000
DTEND;TZID=Europe/Berlin:20230621T110000
DTSTAMP:20260420T211749
CREATED:20230524T104639Z
LAST-MODIFIED:20230524T104714Z
UID:6365-1687341600-1687345200@gruene-pankow.de
SUMMARY:Bürger*innen-Sprechstunde: Julia Schneider (MdA)
DESCRIPTION:Anmeldung unter buero.schneider@gruene-fraktion.berlin. Weitere Informationen und aktuelle Hinweise regelmäßig im Newsletter.
URL:https://gruene-pankow.de/termin/buergerinnen-sprechstunde-julia-schneider-mda-24/
LOCATION:C*Space\, Langhansstraße 86\, Berlin-Weißensee\, 13086
CATEGORIES:Mandatsträger*innen
END:VEVENT
BEGIN:VEVENT
DTSTART;TZID=Europe/Berlin:20230623T150000
DTEND;TZID=Europe/Berlin:20230623T170000
DTSTAMP:20260420T211749
CREATED:20230601T162458Z
LAST-MODIFIED:20230623T115005Z
UID:6486-1687532400-1687539600@gruene-pankow.de
SUMMARY:Bürger*innen-Sprechstunde von Bezirksstadtrat Cornelius Bechtler
DESCRIPTION:Cornelius Bechtler\, Bezirksstadtrat für Stadtentwicklung und Bürgerdienste\, bietet am Freitag\, den 23. Juni 2023 von 15.00-17.00 Uhr eine Bürgersprechstunde an. Sie findet statt in seinem Büro in der Fröbelstraße 17 (Haus 6)\, 10405 Berlin (Raum 224). \nZur Vorbereitung des Gesprächs ist bis zum 17. Juni 2023 eine vorherige Anmeldung inklusive einer kurzen Schilderung des Anliegens erforderlich. Interessent*innen senden ihre Anmeldung bitte an Nicole Holtz\, Referentin des Bezirksstadtrats\, unter der folgende E-Mail-Adresse: nicole.holtz@ba-pankow.berlin.de.
URL:https://gruene-pankow.de/termin/buergerinnen-sprechstunde-von-bezirksstadtrat-cornelius-bechtler/
LOCATION:Bezirksamts­gelände Prenzlauer Berg\, Haus 6\, Raum 224\, Fröbelstraße 17\, 10405
CATEGORIES:Bezirk,Mandatsträger*innen
END:VEVENT
BEGIN:VEVENT
DTSTART;TZID=Europe/Berlin:20230626T143000
DTEND;TZID=Europe/Berlin:20230626T153000
DTSTAMP:20260420T211749
CREATED:20230524T180717Z
LAST-MODIFIED:20230524T180757Z
UID:6405-1687789800-1687793400@gruene-pankow.de
SUMMARY:Bürger*innen-Sprechstunde: Stefan Gelbhaar (MdB)
DESCRIPTION:Anmeldung unter: stefan.gelbhaar.wk@bundestag.de.
URL:https://gruene-pankow.de/termin/buergerinnen-sprechstunde-stefan-gelbhaar-mdb-5/
LOCATION:Kiezbüro PA22\, Prenzlauer Allee 22\, Berlin-Prenzlauer Berg\, 10405
CATEGORIES:Mandatsträger*innen
ORGANIZER;CN="Stefan Gelbhaar (MdB)":MAILTO:stefan.gelbhaar@bundestag.de
END:VEVENT
BEGIN:VEVENT
DTSTART;TZID=Europe/Berlin:20230626T170000
DTEND;TZID=Europe/Berlin:20230626T183000
DTSTAMP:20260420T211749
CREATED:20230505T072544Z
LAST-MODIFIED:20230505T072544Z
UID:6273-1687798800-1687804200@gruene-pankow.de
SUMMARY:Bürger*innen-Sprechstunde: Andreas Otto (MdA)
DESCRIPTION:
URL:https://gruene-pankow.de/termin/buergerinnen-sprechstunde-andreas-otto-mda-4/
LOCATION:Helmholtzplatz\, Helmholtzplatz\, Berlin-Prenzlauer Berg\, 10437
CATEGORIES:Mandatsträger*innen
END:VEVENT
BEGIN:VEVENT
DTSTART;TZID=Europe/Berlin:20230628T100000
DTEND;TZID=Europe/Berlin:20230628T110000
DTSTAMP:20260420T211749
CREATED:20230524T104739Z
LAST-MODIFIED:20230524T104739Z
UID:6367-1687946400-1687950000@gruene-pankow.de
SUMMARY:Bürger*innen-Sprechstunde: Julia Schneider (MdA)
DESCRIPTION:Anmeldung unter buero.schneider@gruene-fraktion.berlin. Weitere Informationen und aktuelle Hinweise regelmäßig im Newsletter.
URL:https://gruene-pankow.de/termin/buergerinnen-sprechstunde-julia-schneider-mda-25/
LOCATION:C*Space\, Langhansstraße 86\, Berlin-Weißensee\, 13086
CATEGORIES:Mandatsträger*innen
END:VEVENT
END:VCALENDAR