BEGIN:VCALENDAR
VERSION:2.0
PRODID:-//BÜNDNIS 90/DIE GRÜNEN - ECPv6.15.20//NONSGML v1.0//EN
CALSCALE:GREGORIAN
METHOD:PUBLISH
X-ORIGINAL-URL:https://gruene-pankow.de
X-WR-CALDESC:Veranstaltungen für BÜNDNIS 90/DIE GRÜNEN
REFRESH-INTERVAL;VALUE=DURATION:PT1H
X-Robots-Tag:noindex
X-PUBLISHED-TTL:PT1H
BEGIN:VTIMEZONE
TZID:Europe/Berlin
BEGIN:DAYLIGHT
TZOFFSETFROM:+0100
TZOFFSETTO:+0200
TZNAME:CEST
DTSTART:20210328T010000
END:DAYLIGHT
BEGIN:STANDARD
TZOFFSETFROM:+0200
TZOFFSETTO:+0100
TZNAME:CET
DTSTART:20211031T010000
END:STANDARD
BEGIN:DAYLIGHT
TZOFFSETFROM:+0100
TZOFFSETTO:+0200
TZNAME:CEST
DTSTART:20220327T010000
END:DAYLIGHT
BEGIN:STANDARD
TZOFFSETFROM:+0200
TZOFFSETTO:+0100
TZNAME:CET
DTSTART:20221030T010000
END:STANDARD
BEGIN:DAYLIGHT
TZOFFSETFROM:+0100
TZOFFSETTO:+0200
TZNAME:CEST
DTSTART:20230326T010000
END:DAYLIGHT
BEGIN:STANDARD
TZOFFSETFROM:+0200
TZOFFSETTO:+0100
TZNAME:CET
DTSTART:20231029T010000
END:STANDARD
END:VTIMEZONE
BEGIN:VEVENT
DTSTART;TZID=Europe/Berlin:20221128T170000
DTEND;TZID=Europe/Berlin:20221128T183000
DTSTAMP:20260421T090628
CREATED:20221120T093324Z
LAST-MODIFIED:20221123T120553Z
UID:4310-1669654800-1669660200@gruene-pankow.de
SUMMARY:Bürger*innen-Sprechstunde: Andreas Otto (MdA)
DESCRIPTION:Anmeldung sowie Fragen und Anregungen über Telefon: 030 2325 2445 und E-Mail: andreas.otto@gruene-fraktion.berlin. Weitere Informationen auf www.otto-direkt.de.
URL:https://gruene-pankow.de/termin/buergerinnen-sprechstunde-andreas-otto-mda/
LOCATION:Kiezbüro PA22\, Prenzlauer Allee 22\, Berlin-Prenzlauer Berg\, 10405
CATEGORIES:Mandatsträger*innen
END:VEVENT
BEGIN:VEVENT
DTSTART;TZID=Europe/Berlin:20221130T180000
DTEND;TZID=Europe/Berlin:20221130T193000
DTSTAMP:20260421T090628
CREATED:20221120T104905Z
LAST-MODIFIED:20221123T131201Z
UID:4337-1669831200-1669836600@gruene-pankow.de
SUMMARY:Bürger*innen-Sprechstunde: Daniela Billig (MdA)
DESCRIPTION:Anmeldung unter buero5.billig@gruene-fraktion.berlin. Weitere Informationen unter danielabillig.de.
URL:https://gruene-pankow.de/termin/buergerinnen-sprechstunde-daniela-billig-mda/
LOCATION:Kiezbüro PA22\, Prenzlauer Allee 22\, Berlin-Prenzlauer Berg\, 10405
CATEGORIES:Mandatsträger*innen
ORGANIZER;CN="Daniela Billig (MdA)":MAILTO:buero5.billig@gruene-fraktion.berlin
END:VEVENT
END:VCALENDAR