BEGIN:VCALENDAR
VERSION:2.0
PRODID:-//BÜNDNIS 90/DIE GRÜNEN - ECPv6.15.20//NONSGML v1.0//EN
CALSCALE:GREGORIAN
METHOD:PUBLISH
X-ORIGINAL-URL:https://gruene-pankow.de
X-WR-CALDESC:Veranstaltungen für BÜNDNIS 90/DIE GRÜNEN
REFRESH-INTERVAL;VALUE=DURATION:PT1H
X-Robots-Tag:noindex
X-PUBLISHED-TTL:PT1H
BEGIN:VTIMEZONE
TZID:Europe/Berlin
BEGIN:DAYLIGHT
TZOFFSETFROM:+0100
TZOFFSETTO:+0200
TZNAME:CEST
DTSTART:20250330T010000
END:DAYLIGHT
BEGIN:STANDARD
TZOFFSETFROM:+0200
TZOFFSETTO:+0100
TZNAME:CET
DTSTART:20251026T010000
END:STANDARD
BEGIN:DAYLIGHT
TZOFFSETFROM:+0100
TZOFFSETTO:+0200
TZNAME:CEST
DTSTART:20260329T010000
END:DAYLIGHT
BEGIN:STANDARD
TZOFFSETFROM:+0200
TZOFFSETTO:+0100
TZNAME:CET
DTSTART:20261025T010000
END:STANDARD
BEGIN:DAYLIGHT
TZOFFSETFROM:+0100
TZOFFSETTO:+0200
TZNAME:CEST
DTSTART:20270328T010000
END:DAYLIGHT
BEGIN:STANDARD
TZOFFSETFROM:+0200
TZOFFSETTO:+0100
TZNAME:CET
DTSTART:20271031T010000
END:STANDARD
END:VTIMEZONE
BEGIN:VEVENT
DTSTART;TZID=Europe/Berlin:20260701T150000
DTEND;TZID=Europe/Berlin:20260701T170000
DTSTAMP:20260420T141701
CREATED:20260303T201548Z
LAST-MODIFIED:20260313T142301Z
UID:17015-1782918000-1782925200@gruene-pankow.de
SUMMARY:Pankows Oldies: Thema „Katastrophenprävention für Ältere“
DESCRIPTION:Im Rahmen der Seniorenwoche diskutieren wir das Thema „Katastrophenprävention für Ältere“. \nInteressierte\, auch Jüngere\, sind herzlich eingeladen! Pankow soll altersfreundlich werden – das ist gut für alle.
URL:https://gruene-pankow.de/termin/pankows-oldies-thema-katastrophenpraevention-fuer-aeltere/
LOCATION:Kiezbüro B5 (großer Raum)\, Berliner Straße 5\, Berlin-Pankow\, 13187
CATEGORIES:Arbeitsgemeinschaften
ATTACH;FMTTYPE=image/png:https://gruene-pankow.de/wp-content/uploads/2023/11/Pankows-Oldies.png
END:VEVENT
BEGIN:VEVENT
DTSTART;TZID=Europe/Berlin:20260703T100000
DTEND;TZID=Europe/Berlin:20260703T120000
DTSTAMP:20260420T141701
CREATED:20260310T185341Z
LAST-MODIFIED:20260313T162129Z
UID:17087-1783072800-1783080000@gruene-pankow.de
SUMMARY:LAG „Graue Igel Berlin“ - Platz für uns auf dem Gehweg – freie Fahrt fürs Radeln – wie passt das zusammen?
DESCRIPTION:Oft ärgern wir uns über Fahrräder auf Gehwegen. Wer aber mit dem Rad unterwegs ist\, merkt schnell: Fehlende oder schlecht gekennzeichnete Radwege führen zu Unsicherheit und verführen zu Verstößen gegen die Regeln. \nWie können wir besser miteinander auskommen? Die Landesarbeitsgemeinschaft (LAG) „Graue Igel Berlin“ lädt zu einem kurzen Spaziergang mit anschließender Diskussion ein. \nAls Gäste begrüßen wir Roland Stimpel aus dem Vorstand von FUSS e.V.\, Oda Hassepaß aus dem Abgeordnetenhaus und Dr. Almut Neumann\, ehemalige Stadträtin für den öffentlichen Raum von Berlin-Mitte. \nDie Veranstaltung findet im Rahmen der Berliner Seniorenwoche statt und wir hoffen auf rege Beteiligung von Grünen und (noch) nicht-Grünen Interessierten!
URL:https://gruene-pankow.de/termin/lag-graue-igel-berlin-platz-fuer-uns-auf-dem-gehweg-freie-fahrt-fuers-radeln-wie-passt-das-zusammen/
LOCATION:Kiezbüro B5 (großer Raum)\, Berliner Straße 5\, Berlin-Pankow\, 13187
CATEGORIES:Arbeitsgemeinschaften
ATTACH;FMTTYPE=image/png:https://gruene-pankow.de/wp-content/uploads/2024/06/LAG-Graue-Igel.png
END:VEVENT
BEGIN:VEVENT
DTSTART;TZID=Europe/Berlin:20260720T190000
DTEND;TZID=Europe/Berlin:20260720T210000
DTSTAMP:20260420T141701
CREATED:20260303T192230Z
LAST-MODIFIED:20260303T192230Z
UID:16944-1784574000-1784581200@gruene-pankow.de
SUMMARY:AG Soziales und Gesundheit
DESCRIPTION:
URL:https://gruene-pankow.de/termin/ag-soziales-und-gesundheit-10/
LOCATION:Kiezbüro B5 (großer Raum)\, Berliner Straße 5\, Berlin-Pankow\, 13187
CATEGORIES:Arbeitsgemeinschaften
ATTACH;FMTTYPE=image/png:https://gruene-pankow.de/wp-content/uploads/2025/05/AG-Soziales-und-Gesundheit.png
END:VEVENT
END:VCALENDAR