BEGIN:VCALENDAR
VERSION:2.0
PRODID:-//BÜNDNIS 90/DIE GRÜNEN - ECPv6.15.20//NONSGML v1.0//EN
CALSCALE:GREGORIAN
METHOD:PUBLISH
X-WR-CALNAME:BÜNDNIS 90/DIE GRÜNEN
X-ORIGINAL-URL:https://gruene-pankow.de
X-WR-CALDESC:Veranstaltungen für BÜNDNIS 90/DIE GRÜNEN
REFRESH-INTERVAL;VALUE=DURATION:PT1H
X-Robots-Tag:noindex
X-PUBLISHED-TTL:PT1H
BEGIN:VTIMEZONE
TZID:Europe/Berlin
BEGIN:DAYLIGHT
TZOFFSETFROM:+0100
TZOFFSETTO:+0200
TZNAME:CEST
DTSTART:20230326T010000
END:DAYLIGHT
BEGIN:STANDARD
TZOFFSETFROM:+0200
TZOFFSETTO:+0100
TZNAME:CET
DTSTART:20231029T010000
END:STANDARD
BEGIN:DAYLIGHT
TZOFFSETFROM:+0100
TZOFFSETTO:+0200
TZNAME:CEST
DTSTART:20240331T010000
END:DAYLIGHT
BEGIN:STANDARD
TZOFFSETFROM:+0200
TZOFFSETTO:+0100
TZNAME:CET
DTSTART:20241027T010000
END:STANDARD
BEGIN:DAYLIGHT
TZOFFSETFROM:+0100
TZOFFSETTO:+0200
TZNAME:CEST
DTSTART:20250330T010000
END:DAYLIGHT
BEGIN:STANDARD
TZOFFSETFROM:+0200
TZOFFSETTO:+0100
TZNAME:CET
DTSTART:20251026T010000
END:STANDARD
END:VTIMEZONE
BEGIN:VEVENT
DTSTART;TZID=Europe/Berlin:20241218T170000
DTEND;TZID=Europe/Berlin:20241218T190000
DTSTAMP:20260419T215139
CREATED:20241126T213402Z
LAST-MODIFIED:20241216T150625Z
UID:11589-1734541200-1734548400@gruene-pankow.de
SUMMARY:Repairparty – mit Julia Schneider\, MdA
DESCRIPTION:Gutes länger nutzen\, Kaputtes reparieren und Müll vermeiden. Darum geht es bei der Reparatur-Bonus-Party mit freundlicher Unterstützung der Zero Waste Agentur und INKOTA e.V.. Euch erwartet ein Abend rund um Nachhaltigkeit und Abfallvermeidung: \n\nReparaturbonus leicht gemacht: Erhaltet Unterstützung beim Ausfüllen von Anträgen für den Berliner Reparaturbonus und erfahrt\, wie Ihr von nachhaltigen Reparaturen profitieren könnt. Es gilt das Prinzip: erst reparieren lassen und (wichtig) bargeldlos bezahlen\, danach Bonus beantragen.\n\nWas solltet Ihr mitbringen?\nReparaturrechnung: Originalrechnung in digitaler Form (Scannen vor Ort möglich)\nPersonalausweis: gültiger Lichtbildausweis zur Identifikation.\nBankverbindung: IBAN für die Überweisung des Bonus. \nDer Reparaturbonus gilt für Reparaturen\, die ab dem 17. September 2024 durchgeführt wurden. Weitere Infos: https://www.berlin.de/sen/uvk/umwelt/kreislaufwirtschaft/projekte/reparaturbonus/ \n\nHandysammelaktion: Bringt alte Mobiltelefone mit\, die wir fachgerecht recyceln lassen.\n\nWeitere Informationen findet Ihr auf der Website von INKOTA: https://www.inkota.de/mitmachen/sammelstellen-der-handyaktion \n\nZero-Waste-Input & Quiz: Die Zero Waste Agentur gibt praktische Tipps für ein Leben ohne Verschwendung und lädt Euch ein\, Euer Wissen bei einem kleinen Quiz zu testen und zu erweitern.\n\n\nWinter-Checkup fürs Fahrrad: Ein versierter Fahrradexperte hilft mit Rat\, Tat und Werkzeug Eure Drahtesel fit für den Einsatz bei Kälte und Nässe zu machen.\n\n\nNetzwerken und Austauschen: Lernt spannende Projekte und Initiativen kennen\, die in Berlin den Weg in eine nachhaltige Zukunft ebnen.\n\nDie Veranstaltung ist kostenfrei. Bringt gerne Freunde\, Familie und Nachbar*innen mit – gemeinsam gehen wir den Weg zu einer nachhaltigen und sauberen Stadt! Wir freuen uns auf Euch!
URL:https://gruene-pankow.de/termin/repairparty/
LOCATION:Kiezbüro Julia Schneider\, Pappelallee 84\, Berlin-Prenzlauer Berg\, 10437
CATEGORIES:Mandatsträger*innen
ATTACH;FMTTYPE=image/jpeg:https://gruene-pankow.de/wp-content/uploads/2024/09/dave-weatherall-K2qN68Pg6TI-unsplash.jpg
END:VEVENT
END:VCALENDAR