BEGIN:VCALENDAR
VERSION:2.0
PRODID:-//BÜNDNIS 90/DIE GRÜNEN - ECPv6.15.20//NONSGML v1.0//EN
CALSCALE:GREGORIAN
METHOD:PUBLISH
X-WR-CALNAME:BÜNDNIS 90/DIE GRÜNEN
X-ORIGINAL-URL:https://gruene-pankow.de
X-WR-CALDESC:Veranstaltungen für BÜNDNIS 90/DIE GRÜNEN
REFRESH-INTERVAL;VALUE=DURATION:PT1H
X-Robots-Tag:noindex
X-PUBLISHED-TTL:PT1H
BEGIN:VTIMEZONE
TZID:Europe/Berlin
BEGIN:DAYLIGHT
TZOFFSETFROM:+0100
TZOFFSETTO:+0200
TZNAME:CEST
DTSTART:20240331T010000
END:DAYLIGHT
BEGIN:STANDARD
TZOFFSETFROM:+0200
TZOFFSETTO:+0100
TZNAME:CET
DTSTART:20241027T010000
END:STANDARD
BEGIN:DAYLIGHT
TZOFFSETFROM:+0100
TZOFFSETTO:+0200
TZNAME:CEST
DTSTART:20250330T010000
END:DAYLIGHT
BEGIN:STANDARD
TZOFFSETFROM:+0200
TZOFFSETTO:+0100
TZNAME:CET
DTSTART:20251026T010000
END:STANDARD
BEGIN:DAYLIGHT
TZOFFSETFROM:+0100
TZOFFSETTO:+0200
TZNAME:CEST
DTSTART:20260329T010000
END:DAYLIGHT
BEGIN:STANDARD
TZOFFSETFROM:+0200
TZOFFSETTO:+0100
TZNAME:CET
DTSTART:20261025T010000
END:STANDARD
END:VTIMEZONE
BEGIN:VEVENT
DTSTART;TZID=Europe/Berlin:20250515T191500
DTEND;TZID=Europe/Berlin:20250515T211500
DTSTAMP:20260420T083555
CREATED:20250409T184241Z
LAST-MODIFIED:20250429T134323Z
UID:12918-1747336500-1747343700@gruene-pankow.de
SUMMARY:LAG Bündnisgrüne Christ*innen
DESCRIPTION:Treffen der Landesarbeitsgemeinschaft Bündnisgrüne Christ*innen zum AGH-Wahlprogramm-Prozess und dem bündnisgrünen Stadt-Kongress. \nDie Landesarbeitsgemeinschaft Bündnisgrüne Christ*innen ist ein Kreis von aktiven Bündnisgrünen\, die aus ihrem christlichen Glauben heraus politische Verantwortung herleiten. Viele der Mitglieder haben diesen Ansatz schon in der DDR-Zeit und später bei Bündnis 90 verfolgt. Sie wollen diesen weiter fortsetzen und sich in die parteiinternen Debatten des Landesverbandes einbringen. \nZu den Themenfeldern der LAG gehören sowohl die klassische Kirchenpolitik (beispielsweise die Frage nach dem Verhältnis von Kirche und Staat) als auch ethische Einzelfragen wie Sterbehilfe oder Gentechnik. Dabei versteht sie ihre Arbeit als Anstoß für die jeweilige Debatte\, die gemeinsam mit anderen Weltanschauungen und Religionen sowie den anderen LAGen bearbeitet werden.
URL:https://gruene-pankow.de/termin/lag-buendnisgruene-christinnen-22/
LOCATION:Kiezbüro B5\, Berliner Straße 5\, Berlin-Pankow\, 13187
CATEGORIES:Berlin
ATTACH;FMTTYPE=image/png:https://gruene-pankow.de/wp-content/uploads/2024/04/LAG-Buendnisgruene-Christinnen.png
END:VEVENT
END:VCALENDAR