BEGIN:VCALENDAR
VERSION:2.0
PRODID:-//BÜNDNIS 90/DIE GRÜNEN - ECPv6.15.20//NONSGML v1.0//EN
CALSCALE:GREGORIAN
METHOD:PUBLISH
X-WR-CALNAME:BÜNDNIS 90/DIE GRÜNEN
X-ORIGINAL-URL:https://gruene-pankow.de
X-WR-CALDESC:Veranstaltungen für BÜNDNIS 90/DIE GRÜNEN
REFRESH-INTERVAL;VALUE=DURATION:PT1H
X-Robots-Tag:noindex
X-PUBLISHED-TTL:PT1H
BEGIN:VTIMEZONE
TZID:Europe/Berlin
BEGIN:DAYLIGHT
TZOFFSETFROM:+0100
TZOFFSETTO:+0200
TZNAME:CEST
DTSTART:20220327T010000
END:DAYLIGHT
BEGIN:STANDARD
TZOFFSETFROM:+0200
TZOFFSETTO:+0100
TZNAME:CET
DTSTART:20221030T010000
END:STANDARD
BEGIN:DAYLIGHT
TZOFFSETFROM:+0100
TZOFFSETTO:+0200
TZNAME:CEST
DTSTART:20230326T010000
END:DAYLIGHT
BEGIN:STANDARD
TZOFFSETFROM:+0200
TZOFFSETTO:+0100
TZNAME:CET
DTSTART:20231029T010000
END:STANDARD
BEGIN:DAYLIGHT
TZOFFSETFROM:+0100
TZOFFSETTO:+0200
TZNAME:CEST
DTSTART:20240331T010000
END:DAYLIGHT
BEGIN:STANDARD
TZOFFSETFROM:+0200
TZOFFSETTO:+0100
TZNAME:CET
DTSTART:20241027T010000
END:STANDARD
END:VTIMEZONE
BEGIN:VEVENT
DTSTART;TZID=Europe/Berlin:20230917T140000
DTEND;TZID=Europe/Berlin:20230917T160000
DTSTAMP:20260423T150547
CREATED:20230630T134912Z
LAST-MODIFIED:20230913T071021Z
UID:6730-1694959200-1694966400@gruene-pankow.de
SUMMARY:Erholung und ökologische Bildung: Streifzug durch den Volkspark Blankenfelde
DESCRIPTION:Der Volkspark Blankenfelde ist ein kleiner Schatz der Naherholung im Nordwesten Pankows. Mehrere Initiativen widmen sich der ökologischen Bildungsarbeit. Man findet dort das Arboretum mit seltenen Pflanzen\, Apfelbäume (Pomologen-Verein e.V.)\, die Bauerngärten für Freizeit-Gärtner\, den Weltacker 2000\, in dem die Nutzung der Anbauflächen auf der Erde visualisiert wird\, eine Imkerei mit regelmäßigen Führungen\, die Outdoor-Bildungsstätte Baumschlau\, Schafherden\, einen großen Wald und einen versteckten See. Wie geht es dem Park und den Initiativen heute? Wie soll es weitergehen? \nTreffpunkt: Am Schau-Gewächshaus Volkspark Blankenfelde \nMit dabei sind: \n\nDr. Cordelia Koch\, Pankower Bürgermeisterin\, BÜNDNIS 90/DIE GRÜNEN\nAlmuth Tharan\, bündnisgrüne Fraktionsvorsitzende in der BVV Pankow\nAxel Lüssow\, bündnisgrüner Bezirksverordneter in der BVV Pankow\, spezialisiert auf Natur- und Landschaftsschutz\n\nOrganisator*innen: Susanne Jahn\, Werner Behrendt
URL:https://gruene-pankow.de/termin/erholung-und-oekologische-bildung-streifzug-durch-den-volkspark-blankenfelde/
LOCATION:Volkspark Blankenfelde\, Berlin\, 13159
CATEGORIES:Kreisverband
ATTACH;FMTTYPE=image/png:https://gruene-pankow.de/wp-content/uploads/2023/06/Streifzug-Cordelia-Volkspark-Blankenfelde.png
END:VEVENT
END:VCALENDAR