BEGIN:VCALENDAR
VERSION:2.0
PRODID:-//BÜNDNIS 90/DIE GRÜNEN - ECPv6.15.20//NONSGML v1.0//EN
CALSCALE:GREGORIAN
METHOD:PUBLISH
X-ORIGINAL-URL:https://gruene-pankow.de
X-WR-CALDESC:Veranstaltungen für BÜNDNIS 90/DIE GRÜNEN
REFRESH-INTERVAL;VALUE=DURATION:PT1H
X-Robots-Tag:noindex
X-PUBLISHED-TTL:PT1H
BEGIN:VTIMEZONE
TZID:Europe/Berlin
BEGIN:DAYLIGHT
TZOFFSETFROM:+0100
TZOFFSETTO:+0200
TZNAME:CEST
DTSTART:20240331T010000
END:DAYLIGHT
BEGIN:STANDARD
TZOFFSETFROM:+0200
TZOFFSETTO:+0100
TZNAME:CET
DTSTART:20241027T010000
END:STANDARD
BEGIN:DAYLIGHT
TZOFFSETFROM:+0100
TZOFFSETTO:+0200
TZNAME:CEST
DTSTART:20250330T010000
END:DAYLIGHT
BEGIN:STANDARD
TZOFFSETFROM:+0200
TZOFFSETTO:+0100
TZNAME:CET
DTSTART:20251026T010000
END:STANDARD
BEGIN:DAYLIGHT
TZOFFSETFROM:+0100
TZOFFSETTO:+0200
TZNAME:CEST
DTSTART:20260329T010000
END:DAYLIGHT
BEGIN:STANDARD
TZOFFSETFROM:+0200
TZOFFSETTO:+0100
TZNAME:CET
DTSTART:20261025T010000
END:STANDARD
END:VTIMEZONE
BEGIN:VEVENT
DTSTART;TZID=Europe/Berlin:20250320T200000
DTEND;TZID=Europe/Berlin:20250320T220000
DTSTAMP:20260419T183528
CREATED:20250225T181013Z
LAST-MODIFIED:20250225T181013Z
UID:12557-1742500800-1742508000@gruene-pankow.de
SUMMARY:AG Verkehr
DESCRIPTION:Die AG Verkehr setzt sich für eine nachhaltige\, sichere und sozial gerechte Mobilität in Pankow ein. Wir diskutieren aktuelle verkehrspolitische Entwicklungen in Pankow und Berlin und lernen bei Fachvorträgen dazu. Wir möchten uns an der Erarbeitung von Konzepten für eine bessere Mobilität per Rad\, Fuß und Öffentlichen Personennahverkehr beteiligen und setzen uns für klimagerechte Verkehrsprojekte ein. \nUnsere nächste Sitzung findet am 20. März um 20 Uhr statt. Das Thema geben wir noch bekannt – wenn du Ideen oder Anliegen hast\, melde dich gerne bei uns (verkehr@gruene-pankow.de)! Auch wenn du einfach nur mal reinschnuppern möchtest\, bist du herzlich willkommen. \nWir freuen uns auf dich!
URL:https://gruene-pankow.de/termin/ag-verkehr-19/
LOCATION:Kiezbüro B5\, Berliner Straße 5\, Berlin-Pankow\, 13187
CATEGORIES:Arbeitsgemeinschaften
ATTACH;FMTTYPE=image/png:https://gruene-pankow.de/wp-content/uploads/2023/12/AG-Verkehr.png
END:VEVENT
END:VCALENDAR