BEGIN:VCALENDAR
VERSION:2.0
PRODID:-//BÜNDNIS 90/DIE GRÜNEN - ECPv6.15.20//NONSGML v1.0//EN
CALSCALE:GREGORIAN
METHOD:PUBLISH
X-ORIGINAL-URL:https://gruene-pankow.de
X-WR-CALDESC:Veranstaltungen für BÜNDNIS 90/DIE GRÜNEN
REFRESH-INTERVAL;VALUE=DURATION:PT1H
X-Robots-Tag:noindex
X-PUBLISHED-TTL:PT1H
BEGIN:VTIMEZONE
TZID:Europe/Berlin
BEGIN:DAYLIGHT
TZOFFSETFROM:+0100
TZOFFSETTO:+0200
TZNAME:CEST
DTSTART:20230326T010000
END:DAYLIGHT
BEGIN:STANDARD
TZOFFSETFROM:+0200
TZOFFSETTO:+0100
TZNAME:CET
DTSTART:20231029T010000
END:STANDARD
BEGIN:DAYLIGHT
TZOFFSETFROM:+0100
TZOFFSETTO:+0200
TZNAME:CEST
DTSTART:20240331T010000
END:DAYLIGHT
BEGIN:STANDARD
TZOFFSETFROM:+0200
TZOFFSETTO:+0100
TZNAME:CET
DTSTART:20241027T010000
END:STANDARD
BEGIN:DAYLIGHT
TZOFFSETFROM:+0100
TZOFFSETTO:+0200
TZNAME:CEST
DTSTART:20250330T010000
END:DAYLIGHT
BEGIN:STANDARD
TZOFFSETFROM:+0200
TZOFFSETTO:+0100
TZNAME:CET
DTSTART:20251026T010000
END:STANDARD
END:VTIMEZONE
BEGIN:VEVENT
DTSTART;TZID=Europe/Berlin:20241218T200000
DTEND;TZID=Europe/Berlin:20241218T220000
DTSTAMP:20260419T233151
CREATED:20241120T145633Z
LAST-MODIFIED:20241203T222747Z
UID:11517-1734552000-1734559200@gruene-pankow.de
SUMMARY:AG Verkehr
DESCRIPTION:Der „Good Move Plan“ in Brüssel – Einblicke und Learnings mit Susanne Müller-Hübsch \nWir freuen uns\, Susanne Müller-Hübsch\, ehemalige Bürgermeisterin für Mobilität\, Straßenbau und Stadtentwicklung in Anderlecht (Brüssel)\, am 18. Dezember digital zu unserem Treffen der AG Verkehr begrüßen zu dürfen. \nDer Good Move Plan ist ein ambitioniertes Mobilitätskonzept aus Brüssel\, das auf nachhaltige Verkehrsplanung\, lebenswerte Kiezstrukturen und eine Verbesserung der Lebensqualität durch Maßnahmen wie Kiezblöcke und Tempo-30-Zonen abzielt. Susanne Müller-Hübsch\, eine erfahrene Politikerin und Mitglied der flämischen Grünen („Groen“)\, wird uns spannende Einblicke in die Entstehung und Umsetzung des Plans geben. \nDoch der Plan ist auch ein Beispiel für die Herausforderungen\, mit denen solche Projekte konfrontiert werden. Seit dem Regierungswechsel steht der Good Move Plan unter Beschuss von rechts – ein trauriges Schicksal\, das wiedermal zeigt\, wie umkämpft progressive Mobilitätsansätze sind. \nIm Anschluss an den Vortrag laden wir zu einer gemeinsamen Diskussion ein: Was können wir aus den Erfahrungen in Brüssel lernen? Wie lassen sich Widerstände gegen Maßnahmen wie Kiezblöcke oder Tempo-30-Zonen besser begegnen? Denn – seien wir ehrlich – diese Herausforderungen kennen wir auch hier nur allzu gut! \nWir freuen uns auf einen inspirierenden Abend mit Susanne Müller-Hübsch und spannende Diskussionen mit euch! \nSeid dabei – bringt eure Fragen und Ideen mit!
URL:https://gruene-pankow.de/termin/ag-verkehr-18/
LOCATION:Kiezbüro B5\, Berliner Straße 5\, Berlin-Pankow\, 13187
CATEGORIES:Arbeitsgemeinschaften
ATTACH;FMTTYPE=image/png:https://gruene-pankow.de/wp-content/uploads/2023/12/AG-Verkehr.png
END:VEVENT
END:VCALENDAR