BEGIN:VCALENDAR
VERSION:2.0
PRODID:-//BÜNDNIS 90/DIE GRÜNEN - ECPv6.15.20//NONSGML v1.0//EN
CALSCALE:GREGORIAN
METHOD:PUBLISH
X-ORIGINAL-URL:https://gruene-pankow.de
X-WR-CALDESC:Veranstaltungen für BÜNDNIS 90/DIE GRÜNEN
REFRESH-INTERVAL;VALUE=DURATION:PT1H
X-Robots-Tag:noindex
X-PUBLISHED-TTL:PT1H
BEGIN:VTIMEZONE
TZID:Europe/Berlin
BEGIN:DAYLIGHT
TZOFFSETFROM:+0100
TZOFFSETTO:+0200
TZNAME:CEST
DTSTART:20230326T010000
END:DAYLIGHT
BEGIN:STANDARD
TZOFFSETFROM:+0200
TZOFFSETTO:+0100
TZNAME:CET
DTSTART:20231029T010000
END:STANDARD
BEGIN:DAYLIGHT
TZOFFSETFROM:+0100
TZOFFSETTO:+0200
TZNAME:CEST
DTSTART:20240331T010000
END:DAYLIGHT
BEGIN:STANDARD
TZOFFSETFROM:+0200
TZOFFSETTO:+0100
TZNAME:CET
DTSTART:20241027T010000
END:STANDARD
BEGIN:DAYLIGHT
TZOFFSETFROM:+0100
TZOFFSETTO:+0200
TZNAME:CEST
DTSTART:20250330T010000
END:DAYLIGHT
BEGIN:STANDARD
TZOFFSETFROM:+0200
TZOFFSETTO:+0100
TZNAME:CET
DTSTART:20251026T010000
END:STANDARD
END:VTIMEZONE
BEGIN:VEVENT
DTSTART;TZID=Europe/Berlin:20241126T200000
DTEND;TZID=Europe/Berlin:20241126T220000
DTSTAMP:20260420T010824
CREATED:20241120T144739Z
LAST-MODIFIED:20241120T145908Z
UID:11512-1732651200-1732658400@gruene-pankow.de
SUMMARY:AG Verkehr
DESCRIPTION:Das Thema Mobilitätswende liegt uns allen am Herzen. Viele wissen aus eigener Erfahrung\, wie langwierig die Planung und Umsetzung von Verkehrsprojekten sein kann. Selbst nach einem positiven politischen Beschluss dauert es oft Jahre\, bis die dringend benötigte Infrastruktur – insbesondere im Bereich des ÖPNV – realisiert wird.\n\nUm uns einen tieferen Einblick in die komplexen Prozesse der Infrastrukturplanung zu geben\, haben wir einen erfahrenen Ingenieur eingeladen. Der Referent wird uns anschaulich erläutern:\n\n • Welche Schritte und Anforderungen bei der Planung von Infrastrukturprojekten notwendig sind\,\n• welche Rolle die HOAI (Honorarordnung für Architekten und Ingenieure) dabei spielt\,\n• und wie die verschiedenen Planungsphasen strukturiert sind.\n\nIm Anschluss wollen wir gemeinsam diskutieren\, welche Schlüsse wir für unsere politische Arbeit und Kommunikation ziehen können – von der Idee eines Projekts bis hin zur Eröffnungsfeier.
URL:https://gruene-pankow.de/termin/ag-verkehr-17/
LOCATION:Kiezbüro B5\, Berliner Straße 5\, Berlin-Pankow\, 13187
CATEGORIES:Arbeitsgemeinschaften
ATTACH;FMTTYPE=image/png:https://gruene-pankow.de/wp-content/uploads/2023/12/AG-Verkehr.png
END:VEVENT
END:VCALENDAR