BEGIN:VCALENDAR
VERSION:2.0
PRODID:-//BÜNDNIS 90/DIE GRÜNEN - ECPv6.15.20//NONSGML v1.0//EN
CALSCALE:GREGORIAN
METHOD:PUBLISH
X-WR-CALNAME:BÜNDNIS 90/DIE GRÜNEN
X-ORIGINAL-URL:https://gruene-pankow.de
X-WR-CALDESC:Veranstaltungen für BÜNDNIS 90/DIE GRÜNEN
REFRESH-INTERVAL;VALUE=DURATION:PT1H
X-Robots-Tag:noindex
X-PUBLISHED-TTL:PT1H
BEGIN:VTIMEZONE
TZID:Europe/Berlin
BEGIN:DAYLIGHT
TZOFFSETFROM:+0100
TZOFFSETTO:+0200
TZNAME:CEST
DTSTART:20230326T010000
END:DAYLIGHT
BEGIN:STANDARD
TZOFFSETFROM:+0200
TZOFFSETTO:+0100
TZNAME:CET
DTSTART:20231029T010000
END:STANDARD
BEGIN:DAYLIGHT
TZOFFSETFROM:+0100
TZOFFSETTO:+0200
TZNAME:CEST
DTSTART:20240331T010000
END:DAYLIGHT
BEGIN:STANDARD
TZOFFSETFROM:+0200
TZOFFSETTO:+0100
TZNAME:CET
DTSTART:20241027T010000
END:STANDARD
BEGIN:DAYLIGHT
TZOFFSETFROM:+0100
TZOFFSETTO:+0200
TZNAME:CEST
DTSTART:20250330T010000
END:DAYLIGHT
BEGIN:STANDARD
TZOFFSETFROM:+0200
TZOFFSETTO:+0100
TZNAME:CET
DTSTART:20251026T010000
END:STANDARD
END:VTIMEZONE
BEGIN:VEVENT
DTSTART;TZID=Europe/Berlin:20241016T193000
DTEND;TZID=Europe/Berlin:20241016T213000
DTSTAMP:20260420T025043
CREATED:20241015T125405Z
LAST-MODIFIED:20241015T125411Z
UID:11129-1729107000-1729114200@gruene-pankow.de
SUMMARY:AG Verkehr
DESCRIPTION:Am 16. Oktober 2024 laden wir\, die AG Verkehr\, euch herzlich ein\, von 19:30 bis 21:30 Uhr in der B5 mit uns die Online-Veranstaltung „Neues Straßenverkehrsrecht – Mehr Platz für Rad und Bus“ gemeinsam anzuschauen. In der Veranstaltung werden die neuen Handlungsspielräume für Städte und Gemeinden zur Förderung von Rad- und Busverkehr erläutert. Neben Stefan Gelbhaar\, MdB\, nehmen auch Swantje Michaelsen\, MdB\, und Roland Huhn vom ADFC teil. \nVor Ort in der B5 habt ihr die Möglichkeit\, euch vor und nach der Veranstaltung mit anderen Interessierten auszutauschen und die Inhalte gemeinsam zu diskutieren. \nWer nicht vor Ort dabei sein kann\, kann sich selbstständig online anmelden und die Veranstaltung von zu Hause aus verfolgen:
URL:https://gruene-pankow.de/termin/ag-verkehr-im-sommergarten-2/
LOCATION:Kiezbüro B5\, Berliner Straße 5\, Berlin-Pankow\, 13187
CATEGORIES:Arbeitsgemeinschaften
ATTACH;FMTTYPE=image/png:https://gruene-pankow.de/wp-content/uploads/2023/12/AG-Verkehr.png
END:VEVENT
END:VCALENDAR