BEGIN:VCALENDAR
VERSION:2.0
PRODID:-//BÜNDNIS 90/DIE GRÜNEN - ECPv6.15.20//NONSGML v1.0//EN
CALSCALE:GREGORIAN
METHOD:PUBLISH
X-ORIGINAL-URL:https://gruene-pankow.de
X-WR-CALDESC:Veranstaltungen für BÜNDNIS 90/DIE GRÜNEN
REFRESH-INTERVAL;VALUE=DURATION:PT1H
X-Robots-Tag:noindex
X-PUBLISHED-TTL:PT1H
BEGIN:VTIMEZONE
TZID:Europe/Berlin
BEGIN:DAYLIGHT
TZOFFSETFROM:+0100
TZOFFSETTO:+0200
TZNAME:CEST
DTSTART:20230326T010000
END:DAYLIGHT
BEGIN:STANDARD
TZOFFSETFROM:+0200
TZOFFSETTO:+0100
TZNAME:CET
DTSTART:20231029T010000
END:STANDARD
BEGIN:DAYLIGHT
TZOFFSETFROM:+0100
TZOFFSETTO:+0200
TZNAME:CEST
DTSTART:20240331T010000
END:DAYLIGHT
BEGIN:STANDARD
TZOFFSETFROM:+0200
TZOFFSETTO:+0100
TZNAME:CET
DTSTART:20241027T010000
END:STANDARD
BEGIN:DAYLIGHT
TZOFFSETFROM:+0100
TZOFFSETTO:+0200
TZNAME:CEST
DTSTART:20250330T010000
END:DAYLIGHT
BEGIN:STANDARD
TZOFFSETFROM:+0200
TZOFFSETTO:+0100
TZNAME:CET
DTSTART:20251026T010000
END:STANDARD
END:VTIMEZONE
BEGIN:VEVENT
DTSTART;TZID=Europe/Berlin:20240904T190000
DTEND;TZID=Europe/Berlin:20240904T210000
DTSTAMP:20260420T045856
CREATED:20240827T174656Z
LAST-MODIFIED:20240827T174656Z
UID:10698-1725476400-1725483600@gruene-pankow.de
SUMMARY:AG Verkehr im Sommergarten
DESCRIPTION:In spätsommerlicher After-Holiday-Stimmung blicken wir zurück auf die wichtigsten Themen der letzten Monate und skizzieren gemeinsam die mittelbare Zukunft unserer Arbeitsgemeinschaft mit Themen\, Zielen und Anforderungen. \nBesonders möchten wir Neumitglieder und Neu-Aktive ermutigen\, vorbei zu schauen. In ungezwungener Atmosphäre können wir uns hier kennenlernen\, Fragen stellen und über verkehrspolitische Themen austauschen.
URL:https://gruene-pankow.de/termin/ag-verkehr-im-sommergarten/
LOCATION:Prater Biergarten\, Kastanienallee 7-9\, Berlin\, 10435\, Deutschland
CATEGORIES:Arbeitsgemeinschaften
ATTACH;FMTTYPE=image/png:https://gruene-pankow.de/wp-content/uploads/2023/12/AG-Verkehr.png
END:VEVENT
BEGIN:VEVENT
DTSTART;TZID=Europe/Berlin:20240924T190000
DTEND;TZID=Europe/Berlin:20240924T210000
DTSTAMP:20260420T045856
CREATED:20240917T131611Z
LAST-MODIFIED:20240917T131611Z
UID:10906-1727204400-1727211600@gruene-pankow.de
SUMMARY:AG Verkehr – mit Wahl der Sprecher*innen
DESCRIPTION:Was erwartet euch?\n1. Neuwahl der AG-Sprecher*innen\n\nWir freuen uns auf alle Bewerber*innen und eure Ideen! Die AG Verkehr Pankow braucht DEINE Unterstützung!\n2. Zukunftsplanung für 2025\nLasst uns darüber sprechen\, wie wir auf die aktuellen Herausforderungen reagieren können\, insbesondere angesichts der Kürzungen bei Radschnellwegen und Fahrradparkhäusern durch den CDU/SPD-Senat.\n\nWarum ihr dabei sein solltet\nWir möchten besonders Neueinsteiger*innen und Neuaktive ermutigen\, vorbeizuschauen. In einer entspannten Atmosphäre könnt ihr Gleichgesinnte kennenlernen\, Fragen stellen und über aktuelle Themen diskutieren. Eure Teilnahme ist wichtig\, um gemeinsam die Mobilität in Pankow voranzubringen! \n\nBitte leitet die Einladung gerne an andere Interessierte in eurem Netzwerk weiter. Je mehr wir sind\, desto besser wird die Diskussion!Wir freuen uns auf einen spannenden Abend mit euch!
URL:https://gruene-pankow.de/termin/ag-verkehr-mit-wahl-der-sprecherinnen/
LOCATION:Kiezbüro B5\, Berliner Straße 5\, Berlin-Pankow\, 13187
CATEGORIES:Arbeitsgemeinschaften
ATTACH;FMTTYPE=image/png:https://gruene-pankow.de/wp-content/uploads/2023/12/AG-Verkehr.png
END:VEVENT
END:VCALENDAR