BEGIN:VCALENDAR
VERSION:2.0
PRODID:-//BÜNDNIS 90/DIE GRÜNEN - ECPv6.15.20//NONSGML v1.0//EN
CALSCALE:GREGORIAN
METHOD:PUBLISH
X-ORIGINAL-URL:https://gruene-pankow.de
X-WR-CALDESC:Veranstaltungen für BÜNDNIS 90/DIE GRÜNEN
REFRESH-INTERVAL;VALUE=DURATION:PT1H
X-Robots-Tag:noindex
X-PUBLISHED-TTL:PT1H
BEGIN:VTIMEZONE
TZID:Europe/Berlin
BEGIN:DAYLIGHT
TZOFFSETFROM:+0100
TZOFFSETTO:+0200
TZNAME:CEST
DTSTART:20250330T010000
END:DAYLIGHT
BEGIN:STANDARD
TZOFFSETFROM:+0200
TZOFFSETTO:+0100
TZNAME:CET
DTSTART:20251026T010000
END:STANDARD
BEGIN:DAYLIGHT
TZOFFSETFROM:+0100
TZOFFSETTO:+0200
TZNAME:CEST
DTSTART:20260329T010000
END:DAYLIGHT
BEGIN:STANDARD
TZOFFSETFROM:+0200
TZOFFSETTO:+0100
TZNAME:CET
DTSTART:20261025T010000
END:STANDARD
BEGIN:DAYLIGHT
TZOFFSETFROM:+0100
TZOFFSETTO:+0200
TZNAME:CEST
DTSTART:20270328T010000
END:DAYLIGHT
BEGIN:STANDARD
TZOFFSETFROM:+0200
TZOFFSETTO:+0100
TZNAME:CET
DTSTART:20271031T010000
END:STANDARD
END:VTIMEZONE
BEGIN:VEVENT
DTSTART;TZID=Europe/Berlin:20260508T160000
DTEND;TZID=Europe/Berlin:20260508T190000
DTSTAMP:20260422T014817
CREATED:20260413T111327Z
LAST-MODIFIED:20260413T112537Z
UID:17512-1778256000-1778266800@gruene-pankow.de
SUMMARY:Jubiläumsfeier: Vier Jahre Grünes Kiezbüro von Louis Krüger
DESCRIPTION:Das Kiezbüro von Louis Krüger feiert sein vierjähriges Bestehen und dazu möchten wir euch herzlich einladen! Seit 2022 ist das Büro in der Berliner Straße 89 ein lebendiger Treffpunkt für Pankow-Süd und Heinersdorf. Hier kommen Menschen aus der Nachbarschaft zusammen\, tauschen sich aus und bringen ihre Anliegen ein. \nIn den vergangenen Jahren ist vieles entstanden: von Kleidertauschpartys über Lesungen und Workshops bis hin zu Gesprächsrunden über den Alltag in der Nachbarschaft. Das Kiezbüro ist dabei nicht nur ein Ort für politische Arbeit\, sondern vor allem auch ein Raum für Begegnung\, Gemeinschaft und ein offenes Ohr. Dieses Jubiläum möchten wir gemeinsam mit euch feiern und auf vier Jahre voller Engagement im Kiez zurückblicken. \nFreut euch auf eine entspannte Atmosphäre mit Snacks und Getränken\, kleinen Aktionen wie Siebdruck sowie Eindrücken aus den vergangenen Jahren. Kommt vorbei\, lernt eure Nachbar*innen und Initiativen aus dem Kiez (neu) kennen\, kommt mit uns ins Gespräch und stoßt mit uns auf das Jubiläum an!
URL:https://gruene-pankow.de/termin/jubilaeumsfeier-vier-jahre-gruenes-kiezbuero-von-louis-krueger/
LOCATION:Kiezbüro Louis Krüger\, Berliner Straße 89\, 13189
CATEGORIES:Berlin,Mandatsträger*innen
ATTACH;FMTTYPE=image/jpeg:https://gruene-pankow.de/wp-content/uploads/2026/04/Kiezbuero.jpg
ORGANIZER;CN="Louis Kr%C3%BCger (MdA)":MAILTO:info@louiskrueger.de
END:VEVENT
BEGIN:VEVENT
DTSTART;TZID=Europe/Berlin:20260513T190000
DTEND;TZID=Europe/Berlin:20260513T203000
DTSTAMP:20260422T014817
CREATED:20251230T154639Z
LAST-MODIFIED:20251230T154639Z
UID:15922-1778698800-1778704200@gruene-pankow.de
SUMMARY:Stadtteilgruppe Blankenburg\, Heinersdorf\, Stadtrandsiedlung Malchow
DESCRIPTION:
URL:https://gruene-pankow.de/termin/stadtteilgruppe-blankenburg-heinersdorf-stadtrandsiedlung-malchow-6/
CATEGORIES:Stadtteilgruppen
ATTACH;FMTTYPE=image/png:https://gruene-pankow.de/wp-content/uploads/2024/09/SG-Blankenburg-und-Heinersdorf.png
ORGANIZER;CN="SG Blankenbug und Heinersdorf":MAILTO:blankenburg-heinersdorf@gruene-pankow.de
END:VEVENT
BEGIN:VEVENT
DTSTART;TZID=Europe/Berlin:20260513T190000
DTEND;TZID=Europe/Berlin:20260513T210000
DTSTAMP:20260422T014817
CREATED:20260224T133102Z
LAST-MODIFIED:20260417T121824Z
UID:16888-1778698800-1778706000@gruene-pankow.de
SUMMARY:Monatstreffen Stadtteilgruppe Prenzlauer Berg Nord
DESCRIPTION:Terminänderung: 13. Mai! Monatliches Treffen der Stadtteilgruppe Prenzlauer Berg Nord. Wir haben den Kiez rund um Helmholtz- und Humannplatz im Blick – und freuen uns über alle Menschen aus der Nachbarschaft\, die mitdenken und mitmachen wollen!
URL:https://gruene-pankow.de/termin/monatstreffen-stadtteilgruppe-prenzlauer-berg-nord-6/
LOCATION:Kreisgeschäftsstelle (großer Raum)\, Pappelallee 84\, Berlin-Prenzlauer Berg\, 10437
CATEGORIES:Stadtteilgruppen
ATTACH;FMTTYPE=image/jpeg:https://gruene-pankow.de/wp-content/uploads/2024/02/SG-Prenzlauer-Berg-Nord.jpg
ORGANIZER;CN="SG Prenzlauer Berg Nord":MAILTO:prenzlauer-berg-nord@gruene-pankow.de
END:VEVENT
BEGIN:VEVENT
DTSTART;TZID=Europe/Berlin:20260521T193000
DTEND;TZID=Europe/Berlin:20260521T213000
DTSTAMP:20260422T014817
CREATED:20260210T100847Z
LAST-MODIFIED:20260210T100847Z
UID:16590-1779391800-1779399000@gruene-pankow.de
SUMMARY:Monatstreffen - Stadtteilgruppe Prenzlauer Berg Nordost
DESCRIPTION:Der Stammtisch ist offen für alle – ob altbekannt oder neu dabei\, hier verbinden wir uns regelmäßig miteinander. Kommt vorbei\, lernt uns und einander kennen und diskutiert in entspannter Atmosphäre alles\, was Euch im Kiez und der grünen Politik bewegt. Wir freuen uns auf Euch! \nIhr habt Fragen\, Wünsche oder Hinweise? Schreibt uns gerne. Den Kontakt und mehr Infos findet ihr hier: https://gruene-pankow.de/prenzlauer-berg-no/
URL:https://gruene-pankow.de/termin/monatstreffen-stadtteilgruppe-prenzlauer-berg-nordost-2/
LOCATION:Brotfabrik\, Cali­ga­ri­platz 1\, Berlin-Weißensee\, 13086
CATEGORIES:Stadtteilgruppen
ATTACH;FMTTYPE=image/png:https://gruene-pankow.de/wp-content/uploads/2023/12/SG-Prenzlauer-Berg-Nordost.png
ORGANIZER;CN="SG Prenzlauer Berg Nordost":MAILTO:prenzlauer-berg-no@gruene-pankow.de
END:VEVENT
BEGIN:VEVENT
DTSTART;TZID=Europe/Berlin:20260528T190000
DTEND;TZID=Europe/Berlin:20260528T210000
DTSTAMP:20260422T014817
CREATED:20260217T192137Z
LAST-MODIFIED:20260218T135950Z
UID:16791-1779994800-1780002000@gruene-pankow.de
SUMMARY:Stadtteilgruppe Buch und Karow
DESCRIPTION:Du bist interessiert und möchtest dabei sein? Schreib uns bitte per Mail an buch-karow@gruene-pankow.de für den Ort! Wir freuen uns auf Dich.
URL:https://gruene-pankow.de/termin/stadtteilgruppe-buch-und-karow-9/
LOCATION:Schreib uns bitte per Mail an buch-karow@gruene-pankow.de
CATEGORIES:Stadtteilgruppen
ATTACH;FMTTYPE=image/png:https://gruene-pankow.de/wp-content/uploads/2024/09/SG-Buch-und-Karow.png
ORGANIZER;CN="SG Buch und Karow":MAILTO:buch-karow@gruene-pankow.de
END:VEVENT
BEGIN:VEVENT
DTSTART;TZID=Europe/Berlin:20260604T190000
DTEND;TZID=Europe/Berlin:20260604T210000
DTSTAMP:20260422T014817
CREATED:20260209T164240Z
LAST-MODIFIED:20260209T164240Z
UID:16579-1780599600-1780606800@gruene-pankow.de
SUMMARY:Stammtisch Nordost
DESCRIPTION:Stadtteilübergreifender Stammtisch Nordost für Mitglieder und Interessierte aus dem Nordosten des Bezirks\, von Blankenfelde bis Blankenburg. Dies ist eine regelmäßige gemeinsame Veranstaltung der Stadtteilgruppen Blankenfelde und Französisch Buchholz\, Buch und Karow sowie Blankenburg\, Heinersdorf und Stadtrandsiedlung Malchow. \n\n\n\nVorort vernetzen: mit anderen Mitgliedern aus der direkten Umgebung\nVorort kennenlernen: mit Pankower Mandatsträger*innen aktuelle Themen erörtern\nVorort aktiv werden: Initiativen\, Ideen\, Anträge\, Stände\, Streifzüge – im Norden ist immer was los!
URL:https://gruene-pankow.de/termin/stammtisch-nordost-18/
LOCATION:Der Eiserne Gustav\, Hauptstraße 59a\, Berlin-Französisch Buchholz\, 13127
CATEGORIES:Kreisverband,Stadtteilgruppen
ATTACH;FMTTYPE=image/png:https://gruene-pankow.de/wp-content/uploads/2023/09/Gruener-Stammtisch.png
END:VEVENT
BEGIN:VEVENT
DTSTART;TZID=Europe/Berlin:20260606T100000
DTEND;TZID=Europe/Berlin:20260606T120000
DTSTAMP:20260422T014817
CREATED:20260217T193756Z
LAST-MODIFIED:20260413T121115Z
UID:16809-1780740000-1780747200@gruene-pankow.de
SUMMARY:Stadtteilgruppe Buch und Karow - Zuhör-Stand mit Smoothiefahrrad
DESCRIPTION:Gesund und lecker für Groß und Klein: Komm’ vorbei und erstrampel’ Deinen eigenen kostenlosen Smoothie aus gerettetem Obst!
URL:https://gruene-pankow.de/termin/stadtteilgruppe-buch-und-karow-zuhoer-stand-5/
LOCATION:Buch\, am Schlosspark\, Walter-Friedrich-Straße/Wiltbergstraße\, Berlin-Buch\, 13125
CATEGORIES:Stadtteilgruppen
ATTACH;FMTTYPE=image/png:https://gruene-pankow.de/wp-content/uploads/2026/02/Bildschirmfoto-vom-2026-04-13-14-10-32.png
ORGANIZER;CN="SG Buch und Karow":MAILTO:buch-karow@gruene-pankow.de
END:VEVENT
BEGIN:VEVENT
DTSTART;TZID=Europe/Berlin:20260611T190000
DTEND;TZID=Europe/Berlin:20260611T210000
DTSTAMP:20260422T014817
CREATED:20260107T105432Z
LAST-MODIFIED:20260313T212242Z
UID:15982-1781204400-1781211600@gruene-pankow.de
SUMMARY:Grüner Treff der Stadtteilgruppe Blankenfelde und Französisch Buchholz
DESCRIPTION:Bei unserem Grünen Treff möchten wir Mitgliedern und Interessierten unserer Stadtteilgruppe in Blankenfelde und Französisch Buchholz die Möglichkeit geben\, sich gegenseitig kennenzulernen und auszutauschen.
URL:https://gruene-pankow.de/termin/gruener-treff-der-stadtteilgruppe-blankenfelde-und-franzoesisch-buchholz/
CATEGORIES:Stadtteilgruppen
ATTACH;FMTTYPE=image/png:https://gruene-pankow.de/wp-content/uploads/2023/11/SG-Blankenfelde-und-Franzoesisch-Buchholz.png
ORGANIZER;CN="SG Blankenfelde und Franz%C3%B6sisch Buchholz":MAILTO:blankenfelde-franz-buchholz@gruene-pankow.de
END:VEVENT
BEGIN:VEVENT
DTSTART;TZID=Europe/Berlin:20260617T190000
DTEND;TZID=Europe/Berlin:20260617T210000
DTSTAMP:20260422T014817
CREATED:20260224T133207Z
LAST-MODIFIED:20260224T133207Z
UID:16890-1781722800-1781730000@gruene-pankow.de
SUMMARY:Monatstreffen Stadtteilgruppe Prenzlauer Berg Nord
DESCRIPTION:Monatliches Treffen der Stadtteilgruppe Prenzlauer Berg Nord. Wir haben den Kiez rund um Helmholtz- und Humannplatz im Blick – und freuen uns über alle Menschen aus der Nachbarschaft\, die mitdenken und mitmachen wollen!
URL:https://gruene-pankow.de/termin/monatstreffen-stadtteilgruppe-prenzlauer-berg-nord-7/
LOCATION:Kreisgeschäftsstelle (großer Raum)\, Pappelallee 84\, Berlin-Prenzlauer Berg\, 10437
CATEGORIES:Stadtteilgruppen
ATTACH;FMTTYPE=image/jpeg:https://gruene-pankow.de/wp-content/uploads/2024/02/SG-Prenzlauer-Berg-Nord.jpg
ORGANIZER;CN="SG Prenzlauer Berg Nord":MAILTO:prenzlauer-berg-nord@gruene-pankow.de
END:VEVENT
BEGIN:VEVENT
DTSTART;TZID=Europe/Berlin:20260618T193000
DTEND;TZID=Europe/Berlin:20260618T213000
DTSTAMP:20260422T014817
CREATED:20260210T100908Z
LAST-MODIFIED:20260210T100908Z
UID:16592-1781811000-1781818200@gruene-pankow.de
SUMMARY:Monatstreffen - Stadtteilgruppe Prenzlauer Berg Nordost
DESCRIPTION:Der Stammtisch ist offen für alle – ob altbekannt oder neu dabei\, hier verbinden wir uns regelmäßig miteinander. Kommt vorbei\, lernt uns und einander kennen und diskutiert in entspannter Atmosphäre alles\, was Euch im Kiez und der grünen Politik bewegt. Wir freuen uns auf Euch! \nIhr habt Fragen\, Wünsche oder Hinweise? Schreibt uns gerne. Den Kontakt und mehr Infos findet ihr hier: https://gruene-pankow.de/prenzlauer-berg-no/
URL:https://gruene-pankow.de/termin/monatstreffen-stadtteilgruppe-prenzlauer-berg-nordost-3/
LOCATION:Brotfabrik\, Cali­ga­ri­platz 1\, Berlin-Weißensee\, 13086
CATEGORIES:Stadtteilgruppen
ATTACH;FMTTYPE=image/png:https://gruene-pankow.de/wp-content/uploads/2023/12/SG-Prenzlauer-Berg-Nordost.png
ORGANIZER;CN="SG Prenzlauer Berg Nordost":MAILTO:prenzlauer-berg-no@gruene-pankow.de
END:VEVENT
BEGIN:VEVENT
DTSTART;TZID=Europe/Berlin:20260624T190000
DTEND;TZID=Europe/Berlin:20260624T210000
DTSTAMP:20260422T014817
CREATED:20260217T192155Z
LAST-MODIFIED:20260218T140009Z
UID:16793-1782327600-1782334800@gruene-pankow.de
SUMMARY:Stadtteilgruppe Buch und Karow
DESCRIPTION:Du bist interessiert und möchtest dabei sein? Schreib uns bitte per Mail an buch-karow@gruene-pankow.de für den Ort! Wir freuen uns auf Dich.
URL:https://gruene-pankow.de/termin/stadtteilgruppe-buch-und-karow-10/
LOCATION:Schreib uns bitte per Mail an buch-karow@gruene-pankow.de
CATEGORIES:Stadtteilgruppen
ATTACH;FMTTYPE=image/png:https://gruene-pankow.de/wp-content/uploads/2024/09/SG-Buch-und-Karow.png
ORGANIZER;CN="SG Buch und Karow":MAILTO:buch-karow@gruene-pankow.de
END:VEVENT
BEGIN:VEVENT
DTSTART;TZID=Europe/Berlin:20260625T193000
DTEND;TZID=Europe/Berlin:20260625T210000
DTSTAMP:20260422T014817
CREATED:20251213T171403Z
LAST-MODIFIED:20260317T191415Z
UID:15647-1782415800-1782421200@gruene-pankow.de
SUMMARY:Stadtteilgruppe Prenzlauer Berg Nordwest
DESCRIPTION:
URL:https://gruene-pankow.de/termin/stadtteilgruppe-prenzlauer-berg-nordwest-15/
LOCATION:Kreisgeschäftsstelle (kleiner Raum)\, Pappelallee 84\, Berlin-Prenzlauer Berg\, 10437
CATEGORIES:Stadtteilgruppen
ATTACH;FMTTYPE=image/jpeg:https://gruene-pankow.de/wp-content/uploads/2024/02/SG-Prenzlauer-Berg-Nordwest.jpg
ORGANIZER;CN="SG Prenzlauer Berg Nordwest":MAILTO:prenzlauer-berg-nw@gruene-pankow.de
END:VEVENT
BEGIN:VEVENT
DTSTART;TZID=Europe/Berlin:20260702T190000
DTEND;TZID=Europe/Berlin:20260702T210000
DTSTAMP:20260422T014817
CREATED:20260209T164344Z
LAST-MODIFIED:20260209T164344Z
UID:16582-1783018800-1783026000@gruene-pankow.de
SUMMARY:Stammtisch Nordost
DESCRIPTION:Stadtteilübergreifender Stammtisch Nordost für Mitglieder und Interessierte aus dem Nordosten des Bezirks\, von Blankenfelde bis Blankenburg. Dies ist eine regelmäßige gemeinsame Veranstaltung der Stadtteilgruppen Blankenfelde und Französisch Buchholz\, Buch und Karow sowie Blankenburg\, Heinersdorf und Stadtrandsiedlung Malchow. \n\n\n\nVorort vernetzen: mit anderen Mitgliedern aus der direkten Umgebung\nVorort kennenlernen: mit Pankower Mandatsträger*innen aktuelle Themen erörtern\nVorort aktiv werden: Initiativen\, Ideen\, Anträge\, Stände\, Streifzüge – im Norden ist immer was los!
URL:https://gruene-pankow.de/termin/stammtisch-nordost-19/
LOCATION:Der Eiserne Gustav\, Hauptstraße 59a\, Berlin-Französisch Buchholz\, 13127
CATEGORIES:Kreisverband,Stadtteilgruppen
ATTACH;FMTTYPE=image/png:https://gruene-pankow.de/wp-content/uploads/2023/09/Gruener-Stammtisch.png
END:VEVENT
BEGIN:VEVENT
DTSTART;TZID=Europe/Berlin:20260708T190000
DTEND;TZID=Europe/Berlin:20260708T203000
DTSTAMP:20260422T014817
CREATED:20251230T154659Z
LAST-MODIFIED:20251230T154659Z
UID:15924-1783537200-1783542600@gruene-pankow.de
SUMMARY:Stadtteilgruppe Blankenburg\, Heinersdorf\, Stadtrandsiedlung Malchow
DESCRIPTION:
URL:https://gruene-pankow.de/termin/stadtteilgruppe-blankenburg-heinersdorf-stadtrandsiedlung-malchow-7/
CATEGORIES:Stadtteilgruppen
ATTACH;FMTTYPE=image/png:https://gruene-pankow.de/wp-content/uploads/2024/09/SG-Blankenburg-und-Heinersdorf.png
ORGANIZER;CN="SG Blankenbug und Heinersdorf":MAILTO:blankenburg-heinersdorf@gruene-pankow.de
END:VEVENT
BEGIN:VEVENT
DTSTART;TZID=Europe/Berlin:20260715T190000
DTEND;TZID=Europe/Berlin:20260715T210000
DTSTAMP:20260422T014817
CREATED:20260224T133250Z
LAST-MODIFIED:20260224T133250Z
UID:16892-1784142000-1784149200@gruene-pankow.de
SUMMARY:Monatstreffen Stadtteilgruppe Prenzlauer Berg Nord
DESCRIPTION:Monatliches Treffen der Stadtteilgruppe Prenzlauer Berg Nord. Wir haben den Kiez rund um Helmholtz- und Humannplatz im Blick – und freuen uns über alle Menschen aus der Nachbarschaft\, die mitdenken und mitmachen wollen!
URL:https://gruene-pankow.de/termin/monatstreffen-stadtteilgruppe-prenzlauer-berg-nord-8/
LOCATION:Kreisgeschäftsstelle (großer Raum)\, Pappelallee 84\, Berlin-Prenzlauer Berg\, 10437
CATEGORIES:Stadtteilgruppen
ATTACH;FMTTYPE=image/jpeg:https://gruene-pankow.de/wp-content/uploads/2024/02/SG-Prenzlauer-Berg-Nord.jpg
ORGANIZER;CN="SG Prenzlauer Berg Nord":MAILTO:prenzlauer-berg-nord@gruene-pankow.de
END:VEVENT
BEGIN:VEVENT
DTSTART;TZID=Europe/Berlin:20260909T190000
DTEND;TZID=Europe/Berlin:20260909T203000
DTSTAMP:20260422T014817
CREATED:20251230T154715Z
LAST-MODIFIED:20251230T154715Z
UID:15926-1788980400-1788985800@gruene-pankow.de
SUMMARY:Stadtteilgruppe Blankenburg\, Heinersdorf\, Stadtrandsiedlung Malchow
DESCRIPTION:
URL:https://gruene-pankow.de/termin/stadtteilgruppe-blankenburg-heinersdorf-stadtrandsiedlung-malchow-8/
CATEGORIES:Stadtteilgruppen
ATTACH;FMTTYPE=image/png:https://gruene-pankow.de/wp-content/uploads/2024/09/SG-Blankenburg-und-Heinersdorf.png
ORGANIZER;CN="SG Blankenbug und Heinersdorf":MAILTO:blankenburg-heinersdorf@gruene-pankow.de
END:VEVENT
BEGIN:VEVENT
DTSTART;TZID=Europe/Berlin:20261111T190000
DTEND;TZID=Europe/Berlin:20261111T203000
DTSTAMP:20260422T014817
CREATED:20251230T154736Z
LAST-MODIFIED:20251230T154736Z
UID:15928-1794423600-1794429000@gruene-pankow.de
SUMMARY:Stadtteilgruppe Blankenburg\, Heinersdorf\, Stadtrandsiedlung Malchow
DESCRIPTION:
URL:https://gruene-pankow.de/termin/stadtteilgruppe-blankenburg-heinersdorf-stadtrandsiedlung-malchow-9/
CATEGORIES:Stadtteilgruppen
ATTACH;FMTTYPE=image/png:https://gruene-pankow.de/wp-content/uploads/2024/09/SG-Blankenburg-und-Heinersdorf.png
ORGANIZER;CN="SG Blankenbug und Heinersdorf":MAILTO:blankenburg-heinersdorf@gruene-pankow.de
END:VEVENT
END:VCALENDAR