BEGIN:VCALENDAR
VERSION:2.0
PRODID:-//BÜNDNIS 90/DIE GRÜNEN - ECPv6.15.20//NONSGML v1.0//EN
CALSCALE:GREGORIAN
METHOD:PUBLISH
X-ORIGINAL-URL:https://gruene-pankow.de
X-WR-CALDESC:Veranstaltungen für BÜNDNIS 90/DIE GRÜNEN
REFRESH-INTERVAL;VALUE=DURATION:PT1H
X-Robots-Tag:noindex
X-PUBLISHED-TTL:PT1H
BEGIN:VTIMEZONE
TZID:Europe/Berlin
BEGIN:DAYLIGHT
TZOFFSETFROM:+0100
TZOFFSETTO:+0200
TZNAME:CEST
DTSTART:20240331T010000
END:DAYLIGHT
BEGIN:STANDARD
TZOFFSETFROM:+0200
TZOFFSETTO:+0100
TZNAME:CET
DTSTART:20241027T010000
END:STANDARD
BEGIN:DAYLIGHT
TZOFFSETFROM:+0100
TZOFFSETTO:+0200
TZNAME:CEST
DTSTART:20250330T010000
END:DAYLIGHT
BEGIN:STANDARD
TZOFFSETFROM:+0200
TZOFFSETTO:+0100
TZNAME:CET
DTSTART:20251026T010000
END:STANDARD
BEGIN:DAYLIGHT
TZOFFSETFROM:+0100
TZOFFSETTO:+0200
TZNAME:CEST
DTSTART:20260329T010000
END:DAYLIGHT
BEGIN:STANDARD
TZOFFSETFROM:+0200
TZOFFSETTO:+0100
TZNAME:CET
DTSTART:20261025T010000
END:STANDARD
END:VTIMEZONE
BEGIN:VEVENT
DTSTART;TZID=Europe/Berlin:20250616T190000
DTEND;TZID=Europe/Berlin:20250616T210000
DTSTAMP:20260419T180716
CREATED:20250228T112632Z
LAST-MODIFIED:20250228T112632Z
UID:12659-1750100400-1750107600@gruene-pankow.de
SUMMARY:Facharbeitsgruppe Wirtschaft\, Soziales\, Arbeit\, Senior*innen\, Kreativwirtschaft und Inklusion
DESCRIPTION:Internes Arbeitstreffen.
URL:https://gruene-pankow.de/termin/facharbeitsgruppe-wirtschaft-soziales-arbeit-seniorinnen-kreativwirtschaft-und-inklusion-6/
LOCATION:Kreisgeschäftsstelle\, Pappelallee 84\, Berlin-Prenzlauer Berg\, 10437
CATEGORIES:Berlin
ATTACH;FMTTYPE=image/png:https://gruene-pankow.de/wp-content/uploads/2025/02/FAG-Wirtschaft-Soziales-Arbeit.png
END:VEVENT
BEGIN:VEVENT
DTSTART;TZID=Europe/Berlin:20250626T190000
DTEND;TZID=Europe/Berlin:20250626T210000
DTSTAMP:20260419T180716
CREATED:20250228T112730Z
LAST-MODIFIED:20250624T130614Z
UID:12661-1750964400-1750971600@gruene-pankow.de
SUMMARY:[Nur online!] Facharbeitsgruppe Wirtschaft\, Soziales\, Arbeit\, Senior*innen\, Kreativwirtschaft und Inklusion
DESCRIPTION:Internes Arbeitstreffen.
URL:https://gruene-pankow.de/termin/facharbeitsgruppe-wirtschaft-soziales-arbeit-seniorinnen-kreativwirtschaft-und-inklusion-7/
LOCATION:Online
CATEGORIES:Berlin
ATTACH;FMTTYPE=image/png:https://gruene-pankow.de/wp-content/uploads/2025/02/FAG-Wirtschaft-Soziales-Arbeit.png
END:VEVENT
END:VCALENDAR