BEGIN:VCALENDAR
VERSION:2.0
PRODID:-//BÜNDNIS 90/DIE GRÜNEN - ECPv6.15.20//NONSGML v1.0//EN
CALSCALE:GREGORIAN
METHOD:PUBLISH
X-WR-CALNAME:BÜNDNIS 90/DIE GRÜNEN
X-ORIGINAL-URL:https://gruene-pankow.de
X-WR-CALDESC:Veranstaltungen für BÜNDNIS 90/DIE GRÜNEN
REFRESH-INTERVAL;VALUE=DURATION:PT1H
X-Robots-Tag:noindex
X-PUBLISHED-TTL:PT1H
BEGIN:VTIMEZONE
TZID:Europe/Berlin
BEGIN:DAYLIGHT
TZOFFSETFROM:+0100
TZOFFSETTO:+0200
TZNAME:CEST
DTSTART:20240331T010000
END:DAYLIGHT
BEGIN:STANDARD
TZOFFSETFROM:+0200
TZOFFSETTO:+0100
TZNAME:CET
DTSTART:20241027T010000
END:STANDARD
BEGIN:DAYLIGHT
TZOFFSETFROM:+0100
TZOFFSETTO:+0200
TZNAME:CEST
DTSTART:20250330T010000
END:DAYLIGHT
BEGIN:STANDARD
TZOFFSETFROM:+0200
TZOFFSETTO:+0100
TZNAME:CET
DTSTART:20251026T010000
END:STANDARD
BEGIN:DAYLIGHT
TZOFFSETFROM:+0100
TZOFFSETTO:+0200
TZNAME:CEST
DTSTART:20260329T010000
END:DAYLIGHT
BEGIN:STANDARD
TZOFFSETFROM:+0200
TZOFFSETTO:+0100
TZNAME:CET
DTSTART:20261025T010000
END:STANDARD
END:VTIMEZONE
BEGIN:VEVENT
DTSTART;TZID=Europe/Berlin:20250402T190000
DTEND;TZID=Europe/Berlin:20250402T210000
DTSTAMP:20260419T213056
CREATED:20250228T112514Z
LAST-MODIFIED:20250228T112514Z
UID:12651-1743620400-1743627600@gruene-pankow.de
SUMMARY:Facharbeitsgruppe Wirtschaft\, Soziales\, Arbeit\, Senior*innen\, Kreativwirtschaft und Inklusion
DESCRIPTION:Internes Arbeitstreffen.
URL:https://gruene-pankow.de/termin/facharbeitsgruppe-wirtschaft-soziales-arbeit-seniorinnen-kreativwirtschaft-und-inklusion-2/
LOCATION:Kreisgeschäftsstelle\, Pappelallee 84\, Berlin-Prenzlauer Berg\, 10437
CATEGORIES:Berlin
ATTACH;FMTTYPE=image/png:https://gruene-pankow.de/wp-content/uploads/2025/02/FAG-Wirtschaft-Soziales-Arbeit.png
END:VEVENT
BEGIN:VEVENT
DTSTART;TZID=Europe/Berlin:20250410T190000
DTEND;TZID=Europe/Berlin:20250410T210000
DTSTAMP:20260419T213056
CREATED:20250228T112532Z
LAST-MODIFIED:20250228T112532Z
UID:12653-1744311600-1744318800@gruene-pankow.de
SUMMARY:Facharbeitsgruppe Wirtschaft\, Soziales\, Arbeit\, Senior*innen\, Kreativwirtschaft und Inklusion
DESCRIPTION:Internes Arbeitstreffen.
URL:https://gruene-pankow.de/termin/facharbeitsgruppe-wirtschaft-soziales-arbeit-seniorinnen-kreativwirtschaft-und-inklusion-3/
LOCATION:Kreisgeschäftsstelle\, Pappelallee 84\, Berlin-Prenzlauer Berg\, 10437
CATEGORIES:Berlin
ATTACH;FMTTYPE=image/png:https://gruene-pankow.de/wp-content/uploads/2025/02/FAG-Wirtschaft-Soziales-Arbeit.png
END:VEVENT
END:VCALENDAR