BEGIN:VCALENDAR
VERSION:2.0
PRODID:-//BÜNDNIS 90/DIE GRÜNEN - ECPv6.15.20//NONSGML v1.0//EN
CALSCALE:GREGORIAN
METHOD:PUBLISH
X-WR-CALNAME:BÜNDNIS 90/DIE GRÜNEN
X-ORIGINAL-URL:https://gruene-pankow.de
X-WR-CALDESC:Veranstaltungen für BÜNDNIS 90/DIE GRÜNEN
REFRESH-INTERVAL;VALUE=DURATION:PT1H
X-Robots-Tag:noindex
X-PUBLISHED-TTL:PT1H
BEGIN:VTIMEZONE
TZID:Europe/Berlin
BEGIN:DAYLIGHT
TZOFFSETFROM:+0100
TZOFFSETTO:+0200
TZNAME:CEST
DTSTART:20220327T010000
END:DAYLIGHT
BEGIN:STANDARD
TZOFFSETFROM:+0200
TZOFFSETTO:+0100
TZNAME:CET
DTSTART:20221030T010000
END:STANDARD
BEGIN:DAYLIGHT
TZOFFSETFROM:+0100
TZOFFSETTO:+0200
TZNAME:CEST
DTSTART:20230326T010000
END:DAYLIGHT
BEGIN:STANDARD
TZOFFSETFROM:+0200
TZOFFSETTO:+0100
TZNAME:CET
DTSTART:20231029T010000
END:STANDARD
BEGIN:DAYLIGHT
TZOFFSETFROM:+0100
TZOFFSETTO:+0200
TZNAME:CEST
DTSTART:20240331T010000
END:DAYLIGHT
BEGIN:STANDARD
TZOFFSETFROM:+0200
TZOFFSETTO:+0100
TZNAME:CET
DTSTART:20241027T010000
END:STANDARD
END:VTIMEZONE
BEGIN:VEVENT
DTSTART;TZID=Europe/Berlin:20230616T170000
DTEND;TZID=Europe/Berlin:20230616T190000
DTSTAMP:20260421T102826
CREATED:20230524T121447Z
LAST-MODIFIED:20231127T140545Z
UID:6371-1686934800-1686942000@gruene-pankow.de
SUMMARY:Sport\, Kommerz und Inklusion. Interessenkonflikt oder Chance?
DESCRIPTION:Wir laden Euch ein bei diesem Streifzug von StadtLandPankow mit uns den Jahnsportpark zu erkunden. Unter dem Gesichtspunkt Inklusionssport\, Sozialräumliche Öffnung und Klimaschutz\, wollen wir uns das Gelände anschauen. Was ist dran am Vorwurf „kommerzieller Sport unter dem Deckmantel der Inklusion?” Wer sind die derzeitigen und künftigen Nutzer*innen und was genau ist geplant? Außerdem haben wir ein Date mit der ältesten Bewohnerin des Prenzlauer Berg. \nMit dabei sind: \n\nAndreas Otto\, Baupolitischer Sprecher der Fraktion B’90/Grüne im Abgeordnetenhaus\nJörg Zwirn\, Netzwerk für Inklusion und Sport und Geschäftsführer von Pfeffersport e.V.\nKlara Schedlich\, Sportpolitische Sprecherin der Fraktion B’90/Grüne im Abgeordnetenhaus\nKarsten Dirk Gloger\, Sprecher für Kinder- und Jugendpolitik und Sportpolitik der Fraktion B’90/Grüne in der BVV Pankow\n\nTreffpunkt: Eingang Cantianstraße am Tor. Im Anschluss können wir im Goa2 in der Gleimstraße bei Drinks und Snacks weiter diskutieren.
URL:https://gruene-pankow.de/termin/sport-kommerz-und-inklusion-interessenkonflikt-oder-chance/
LOCATION:Jahnsportpark\, Cantianstraße 24\, Berlin\, 10437
CATEGORIES:Berlin,Bezirk,Kreisverband,Mandatsträger*innen
ATTACH;FMTTYPE=image/png:https://gruene-pankow.de/wp-content/uploads/2023/05/Sharepics-Streifzuege-2023-–-Andreas.png
END:VEVENT
END:VCALENDAR