BEGIN:VCALENDAR
VERSION:2.0
PRODID:-//BÜNDNIS 90/DIE GRÜNEN - ECPv6.15.20//NONSGML v1.0//EN
CALSCALE:GREGORIAN
METHOD:PUBLISH
X-ORIGINAL-URL:https://gruene-pankow.de
X-WR-CALDESC:Veranstaltungen für BÜNDNIS 90/DIE GRÜNEN
REFRESH-INTERVAL;VALUE=DURATION:PT1H
X-Robots-Tag:noindex
X-PUBLISHED-TTL:PT1H
BEGIN:VTIMEZONE
TZID:Europe/Berlin
BEGIN:DAYLIGHT
TZOFFSETFROM:+0100
TZOFFSETTO:+0200
TZNAME:CEST
DTSTART:20220327T010000
END:DAYLIGHT
BEGIN:STANDARD
TZOFFSETFROM:+0200
TZOFFSETTO:+0100
TZNAME:CET
DTSTART:20221030T010000
END:STANDARD
BEGIN:DAYLIGHT
TZOFFSETFROM:+0100
TZOFFSETTO:+0200
TZNAME:CEST
DTSTART:20230326T010000
END:DAYLIGHT
BEGIN:STANDARD
TZOFFSETFROM:+0200
TZOFFSETTO:+0100
TZNAME:CET
DTSTART:20231029T010000
END:STANDARD
BEGIN:DAYLIGHT
TZOFFSETFROM:+0100
TZOFFSETTO:+0200
TZNAME:CEST
DTSTART:20240331T010000
END:DAYLIGHT
BEGIN:STANDARD
TZOFFSETFROM:+0200
TZOFFSETTO:+0100
TZNAME:CET
DTSTART:20241027T010000
END:STANDARD
END:VTIMEZONE
BEGIN:VEVENT
DTSTART;TZID=Europe/Berlin:20230517T190000
DTEND;TZID=Europe/Berlin:20230517T210000
DTSTAMP:20260420T081520
CREATED:20230510T115141Z
LAST-MODIFIED:20230510T115142Z
UID:6296-1684350000-1684357200@gruene-pankow.de
SUMMARY:Queerer Kreativabend zum IDAHOBIT 2023
DESCRIPTION:Der IDAHOBIT ist der internationale Tag gegen Homo-\, Bi-\, Inter- und Transfeindlichkeit (englisch International Day Against Homophobia\, Biphobia\, Interphobia and Transphobia). Seit 2005 wird er jedes Jahr am 17. Mai als Aktionstag begangen\, um gegen die Diskriminierung und Ausgrenzung von Menschen auf Grund ihrer sexuellen oder geschlechtlichen Identität zu kämpfen. Deshalb lade ich zum queeren Kreativabend in mein Wahlkreisbüro.  Bei Snacks und Getränken werden wir gemeinsam queere Buttons\, Armbänder und Co. erstellen und haben auch genug Zeit in entspannter Atmosphäre in den Austausch zu gehen. \nMeldet euch gerne an mit einer Mail an buero2.krueger@gruene-fraktion.berlin. Ihr seid natürlich auch spontan willkommen\, aber eine Anmeldung erleichtert uns die Planung.
URL:https://gruene-pankow.de/termin/queerer-kreativabend-zum-idahobit-2023/
LOCATION:Kiezbüro Louis Krüger\, Berliner Straße 89\, 13189
CATEGORIES:Mandatsträger*innen
ORGANIZER;CN="Louis Kr%C3%BCger (MdA)":MAILTO:info@louiskrueger.de
END:VEVENT
END:VCALENDAR