BEGIN:VCALENDAR
VERSION:2.0
PRODID:-//BÜNDNIS 90/DIE GRÜNEN - ECPv6.15.20//NONSGML v1.0//EN
CALSCALE:GREGORIAN
METHOD:PUBLISH
X-WR-CALNAME:BÜNDNIS 90/DIE GRÜNEN
X-ORIGINAL-URL:https://gruene-pankow.de
X-WR-CALDESC:Veranstaltungen für BÜNDNIS 90/DIE GRÜNEN
REFRESH-INTERVAL;VALUE=DURATION:PT1H
X-Robots-Tag:noindex
X-PUBLISHED-TTL:PT1H
BEGIN:VTIMEZONE
TZID:Europe/Berlin
BEGIN:DAYLIGHT
TZOFFSETFROM:+0100
TZOFFSETTO:+0200
TZNAME:CEST
DTSTART:20250330T010000
END:DAYLIGHT
BEGIN:STANDARD
TZOFFSETFROM:+0200
TZOFFSETTO:+0100
TZNAME:CET
DTSTART:20251026T010000
END:STANDARD
BEGIN:DAYLIGHT
TZOFFSETFROM:+0100
TZOFFSETTO:+0200
TZNAME:CEST
DTSTART:20260329T010000
END:DAYLIGHT
BEGIN:STANDARD
TZOFFSETFROM:+0200
TZOFFSETTO:+0100
TZNAME:CET
DTSTART:20261025T010000
END:STANDARD
BEGIN:DAYLIGHT
TZOFFSETFROM:+0100
TZOFFSETTO:+0200
TZNAME:CEST
DTSTART:20270328T010000
END:DAYLIGHT
BEGIN:STANDARD
TZOFFSETFROM:+0200
TZOFFSETTO:+0100
TZNAME:CET
DTSTART:20271031T010000
END:STANDARD
END:VTIMEZONE
BEGIN:VEVENT
DTSTART;TZID=Europe/Berlin:20260305T190000
DTEND;TZID=Europe/Berlin:20260305T210000
DTSTAMP:20260421T172511
CREATED:20260209T163926Z
LAST-MODIFIED:20260209T163926Z
UID:16570-1772737200-1772744400@gruene-pankow.de
SUMMARY:Stammtisch Nordost
DESCRIPTION:Stadtteilübergreifender Stammtisch Nordost für Mitglieder und Interessierte aus dem Nordosten des Bezirks\, von Blankenfelde bis Blankenburg. Dies ist eine regelmäßige gemeinsame Veranstaltung der Stadtteilgruppen Blankenfelde und Französisch Buchholz\, Buch und Karow sowie Blankenburg\, Heinersdorf und Stadtrandsiedlung Malchow. \n\n\n\nVorort vernetzen: mit anderen Mitgliedern aus der direkten Umgebung\nVorort kennenlernen: mit Pankower Mandatsträger*innen aktuelle Themen erörtern\nVorort aktiv werden: Initiativen\, Ideen\, Anträge\, Stände\, Streifzüge – im Norden ist immer was los!
URL:https://gruene-pankow.de/termin/stammtisch-nordost-15/
LOCATION:Der Eiserne Gustav\, Hauptstraße 59a\, Berlin-Französisch Buchholz\, 13127
CATEGORIES:Kreisverband,Stadtteilgruppen
ATTACH;FMTTYPE=image/png:https://gruene-pankow.de/wp-content/uploads/2023/09/Gruener-Stammtisch.png
END:VEVENT
BEGIN:VEVENT
DTSTART;TZID=Europe/Berlin:20260313T190000
DTEND;TZID=Europe/Berlin:20260313T210000
DTSTAMP:20260421T172511
CREATED:20260129T204007Z
LAST-MODIFIED:20260309T180432Z
UID:16426-1773428400-1773435600@gruene-pankow.de
SUMMARY:Grüner Treff der Stadtteilgruppe Blankenfelde und Französisch Buchholz
DESCRIPTION:Bei unserem Grünen Treff möchten wir Mitgliedern und Interessierten unserer Stadtteilgruppe in Blankenfelde und Französisch Buchholz die Möglichkeit geben\, sich gegenseitig kennenzulernen und auszutauschen.
URL:https://gruene-pankow.de/termin/gruener-treff-der-stadtteilgruppe-blankenfelde-und-franzoesisch-buchholz-2/
LOCATION:Trattoria Amalfi\, Rosenthaler Weg 62\, Berlin\, 13127\, Germany
CATEGORIES:Stadtteilgruppen
ATTACH;FMTTYPE=image/png:https://gruene-pankow.de/wp-content/uploads/2023/11/SG-Blankenfelde-und-Franzoesisch-Buchholz.png
ORGANIZER;CN="SG Blankenfelde und Franz%C3%B6sisch Buchholz":MAILTO:blankenfelde-franz-buchholz@gruene-pankow.de
END:VEVENT
BEGIN:VEVENT
DTSTART;TZID=Europe/Berlin:20260321T150000
DTEND;TZID=Europe/Berlin:20260321T160000
DTSTAMP:20260421T172511
CREATED:20260313T093010Z
LAST-MODIFIED:20260313T093010Z
UID:17145-1774105200-1774108800@gruene-pankow.de
SUMMARY:Cordelia Koch zu Gast: Interkulturelles Frühlingsfest Französisch Buchholz
DESCRIPTION:
URL:https://gruene-pankow.de/termin/cordelia-koch-zu-gast-interkulturelles-fruehlingsfest-franzoesisch-buchholz/
CATEGORIES:Bezirk,Mandatsträger*innen
ATTACH;FMTTYPE=image/png:https://gruene-pankow.de/wp-content/uploads/2026/03/Profil-Foto-Cordelia.png
END:VEVENT
END:VCALENDAR