BEGIN:VCALENDAR
VERSION:2.0
PRODID:-//BÜNDNIS 90/DIE GRÜNEN - ECPv6.15.20//NONSGML v1.0//EN
CALSCALE:GREGORIAN
METHOD:PUBLISH
X-ORIGINAL-URL:https://gruene-pankow.de
X-WR-CALDESC:Veranstaltungen für BÜNDNIS 90/DIE GRÜNEN
REFRESH-INTERVAL;VALUE=DURATION:PT1H
X-Robots-Tag:noindex
X-PUBLISHED-TTL:PT1H
BEGIN:VTIMEZONE
TZID:Europe/Berlin
BEGIN:DAYLIGHT
TZOFFSETFROM:+0100
TZOFFSETTO:+0200
TZNAME:CEST
DTSTART:20230326T010000
END:DAYLIGHT
BEGIN:STANDARD
TZOFFSETFROM:+0200
TZOFFSETTO:+0100
TZNAME:CET
DTSTART:20231029T010000
END:STANDARD
BEGIN:DAYLIGHT
TZOFFSETFROM:+0100
TZOFFSETTO:+0200
TZNAME:CEST
DTSTART:20240331T010000
END:DAYLIGHT
BEGIN:STANDARD
TZOFFSETFROM:+0200
TZOFFSETTO:+0100
TZNAME:CET
DTSTART:20241027T010000
END:STANDARD
BEGIN:DAYLIGHT
TZOFFSETFROM:+0100
TZOFFSETTO:+0200
TZNAME:CEST
DTSTART:20250330T010000
END:DAYLIGHT
BEGIN:STANDARD
TZOFFSETFROM:+0200
TZOFFSETTO:+0100
TZNAME:CET
DTSTART:20251026T010000
END:STANDARD
END:VTIMEZONE
BEGIN:VEVENT
DTSTART;TZID=Europe/Berlin:20240518T180000
DTEND;TZID=Europe/Berlin:20240518T200000
DTSTAMP:20260421T154940
CREATED:20240408T072420Z
LAST-MODIFIED:20240514T193910Z
UID:9197-1716055200-1716062400@gruene-pankow.de
SUMMARY:Europa-politisches Picknick – mit dem EU-Kandidaten Can Aru und dem EU-Abgeordneten Erik Marquardt
DESCRIPTION:Wir laden Euch herzlich ein zu unserem europapolitischen Picknick am 18. Mai 2024! Trefft den EU-Abgeordneten Erik Marquardt und den Kandidaten Can Aru von BÜNDNIS 90/DIE GRÜNEN zu einer spannenden Diskussion über die Zukunft Europas am Schlosspark Schönhausen (Treffpunkt: Ossietzkystraße\, Ecke Elisabethweg). \nErik Marquardt wird mit euch über die drängenden Themen unserer Zeit sprechen: Menschenrechte\, Migration und die wachsende Gefahr des Rechtsextremismus. Als Stimme im Europäischen Parlament setzt er sich leidenschaftlich für eine gerechte und solidarische EU ein. \nCan Aru\, Pankower Kommunalpolitiker und Mitglied des Berliner Landesvorstands von BÜNDNIS 90/DIE GRÜNEN\, wird Einblicke geben in seine Arbeit für Jugend\, Mitbestimmung und soziale Teilhabe. Gemeinsam mit Euch diskutieren wir die Zukunft der jungen Generationen und darüber\, wie Europa sie unterstützen kann. \nGemeinsam besprechen wir\, was zählt für die Europawahl am 9. Juni 2024: Klimaschutz\, soziale Teilhabe und die Verteidigung unserer Demokratie. Lösungen suchen und umsetzen – für heute und morgen.
URL:https://gruene-pankow.de/termin/europa-politisches-picknick/
LOCATION:Schlosspark Schönhausen\, Ossietzkystr/ Am Schlosspark\, Berlin-Niederschönhausen\, 13156
CATEGORIES:Europa,Mandatsträger*innen
ATTACH;FMTTYPE=image/png:https://gruene-pankow.de/wp-content/uploads/2024/04/Event-2024-05-18-Instagram-Post.png
END:VEVENT
END:VCALENDAR