BEGIN:VCALENDAR
VERSION:2.0
PRODID:-//BÜNDNIS 90/DIE GRÜNEN - ECPv6.15.20//NONSGML v1.0//EN
CALSCALE:GREGORIAN
METHOD:PUBLISH
X-WR-CALNAME:BÜNDNIS 90/DIE GRÜNEN
X-ORIGINAL-URL:https://gruene-pankow.de
X-WR-CALDESC:Veranstaltungen für BÜNDNIS 90/DIE GRÜNEN
REFRESH-INTERVAL;VALUE=DURATION:PT1H
X-Robots-Tag:noindex
X-PUBLISHED-TTL:PT1H
BEGIN:VTIMEZONE
TZID:Europe/Berlin
BEGIN:DAYLIGHT
TZOFFSETFROM:+0100
TZOFFSETTO:+0200
TZNAME:CEST
DTSTART:20250330T010000
END:DAYLIGHT
BEGIN:STANDARD
TZOFFSETFROM:+0200
TZOFFSETTO:+0100
TZNAME:CET
DTSTART:20251026T010000
END:STANDARD
BEGIN:DAYLIGHT
TZOFFSETFROM:+0100
TZOFFSETTO:+0200
TZNAME:CEST
DTSTART:20260329T010000
END:DAYLIGHT
BEGIN:STANDARD
TZOFFSETFROM:+0200
TZOFFSETTO:+0100
TZNAME:CET
DTSTART:20261025T010000
END:STANDARD
BEGIN:DAYLIGHT
TZOFFSETFROM:+0100
TZOFFSETTO:+0200
TZNAME:CEST
DTSTART:20270328T010000
END:DAYLIGHT
BEGIN:STANDARD
TZOFFSETFROM:+0200
TZOFFSETTO:+0100
TZNAME:CET
DTSTART:20271031T010000
END:STANDARD
END:VTIMEZONE
BEGIN:VEVENT
DTSTART;TZID=Europe/Berlin:20260429T193000
DTEND;TZID=Europe/Berlin:20260429T213000
DTSTAMP:20260424T051510
CREATED:20260417T123811Z
LAST-MODIFIED:20260417T123940Z
UID:17607-1777491000-1777498200@gruene-pankow.de
SUMMARY:Bettina Jarasch im Gespräch mit Cordula Eubel
DESCRIPTION:Obwohl zuletzt im Jahre 2023 eine Wahl zum Abgeordnetenhaus von Berlin stattfand\, wird am 20.09.2026 bereits erneut gewählt. Jedoch wurden die Abgeordneten damals nur für die verbleibende 19. Legislaturperiode gewählt\,\nda es sich bekanntlich um eine Wiederholungswahl handelte; der reguläre Zyklus blieb somit bestehen. \nBettina Jarasch war damals und ist auch in diesem Jahr – gemeinsam mit Co-Fraktionschef Werner Graf – Spitzenkandidatin von Bündnis 90/Die Grünen. Es ist uns eine Ehre\, dass sie zu Gast sein wird im „Café Litten“. Wir freuen uns auf ihr Gespräch mit Cordula Eubel\, in dem sie ihre politischen Erkenntnisse und Zielsetzungen für Berlin erörtern wird. \nDie Veranstaltung beginnt um 19.30 Uhr\, das EmMi LuebesKind-Haus ist ab 18.30 Uhr geöﬀnet. Wir laden Sie herzlich ein\, bei Getränken und Knabbereien vor und nach der Veranstaltung etwas im Haus zu verweilen. \nWegen der begrenzten Platzzahl ist eine Anmeldung erforderlich über die Mailadresse info@stiftung-emmi-luebeskind.de.
URL:https://gruene-pankow.de/termin/bettina-jarasch-im-gespraech-mit-cordula-eubel/
LOCATION:EmMi LuebesKind-Haus\, Littenstraße 87\, Berlin-Mitte\, 10179
CATEGORIES:Berlin,Mandatsträger*innen
ATTACH;FMTTYPE=image/png:https://gruene-pankow.de/wp-content/uploads/2025/11/Profil-Foto-Bettina.png
END:VEVENT
END:VCALENDAR