BEGIN:VCALENDAR
VERSION:2.0
PRODID:-//BÜNDNIS 90/DIE GRÜNEN - ECPv6.15.20//NONSGML v1.0//EN
CALSCALE:GREGORIAN
METHOD:PUBLISH
X-WR-CALNAME:BÜNDNIS 90/DIE GRÜNEN
X-ORIGINAL-URL:https://gruene-pankow.de
X-WR-CALDESC:Veranstaltungen für BÜNDNIS 90/DIE GRÜNEN
REFRESH-INTERVAL;VALUE=DURATION:PT1H
X-Robots-Tag:noindex
X-PUBLISHED-TTL:PT1H
BEGIN:VTIMEZONE
TZID:Europe/Berlin
BEGIN:DAYLIGHT
TZOFFSETFROM:+0100
TZOFFSETTO:+0200
TZNAME:CEST
DTSTART:20210328T010000
END:DAYLIGHT
BEGIN:STANDARD
TZOFFSETFROM:+0200
TZOFFSETTO:+0100
TZNAME:CET
DTSTART:20211031T010000
END:STANDARD
BEGIN:DAYLIGHT
TZOFFSETFROM:+0100
TZOFFSETTO:+0200
TZNAME:CEST
DTSTART:20220327T010000
END:DAYLIGHT
BEGIN:STANDARD
TZOFFSETFROM:+0200
TZOFFSETTO:+0100
TZNAME:CET
DTSTART:20221030T010000
END:STANDARD
BEGIN:DAYLIGHT
TZOFFSETFROM:+0100
TZOFFSETTO:+0200
TZNAME:CEST
DTSTART:20230326T010000
END:DAYLIGHT
BEGIN:STANDARD
TZOFFSETFROM:+0200
TZOFFSETTO:+0100
TZNAME:CET
DTSTART:20231029T010000
END:STANDARD
END:VTIMEZONE
BEGIN:VEVENT
DTSTART;TZID=Europe/Berlin:20221208T193000
DTEND;TZID=Europe/Berlin:20221208T213000
DTSTAMP:20260421T210151
CREATED:20221120T111127Z
LAST-MODIFIED:20251120T085330Z
UID:4356-1670527800-1670535000@gruene-pankow.de
SUMMARY:Grüner Stammtisch Pankow-Nord-Ost – mit Christoph Göring und Susanne Jahn
DESCRIPTION:Vorort vernetzen: mit anderen Mitgliedern aus der direkten Umgebung und der AG Pankow-Nord.\nVorort kennenlernen: Unsere Wahlkreiskandidat*innen Christoph und Susanne sind dabei!\nVorort aktiv werden: Auf geht’s in den Winterwahlkampf!\n\nBei Interesse meldet euch gerne unter kontakt-stammtisch-nord-ost@gruene-pankow.de.
URL:https://gruene-pankow.de/termin/gruener-stammtisch-pankow-nord-ost/
CATEGORIES:Arbeitsgemeinschaften,Kreisverband
END:VEVENT
END:VCALENDAR