BEGIN:VCALENDAR
VERSION:2.0
PRODID:-//BÜNDNIS 90/DIE GRÜNEN - ECPv6.15.20//NONSGML v1.0//EN
CALSCALE:GREGORIAN
METHOD:PUBLISH
X-ORIGINAL-URL:https://gruene-pankow.de
X-WR-CALDESC:Veranstaltungen für BÜNDNIS 90/DIE GRÜNEN
REFRESH-INTERVAL;VALUE=DURATION:PT1H
X-Robots-Tag:noindex
X-PUBLISHED-TTL:PT1H
BEGIN:VTIMEZONE
TZID:Europe/Berlin
BEGIN:DAYLIGHT
TZOFFSETFROM:+0100
TZOFFSETTO:+0200
TZNAME:CEST
DTSTART:20240331T010000
END:DAYLIGHT
BEGIN:STANDARD
TZOFFSETFROM:+0200
TZOFFSETTO:+0100
TZNAME:CET
DTSTART:20241027T010000
END:STANDARD
BEGIN:DAYLIGHT
TZOFFSETFROM:+0100
TZOFFSETTO:+0200
TZNAME:CEST
DTSTART:20250330T010000
END:DAYLIGHT
BEGIN:STANDARD
TZOFFSETFROM:+0200
TZOFFSETTO:+0100
TZNAME:CET
DTSTART:20251026T010000
END:STANDARD
BEGIN:DAYLIGHT
TZOFFSETFROM:+0100
TZOFFSETTO:+0200
TZNAME:CEST
DTSTART:20260329T010000
END:DAYLIGHT
BEGIN:STANDARD
TZOFFSETFROM:+0200
TZOFFSETTO:+0100
TZNAME:CET
DTSTART:20261025T010000
END:STANDARD
END:VTIMEZONE
BEGIN:VEVENT
DTSTART;TZID=Europe/Berlin:20251101T140000
DTEND;TZID=Europe/Berlin:20251101T160000
DTSTAMP:20260419T214548
CREATED:20251017T100715Z
LAST-MODIFIED:20251017T100715Z
UID:14852-1762005600-1762012800@gruene-pankow.de
SUMMARY:CleanUp\, GreenUp! Kiezputz zwischen Prenzlauer Berg und Weißensee
DESCRIPTION:Gemeinsam mit Euch machen wir die Nachbarschaft schöner! Gern wollen wir auch Eure Ideen und Anliegen im Kiez besprechen. Mit dabei sind Can Aru\, Nicolas Scharioth und Oliver Jütting\, die sich um ein Direktmandat bewerben in Prenzlauer Berg und Weißensee. \nTreffpunkt: Ecke Greifswalder Straße / Ostseestraße.
URL:https://gruene-pankow.de/termin/cleanup-greenup-kiezputz-zwischen-prenzlauer-berg-und-weissensee/
LOCATION:Ecke Greifswalder Straße / Ostseestraße\, Greifswalder Straße / Ostseestraße\, Berlin-Prenzlauer Berg\, 10409
CATEGORIES:Berlin,Bezirk,Mandatsträger*innen,Stadtteilgruppen
ATTACH;FMTTYPE=image/png:https://gruene-pankow.de/wp-content/uploads/2024/06/CleanUp-allgemein.png
END:VEVENT
BEGIN:VEVENT
DTSTART;TZID=Europe/Berlin:20251118T190000
DTEND;TZID=Europe/Berlin:20251118T210000
DTSTAMP:20260419T214548
CREATED:20251117T115719Z
LAST-MODIFIED:20251117T115741Z
UID:15071-1763492400-1763499600@gruene-pankow.de
SUMMARY:Treffen der Stadtteilgruppen-Sprecher*innen Wahlkreis 7
DESCRIPTION:
URL:https://gruene-pankow.de/termin/treffen-der-stadtteilgruppen-sprecherinnen-wahlkreis-7/
LOCATION:Kreisgeschäftsstelle (kleiner Raum)\, Pappelallee 84\, Berlin-Prenzlauer Berg\, 10437
CATEGORIES:Kreisverband,Stadtteilgruppen
ATTACH;FMTTYPE=image/png:https://gruene-pankow.de/wp-content/uploads/2024/05/Stadtteilgruppen.png
END:VEVENT
END:VCALENDAR