BEGIN:VCALENDAR
VERSION:2.0
PRODID:-//BÜNDNIS 90/DIE GRÜNEN - ECPv6.15.20//NONSGML v1.0//EN
CALSCALE:GREGORIAN
METHOD:PUBLISH
X-ORIGINAL-URL:https://gruene-pankow.de
X-WR-CALDESC:Veranstaltungen für BÜNDNIS 90/DIE GRÜNEN
REFRESH-INTERVAL;VALUE=DURATION:PT1H
X-Robots-Tag:noindex
X-PUBLISHED-TTL:PT1H
BEGIN:VTIMEZONE
TZID:Europe/Berlin
BEGIN:DAYLIGHT
TZOFFSETFROM:+0100
TZOFFSETTO:+0200
TZNAME:CEST
DTSTART:20240331T010000
END:DAYLIGHT
BEGIN:STANDARD
TZOFFSETFROM:+0200
TZOFFSETTO:+0100
TZNAME:CET
DTSTART:20241027T010000
END:STANDARD
BEGIN:DAYLIGHT
TZOFFSETFROM:+0100
TZOFFSETTO:+0200
TZNAME:CEST
DTSTART:20250330T010000
END:DAYLIGHT
BEGIN:STANDARD
TZOFFSETFROM:+0200
TZOFFSETTO:+0100
TZNAME:CET
DTSTART:20251026T010000
END:STANDARD
BEGIN:DAYLIGHT
TZOFFSETFROM:+0100
TZOFFSETTO:+0200
TZNAME:CEST
DTSTART:20260329T010000
END:DAYLIGHT
BEGIN:STANDARD
TZOFFSETFROM:+0200
TZOFFSETTO:+0100
TZNAME:CET
DTSTART:20261025T010000
END:STANDARD
END:VTIMEZONE
BEGIN:VEVENT
DTSTART;TZID=Europe/Berlin:20250819T200000
DTEND;TZID=Europe/Berlin:20250819T220000
DTSTAMP:20260419T163830
CREATED:20250721T110237Z
LAST-MODIFIED:20250721T110237Z
UID:14018-1755633600-1755640800@gruene-pankow.de
SUMMARY:Sommer-Treff mit Daniela Billig\, Oliver Jütting und Can Aru
DESCRIPTION:Offene Runde zum Kennenlernen und Wiedersehen mit kühlen Getränken\, netten Menschen und entspannten Gesprächen. Als Gastgeber diesmal dabei: \n\nDaniela Billig\, Mitglied des Abgeordnetenhauses von Berlin für den Südwesten des Prenzlauer Berg\,\nOliver Jütting\, Vorsteher der Pankower Bezirksverordnetenversammlung\, und\nCan Aru\, Mitglied des Landesvorstands und Bezirksverordneter in Pankow.
URL:https://gruene-pankow.de/termin/sommer-treff-mit-daniela-billig-oliver-juetting-und-can-aru/
LOCATION:Kreisgeschäftsstelle\, Pappelallee 84\, Berlin-Prenzlauer Berg\, 10437
CATEGORIES:Berlin,Bezirk,Kreisverband,Mandatsträger*innen
ATTACH;FMTTYPE=image/png:https://gruene-pankow.de/wp-content/uploads/2025/07/Sommer-Treffs-2025.png
END:VEVENT
BEGIN:VEVENT
DTSTART;TZID=Europe/Berlin:20250826T200000
DTEND;TZID=Europe/Berlin:20250826T220000
DTSTAMP:20260419T163831
CREATED:20250721T110519Z
LAST-MODIFIED:20250721T110519Z
UID:14020-1756238400-1756245600@gruene-pankow.de
SUMMARY:Sommer-Treff mit Bettina Jarasch\, Paul Schlüter und Can Aru
DESCRIPTION:Offene Runde zum Kennenlernen und Wiedersehen mit kühlen Getränken\, netten Menschen und entspannten Gesprächen. Als Gastgeber diesmal dabei: \n\nBettina Jarasch\, Vorsitzende unserer Fraktion im Abgeordnetenhaus von Berlin\,\nPaul Schlüter\, Vorsitzender unserer Fraktion in der Pankower Bezirksverordnetenversammlung\, und\nCan Aru\, Mitglied des Landesvorstands und Bezirksverordneter in Pankow.
URL:https://gruene-pankow.de/termin/sommer-treff-mit-bettina-jarasch-paul-schlueter-und-can-aru/
LOCATION:Kiezbüro B5\, Berliner Straße 5\, Berlin-Pankow\, 13187
CATEGORIES:Berlin,Bezirk,Kreisverband,Mandatsträger*innen
ATTACH;FMTTYPE=image/png:https://gruene-pankow.de/wp-content/uploads/2025/07/Sommer-Treffs-2025.png
END:VEVENT
END:VCALENDAR