BEGIN:VCALENDAR
VERSION:2.0
PRODID:-//BÜNDNIS 90/DIE GRÜNEN - ECPv6.15.20//NONSGML v1.0//EN
CALSCALE:GREGORIAN
METHOD:PUBLISH
X-WR-CALNAME:BÜNDNIS 90/DIE GRÜNEN
X-ORIGINAL-URL:https://gruene-pankow.de
X-WR-CALDESC:Veranstaltungen für BÜNDNIS 90/DIE GRÜNEN
REFRESH-INTERVAL;VALUE=DURATION:PT1H
X-Robots-Tag:noindex
X-PUBLISHED-TTL:PT1H
BEGIN:VTIMEZONE
TZID:Europe/Berlin
BEGIN:DAYLIGHT
TZOFFSETFROM:+0100
TZOFFSETTO:+0200
TZNAME:CEST
DTSTART:20250330T010000
END:DAYLIGHT
BEGIN:STANDARD
TZOFFSETFROM:+0200
TZOFFSETTO:+0100
TZNAME:CET
DTSTART:20251026T010000
END:STANDARD
BEGIN:DAYLIGHT
TZOFFSETFROM:+0100
TZOFFSETTO:+0200
TZNAME:CEST
DTSTART:20260329T010000
END:DAYLIGHT
BEGIN:STANDARD
TZOFFSETFROM:+0200
TZOFFSETTO:+0100
TZNAME:CET
DTSTART:20261025T010000
END:STANDARD
BEGIN:DAYLIGHT
TZOFFSETFROM:+0100
TZOFFSETTO:+0200
TZNAME:CEST
DTSTART:20270328T010000
END:DAYLIGHT
BEGIN:STANDARD
TZOFFSETFROM:+0200
TZOFFSETTO:+0100
TZNAME:CET
DTSTART:20271031T010000
END:STANDARD
END:VTIMEZONE
BEGIN:VEVENT
DTSTART;TZID=Europe/Berlin:20260316T190000
DTEND;TZID=Europe/Berlin:20260316T210000
DTSTAMP:20260419T192827
CREATED:20251215T102405Z
LAST-MODIFIED:20260210T133623Z
UID:15676-1773687600-1773694800@gruene-pankow.de
SUMMARY:AG Mobilität\, Grün & Stadtentwicklung der BVV-Fraktion
DESCRIPTION:Die Arbeitsgruppe Mobilität\, Grün und Stadtentwicklung der BVV-Fraktion diskutiert regelmäßig strategische und aktuelle Fragen aus den Bereichen Stadtentwicklung\, Tiefbau\, Grünflächen und Umwelt im Bezirk Pankow. Anregungen\, Vorschläge und BVV-Antragsentwürfe können ebenfalls von dieser Arbeitsgruppe beraten und qualifiziert werden. \nInformationen zur Online-Teilnahme bitte bei Almuth Tharan (BVV-Fraktionssprecherin für Stadtentwicklung und öffentlichen Raum) erfragen unter almuth.tharan@gruene-pankow.de. In den Arbeitsgruppen der Fraktion sind neben den Fraktionsmitgliedern all diejenigen willkommen\, die sich für bündnisgrüne Kommunalpolitik in Pankow interessieren und den Bezirk mit uns gemeinsam gestalten wollen.
URL:https://gruene-pankow.de/termin/ag-mobilitaet-gruen-stadtentwicklung-der-bvv-fraktion-23/
LOCATION:Online
CATEGORIES:Bezirk
ATTACH;FMTTYPE=image/png:https://gruene-pankow.de/wp-content/uploads/2023/06/BVV-AG-MobiGruenStadt.png
END:VEVENT
END:VCALENDAR