BEGIN:VCALENDAR
VERSION:2.0
PRODID:-//BÜNDNIS 90/DIE GRÜNEN - ECPv6.15.20//NONSGML v1.0//EN
CALSCALE:GREGORIAN
METHOD:PUBLISH
X-WR-CALNAME:BÜNDNIS 90/DIE GRÜNEN
X-ORIGINAL-URL:https://gruene-pankow.de
X-WR-CALDESC:Veranstaltungen für BÜNDNIS 90/DIE GRÜNEN
REFRESH-INTERVAL;VALUE=DURATION:PT1H
X-Robots-Tag:noindex
X-PUBLISHED-TTL:PT1H
BEGIN:VTIMEZONE
TZID:Europe/Berlin
BEGIN:DAYLIGHT
TZOFFSETFROM:+0100
TZOFFSETTO:+0200
TZNAME:CEST
DTSTART:20240331T010000
END:DAYLIGHT
BEGIN:STANDARD
TZOFFSETFROM:+0200
TZOFFSETTO:+0100
TZNAME:CET
DTSTART:20241027T010000
END:STANDARD
BEGIN:DAYLIGHT
TZOFFSETFROM:+0100
TZOFFSETTO:+0200
TZNAME:CEST
DTSTART:20250330T010000
END:DAYLIGHT
BEGIN:STANDARD
TZOFFSETFROM:+0200
TZOFFSETTO:+0100
TZNAME:CET
DTSTART:20251026T010000
END:STANDARD
BEGIN:DAYLIGHT
TZOFFSETFROM:+0100
TZOFFSETTO:+0200
TZNAME:CEST
DTSTART:20260329T010000
END:DAYLIGHT
BEGIN:STANDARD
TZOFFSETFROM:+0200
TZOFFSETTO:+0100
TZNAME:CET
DTSTART:20261025T010000
END:STANDARD
END:VTIMEZONE
BEGIN:VEVENT
DTSTART;TZID=Europe/Berlin:20251013T190000
DTEND;TZID=Europe/Berlin:20251013T210000
DTSTAMP:20260420T050029
CREATED:20250902T140659Z
LAST-MODIFIED:20260107T121219Z
UID:14329-1760382000-1760389200@gruene-pankow.de
SUMMARY:AG Mobilität\, Grün & Stadtentwicklung der BVV-Fraktion
DESCRIPTION:Informationen zur Online-Teilnahme bitte bei Almuth Tharan (BVV-Fraktionssprecherin für Stadtentwicklung und öffentlichen Raum) erfragen unter almuth.tharan@gruene-pankow.de.
URL:https://gruene-pankow.de/termin/ag-mobilitaet-gruen-stadtentwicklung-der-bvv-fraktion-20/
LOCATION:Online
CATEGORIES:Bezirk
ATTACH;FMTTYPE=image/png:https://gruene-pankow.de/wp-content/uploads/2023/06/BVV-AG-MobiGruenStadt.png
END:VEVENT
END:VCALENDAR