BEGIN:VCALENDAR
VERSION:2.0
PRODID:-//BÜNDNIS 90/DIE GRÜNEN - ECPv6.15.20//NONSGML v1.0//EN
CALSCALE:GREGORIAN
METHOD:PUBLISH
X-WR-CALNAME:BÜNDNIS 90/DIE GRÜNEN
X-ORIGINAL-URL:https://gruene-pankow.de
X-WR-CALDESC:Veranstaltungen für BÜNDNIS 90/DIE GRÜNEN
REFRESH-INTERVAL;VALUE=DURATION:PT1H
X-Robots-Tag:noindex
X-PUBLISHED-TTL:PT1H
BEGIN:VTIMEZONE
TZID:Europe/Berlin
BEGIN:DAYLIGHT
TZOFFSETFROM:+0100
TZOFFSETTO:+0200
TZNAME:CEST
DTSTART:20250330T010000
END:DAYLIGHT
BEGIN:STANDARD
TZOFFSETFROM:+0200
TZOFFSETTO:+0100
TZNAME:CET
DTSTART:20251026T010000
END:STANDARD
BEGIN:DAYLIGHT
TZOFFSETFROM:+0100
TZOFFSETTO:+0200
TZNAME:CEST
DTSTART:20260329T010000
END:DAYLIGHT
BEGIN:STANDARD
TZOFFSETFROM:+0200
TZOFFSETTO:+0100
TZNAME:CET
DTSTART:20261025T010000
END:STANDARD
BEGIN:DAYLIGHT
TZOFFSETFROM:+0100
TZOFFSETTO:+0200
TZNAME:CEST
DTSTART:20270328T010000
END:DAYLIGHT
BEGIN:STANDARD
TZOFFSETFROM:+0200
TZOFFSETTO:+0100
TZNAME:CET
DTSTART:20271031T010000
END:STANDARD
END:VTIMEZONE
BEGIN:VEVENT
DTSTART;TZID=Europe/Berlin:20260603T183000
DTEND;TZID=Europe/Berlin:20260603T203000
DTSTAMP:20260419T195109
CREATED:20260413T071452Z
LAST-MODIFIED:20260413T115956Z
UID:17463-1780511400-1780518600@gruene-pankow.de
SUMMARY:AG Bildung\, Jugend und Familie
DESCRIPTION:Auftaktsitzung der neuen Arbeitsgruppe Bildung\, Jugend\, Familie: Wir erfahren Neuigkeiten aus AGH und BVV und nehmen uns die Zeit um zum Thema „Schulplätze an Oberschulen in Pankow“ zu diskutieren.
URL:https://gruene-pankow.de/termin/ag-bildung-jugend-und-familie/
LOCATION:Kreisgeschäftsstelle (großer Raum)\, Pappelallee 84\, Berlin-Prenzlauer Berg\, 10437
CATEGORIES:Arbeitsgemeinschaften
END:VEVENT
END:VCALENDAR