BEGIN:VCALENDAR
VERSION:2.0
PRODID:-//BÜNDNIS 90/DIE GRÜNEN - ECPv6.15.20//NONSGML v1.0//EN
CALSCALE:GREGORIAN
METHOD:PUBLISH
X-WR-CALNAME:BÜNDNIS 90/DIE GRÜNEN
X-ORIGINAL-URL:https://gruene-pankow.de
X-WR-CALDESC:Veranstaltungen für BÜNDNIS 90/DIE GRÜNEN
REFRESH-INTERVAL;VALUE=DURATION:PT1H
X-Robots-Tag:noindex
X-PUBLISHED-TTL:PT1H
BEGIN:VTIMEZONE
TZID:Europe/Berlin
BEGIN:DAYLIGHT
TZOFFSETFROM:+0100
TZOFFSETTO:+0200
TZNAME:CEST
DTSTART:20250330T010000
END:DAYLIGHT
BEGIN:STANDARD
TZOFFSETFROM:+0200
TZOFFSETTO:+0100
TZNAME:CET
DTSTART:20251026T010000
END:STANDARD
BEGIN:DAYLIGHT
TZOFFSETFROM:+0100
TZOFFSETTO:+0200
TZNAME:CEST
DTSTART:20260329T010000
END:DAYLIGHT
BEGIN:STANDARD
TZOFFSETFROM:+0200
TZOFFSETTO:+0100
TZNAME:CET
DTSTART:20261025T010000
END:STANDARD
BEGIN:DAYLIGHT
TZOFFSETFROM:+0100
TZOFFSETTO:+0200
TZNAME:CEST
DTSTART:20270328T010000
END:DAYLIGHT
BEGIN:STANDARD
TZOFFSETFROM:+0200
TZOFFSETTO:+0100
TZNAME:CET
DTSTART:20271031T010000
END:STANDARD
END:VTIMEZONE
BEGIN:VEVENT
DTSTART;TZID=Europe/Berlin:20261201T190000
DTEND;TZID=Europe/Berlin:20261201T210000
DTSTAMP:20260419T212803
CREATED:20251119T205809Z
LAST-MODIFIED:20251126T190454Z
UID:15252-1796151600-1796158800@gruene-pankow.de
SUMMARY:Sitzung des Kreisvorstands
DESCRIPTION:
URL:https://gruene-pankow.de/termin/sitzung-des-kreisvorstands-89/
LOCATION:Kreisgeschäftsstelle (großer Raum)\, Pappelallee 84\, Berlin-Prenzlauer Berg\, 10437
CATEGORIES:Kreisvorstand
END:VEVENT
BEGIN:VEVENT
DTSTART;TZID=Europe/Berlin:20261208T190000
DTEND;TZID=Europe/Berlin:20261208T194500
DTSTAMP:20260419T212803
CREATED:20260122T142106Z
LAST-MODIFIED:20260122T142106Z
UID:16290-1796756400-1796759100@gruene-pankow.de
SUMMARY:Neumitglieder-Treffen
DESCRIPTION:Du willst aktiv werden und Dich für Deinen Kiez oder Dein Thema engagieren? Du bist neu in der Partei oder gerade in den Bezirk gezogen? Du möchtest Dich einbringen und suchst Anschluss? Bei unserem Neumitglieder-Treffen kannst Du unseren Kreisverband kennenlernen und Dich vernetzen!
URL:https://gruene-pankow.de/termin/neumitglieder-treffen-14/
LOCATION:Kulturmarkthalle\, Hanns-Eisler-Straße 93\, Berlin-Prenzlauer Berg\, 10409
CATEGORIES:Neumitglieder
ATTACH;FMTTYPE=image/png:https://gruene-pankow.de/wp-content/uploads/2023/11/Neumitglieder-Treffen.png
END:VEVENT
BEGIN:VEVENT
DTSTART;TZID=Europe/Berlin:20261208T200000
DTEND;TZID=Europe/Berlin:20261208T220000
DTSTAMP:20260419T212803
CREATED:20251119T205810Z
LAST-MODIFIED:20260108T120851Z
UID:15253-1796760000-1796767200@gruene-pankow.de
SUMMARY:Mitgliederversammlung im Dezember 2026
DESCRIPTION:
URL:https://gruene-pankow.de/termin/mitgliederversammlung-im-dezember-2026/
LOCATION:Kulturmarkthalle\, Hanns-Eisler-Straße 93\, Berlin-Prenzlauer Berg\, 10409
CATEGORIES:Mitglieder
END:VEVENT
BEGIN:VEVENT
DTSTART;TZID=Europe/Berlin:20261215T190000
DTEND;TZID=Europe/Berlin:20261215T210000
DTSTAMP:20260419T212803
CREATED:20251119T205810Z
LAST-MODIFIED:20251119T205810Z
UID:15254-1797361200-1797368400@gruene-pankow.de
SUMMARY:Sitzung des Kreisvorstands
DESCRIPTION:
URL:https://gruene-pankow.de/termin/sitzung-des-kreisvorstands-90/
LOCATION:Kreisgeschäftsstelle (großer Raum)\, Pappelallee 84\, Berlin-Prenzlauer Berg\, 10437
CATEGORIES:Kreisvorstand
END:VEVENT
BEGIN:VEVENT
DTSTART;TZID=Europe/Berlin:20261218T080000
DTEND;TZID=Europe/Berlin:20261218T090000
DTSTAMP:20260419T212803
CREATED:20251119T205818Z
LAST-MODIFIED:20251121T085558Z
UID:15256-1797580800-1797584400@gruene-pankow.de
SUMMARY:Koordinationsrat
DESCRIPTION:
URL:https://gruene-pankow.de/termin/koordinationsrat-50/
LOCATION:Online
CATEGORIES:Kreisvorstand
END:VEVENT
END:VCALENDAR