BEGIN:VCALENDAR
VERSION:2.0
PRODID:-//BÜNDNIS 90/DIE GRÜNEN - ECPv6.15.20//NONSGML v1.0//EN
CALSCALE:GREGORIAN
METHOD:PUBLISH
X-WR-CALNAME:BÜNDNIS 90/DIE GRÜNEN
X-ORIGINAL-URL:https://gruene-pankow.de
X-WR-CALDESC:Veranstaltungen für BÜNDNIS 90/DIE GRÜNEN
REFRESH-INTERVAL;VALUE=DURATION:PT1H
X-Robots-Tag:noindex
X-PUBLISHED-TTL:PT1H
BEGIN:VTIMEZONE
TZID:Europe/Berlin
BEGIN:DAYLIGHT
TZOFFSETFROM:+0100
TZOFFSETTO:+0200
TZNAME:CEST
DTSTART:20250330T010000
END:DAYLIGHT
BEGIN:STANDARD
TZOFFSETFROM:+0200
TZOFFSETTO:+0100
TZNAME:CET
DTSTART:20251026T010000
END:STANDARD
BEGIN:DAYLIGHT
TZOFFSETFROM:+0100
TZOFFSETTO:+0200
TZNAME:CEST
DTSTART:20260329T010000
END:DAYLIGHT
BEGIN:STANDARD
TZOFFSETFROM:+0200
TZOFFSETTO:+0100
TZNAME:CET
DTSTART:20261025T010000
END:STANDARD
BEGIN:DAYLIGHT
TZOFFSETFROM:+0100
TZOFFSETTO:+0200
TZNAME:CEST
DTSTART:20270328T010000
END:DAYLIGHT
BEGIN:STANDARD
TZOFFSETFROM:+0200
TZOFFSETTO:+0100
TZNAME:CET
DTSTART:20271031T010000
END:STANDARD
END:VTIMEZONE
BEGIN:VEVENT
DTSTART;TZID=Europe/Berlin:20261103T190000
DTEND;TZID=Europe/Berlin:20261103T210000
DTSTAMP:20260419T195319
CREATED:20251119T205756Z
LAST-MODIFIED:20251126T190621Z
UID:15242-1793732400-1793739600@gruene-pankow.de
SUMMARY:Sitzung des Kreisvorstands
DESCRIPTION:
URL:https://gruene-pankow.de/termin/sitzung-des-kreisvorstands-87/
LOCATION:Kreisgeschäftsstelle (großer Raum)\, Pappelallee 84\, Berlin-Prenzlauer Berg\, 10437
CATEGORIES:Kreisvorstand
END:VEVENT
BEGIN:VEVENT
DTSTART;TZID=Europe/Berlin:20261110T190000
DTEND;TZID=Europe/Berlin:20261110T194500
DTSTAMP:20260419T195319
CREATED:20260122T142051Z
LAST-MODIFIED:20260122T142051Z
UID:16288-1794337200-1794339900@gruene-pankow.de
SUMMARY:Neumitglieder-Treffen
DESCRIPTION:Du willst aktiv werden und Dich für Deinen Kiez oder Dein Thema engagieren? Du bist neu in der Partei oder gerade in den Bezirk gezogen? Du möchtest Dich einbringen und suchst Anschluss? Bei unserem Neumitglieder-Treffen kannst Du unseren Kreisverband kennenlernen und Dich vernetzen!
URL:https://gruene-pankow.de/termin/neumitglieder-treffen-13/
LOCATION:Kulturmarkthalle\, Hanns-Eisler-Straße 93\, Berlin-Prenzlauer Berg\, 10409
CATEGORIES:Neumitglieder
ATTACH;FMTTYPE=image/png:https://gruene-pankow.de/wp-content/uploads/2023/11/Neumitglieder-Treffen.png
END:VEVENT
BEGIN:VEVENT
DTSTART;TZID=Europe/Berlin:20261110T200000
DTEND;TZID=Europe/Berlin:20261110T220000
DTSTAMP:20260419T195319
CREATED:20251119T205757Z
LAST-MODIFIED:20260108T120717Z
UID:15244-1794340800-1794348000@gruene-pankow.de
SUMMARY:Mitgliederversammlung im November 2026: 1989 – die Wurzeln unserer Zukunft
DESCRIPTION:Als größter ostdeutsche Kreisverband von BÜNDNIS 90/DIE GRÜNEN und aktiv dort\, wo mit Pankow\, Prenzlauer Berg und Weißensse wichtige Wirkungsstätten der Bürgerrechtsbewegung liegen\, werfen wir einen Blick auf die Wurzeln unserer Zukunft.
URL:https://gruene-pankow.de/termin/mitgliederversammlung-im-november-2026-1989-die-wurzeln-unserer-zukunft/
LOCATION:Kulturmarkthalle\, Hanns-Eisler-Straße 93\, Berlin-Prenzlauer Berg\, 10409
CATEGORIES:Mitglieder
END:VEVENT
BEGIN:VEVENT
DTSTART;TZID=Europe/Berlin:20261111T190000
DTEND;TZID=Europe/Berlin:20261111T203000
DTSTAMP:20260419T195319
CREATED:20251230T154736Z
LAST-MODIFIED:20251230T154736Z
UID:15928-1794423600-1794429000@gruene-pankow.de
SUMMARY:Stadtteilgruppe Blankenburg\, Heinersdorf\, Stadtrandsiedlung Malchow
DESCRIPTION:
URL:https://gruene-pankow.de/termin/stadtteilgruppe-blankenburg-heinersdorf-stadtrandsiedlung-malchow-9/
CATEGORIES:Stadtteilgruppen
ATTACH;FMTTYPE=image/png:https://gruene-pankow.de/wp-content/uploads/2024/09/SG-Blankenburg-und-Heinersdorf.png
ORGANIZER;CN="SG Blankenbug und Heinersdorf":MAILTO:blankenburg-heinersdorf@gruene-pankow.de
END:VEVENT
BEGIN:VEVENT
DTSTART;TZID=Europe/Berlin:20261114T100000
DTEND;TZID=Europe/Berlin:20261114T160000
DTSTAMP:20260419T195319
CREATED:20251119T205759Z
LAST-MODIFIED:20251119T205759Z
UID:15245-1794650400-1794672000@gruene-pankow.de
SUMMARY:Klausur des Kreisvorstands und der Geschäftsführung
DESCRIPTION:Alternativ am 21.11.
URL:https://gruene-pankow.de/termin/klausur-des-kreisvorstands-und-der-geschaeftsfuehrung-2/
LOCATION:Kiezbüro B5 (großer Raum)\, Berliner Straße 5\, Berlin-Pankow\, 13187
CATEGORIES:Kreisvorstand
END:VEVENT
BEGIN:VEVENT
DTSTART;TZID=Europe/Berlin:20261117T190000
DTEND;TZID=Europe/Berlin:20261117T210000
DTSTAMP:20260419T195319
CREATED:20251119T205759Z
LAST-MODIFIED:20251119T205759Z
UID:15246-1794942000-1794949200@gruene-pankow.de
SUMMARY:Sitzung des Kreisvorstands
DESCRIPTION:
URL:https://gruene-pankow.de/termin/sitzung-des-kreisvorstands-88/
LOCATION:Kreisgeschäftsstelle (großer Raum)\, Pappelallee 84\, Berlin-Prenzlauer Berg\, 10437
CATEGORIES:Kreisvorstand
END:VEVENT
BEGIN:VEVENT
DTSTART;TZID=Europe/Berlin:20261121T100000
DTEND;TZID=Europe/Berlin:20261121T160000
DTSTAMP:20260419T195319
CREATED:20251119T205800Z
LAST-MODIFIED:20251119T205800Z
UID:15248-1795255200-1795276800@gruene-pankow.de
SUMMARY:Klausur des Kreisvorstands und der Geschäftsführung
DESCRIPTION:Alternativ am 14.11.
URL:https://gruene-pankow.de/termin/klausur-des-kreisvorstands-und-der-geschaeftsfuehrung-3/
LOCATION:Kiezbüro B5 (großer Raum)\, Berliner Straße 5\, Berlin-Pankow\, 13187
CATEGORIES:Kreisvorstand
END:VEVENT
BEGIN:VEVENT
DTSTART;TZID=Europe/Berlin:20261127T160000
DTEND;TZID=Europe/Berlin:20261127T200000
DTSTAMP:20260419T195319
CREATED:20251119T205809Z
LAST-MODIFIED:20251119T205809Z
UID:15250-1795795200-1795809600@gruene-pankow.de
SUMMARY:Klausur Koordinationsrat
DESCRIPTION:
URL:https://gruene-pankow.de/termin/klausur-koordinationsrat/
LOCATION:Kiezbüro B5 (großer Raum)\, Berliner Straße 5\, Berlin-Pankow\, 13187
CATEGORIES:Kreisvorstand
END:VEVENT
BEGIN:VEVENT
DTSTART;TZID=Europe/Berlin:20261128T100000
DTEND;TZID=Europe/Berlin:20261128T160000
DTSTAMP:20260419T195319
CREATED:20251119T205809Z
LAST-MODIFIED:20251119T205809Z
UID:15251-1795860000-1795881600@gruene-pankow.de
SUMMARY:Klausur Koordinationsrat\, erweiterter Koordinationsrat
DESCRIPTION:
URL:https://gruene-pankow.de/termin/klausur-koordinationsrat-erweiterter-koordinationsrat/
LOCATION:Kiezbüro B5 (großer Raum)\, Berliner Straße 5\, Berlin-Pankow\, 13187
CATEGORIES:Kreisvorstand
END:VEVENT
END:VCALENDAR