BEGIN:VCALENDAR
VERSION:2.0
PRODID:-//BÜNDNIS 90/DIE GRÜNEN - ECPv6.15.20//NONSGML v1.0//EN
CALSCALE:GREGORIAN
METHOD:PUBLISH
X-ORIGINAL-URL:https://gruene-pankow.de
X-WR-CALDESC:Veranstaltungen für BÜNDNIS 90/DIE GRÜNEN
REFRESH-INTERVAL;VALUE=DURATION:PT1H
X-Robots-Tag:noindex
X-PUBLISHED-TTL:PT1H
BEGIN:VTIMEZONE
TZID:Europe/Berlin
BEGIN:DAYLIGHT
TZOFFSETFROM:+0100
TZOFFSETTO:+0200
TZNAME:CEST
DTSTART:20250330T010000
END:DAYLIGHT
BEGIN:STANDARD
TZOFFSETFROM:+0200
TZOFFSETTO:+0100
TZNAME:CET
DTSTART:20251026T010000
END:STANDARD
BEGIN:DAYLIGHT
TZOFFSETFROM:+0100
TZOFFSETTO:+0200
TZNAME:CEST
DTSTART:20260329T010000
END:DAYLIGHT
BEGIN:STANDARD
TZOFFSETFROM:+0200
TZOFFSETTO:+0100
TZNAME:CET
DTSTART:20261025T010000
END:STANDARD
BEGIN:DAYLIGHT
TZOFFSETFROM:+0100
TZOFFSETTO:+0200
TZNAME:CEST
DTSTART:20270328T010000
END:DAYLIGHT
BEGIN:STANDARD
TZOFFSETFROM:+0200
TZOFFSETTO:+0100
TZNAME:CET
DTSTART:20271031T010000
END:STANDARD
END:VTIMEZONE
BEGIN:VEVENT
DTSTART;TZID=Europe/Berlin:20260901T190000
DTEND;TZID=Europe/Berlin:20260901T210000
DTSTAMP:20260419T163157
CREATED:20251119T205720Z
LAST-MODIFIED:20251126T190723Z
UID:15230-1788289200-1788296400@gruene-pankow.de
SUMMARY:Sitzung des Kreisvorstands
DESCRIPTION:
URL:https://gruene-pankow.de/termin/sitzung-des-kreisvorstands-83/
LOCATION:Kreisgeschäftsstelle (großer Raum)\, Pappelallee 84\, Berlin-Prenzlauer Berg\, 10437
CATEGORIES:Kreisvorstand
END:VEVENT
BEGIN:VEVENT
DTSTART;TZID=Europe/Berlin:20260907T180000
DTEND;TZID=Europe/Berlin:20260907T200000
DTSTAMP:20260419T163157
CREATED:20260107T120544Z
LAST-MODIFIED:20260107T122300Z
UID:16002-1788804000-1788811200@gruene-pankow.de
SUMMARY:AG Bildung\, Jugend und Familie der BVV-Fraktion
DESCRIPTION:Das Ziel der AG ist es\, einen Raum zu schaffen\, in dem wir über die Themen Familie\, Jugend\, Bildung und Schule in Pankow diskutieren und uns austauschen können. \nDie Einwahldaten können bei Karsten Gloger angefragt werden unter: gloger@gruene-fraktion-pankow.de. In den Arbeitsgruppen der Fraktion sind neben den Fraktionsmitgliedern all diejenigen willkommen\, die sich für bündnisgrüne Kommunalpolitik in Pankow interessieren und den Bezirk mit uns gemeinsam gestalten wollen. \n 
URL:https://gruene-pankow.de/termin/ag-bildung-jugend-und-familie-der-bvv-fraktion-20/
LOCATION:Online
CATEGORIES:Bezirk
ATTACH;FMTTYPE=image/png:https://gruene-pankow.de/wp-content/uploads/2023/02/BVV-AG-BJF.png
END:VEVENT
BEGIN:VEVENT
DTSTART;TZID=Europe/Berlin:20260907T190000
DTEND;TZID=Europe/Berlin:20260907T210000
DTSTAMP:20260419T163157
CREATED:20260303T192343Z
LAST-MODIFIED:20260322T082414Z
UID:16948-1788807600-1788814800@gruene-pankow.de
SUMMARY:AG Soziales und Gesundheit
DESCRIPTION:
URL:https://gruene-pankow.de/termin/ag-soziales-und-gesundheit-12/
LOCATION:Kiezbüro B5 (großer Raum)\, Berliner Straße 5\, Berlin-Pankow\, 13187
CATEGORIES:Arbeitsgemeinschaften
ATTACH;FMTTYPE=image/png:https://gruene-pankow.de/wp-content/uploads/2025/05/AG-Soziales-und-Gesundheit.png
END:VEVENT
BEGIN:VEVENT
DTSTART;TZID=Europe/Berlin:20260909T190000
DTEND;TZID=Europe/Berlin:20260909T203000
DTSTAMP:20260419T163157
CREATED:20251230T154715Z
LAST-MODIFIED:20251230T154715Z
UID:15926-1788980400-1788985800@gruene-pankow.de
SUMMARY:Stadtteilgruppe Blankenburg\, Heinersdorf\, Stadtrandsiedlung Malchow
DESCRIPTION:
URL:https://gruene-pankow.de/termin/stadtteilgruppe-blankenburg-heinersdorf-stadtrandsiedlung-malchow-8/
CATEGORIES:Stadtteilgruppen
ATTACH;FMTTYPE=image/png:https://gruene-pankow.de/wp-content/uploads/2024/09/SG-Blankenburg-und-Heinersdorf.png
ORGANIZER;CN="SG Blankenbug und Heinersdorf":MAILTO:blankenburg-heinersdorf@gruene-pankow.de
END:VEVENT
BEGIN:VEVENT
DTSTART;TZID=Europe/Berlin:20260911T190000
DTEND;TZID=Europe/Berlin:20260911T203000
DTSTAMP:20260419T163157
CREATED:20260413T085740Z
LAST-MODIFIED:20260413T085740Z
UID:17495-1789153200-1789158600@gruene-pankow.de
SUMMARY:Stresst der Vermieter? Kostenlose Miet- und Energiekostenberatung
DESCRIPTION:Can Aru\, Friedrich Ehrhardt und Oliver Jütting – die Bündnisgrünen vor Ort aus Weißensee – beraten zusammen mit Fachleuten kostenlos zu Miete und Energiekosten. Wir haben immer einen Rechtsanwalt vor Ort! Egal\, ob es um überhöhte Miete oder Kündigungsdrohungen geht\, um unverständliche Heizkostenabrechnungen oder teure Strom- und Gasrechnungen – wir unterstützen ganz konkret: Wir prüfen Schreiben und Unterlagen und sprechen über nächste Schritte. \nDie Beratung findet immer am 2. und 4. Freitag im Monat statt.
URL:https://gruene-pankow.de/termin/stresst-der-vermieter-kostenlose-miet-und-energiekostenberatung-11/
LOCATION:Gemeindehaus der evangelischen Gemeinde Weißensee\, Mirbachplatz 2\, Berlin-Weißensee\, 13086
CATEGORIES:Berlin,Mandatsträger*innen
ATTACH;FMTTYPE=image/png:https://gruene-pankow.de/wp-content/uploads/2026/04/Stresst-der-Vermieter_Kandis.png
END:VEVENT
BEGIN:VEVENT
DTSTART;TZID=Europe/Berlin:20260913T193000
DTEND;TZID=Europe/Berlin:20260913T203000
DTSTAMP:20260419T163157
CREATED:20260313T120210Z
LAST-MODIFIED:20260313T121506Z
UID:17178-1789327800-1789331400@gruene-pankow.de
SUMMARY:Sebastian Kascha fragt: Was stört Dich?
DESCRIPTION:Online-Sprechstunde mit unserem Direktkandidaten Sebastian Kascha für Pankows Nordosten. Komm vorbei unter gruene-pankow.de/triff-kascha.
URL:https://gruene-pankow.de/termin/sebastian-kascha-fragt-was-stoert-dich-5/
LOCATION:Online
CATEGORIES:Berlin,Mandatsträger*innen
ATTACH;FMTTYPE=image/png:https://gruene-pankow.de/wp-content/uploads/2025/11/Profil-Foto-Sebastian.png
END:VEVENT
BEGIN:VEVENT
DTSTART;TZID=Europe/Berlin:20260915T190000
DTEND;TZID=Europe/Berlin:20260915T210000
DTSTAMP:20260419T163157
CREATED:20251119T205721Z
LAST-MODIFIED:20251119T205721Z
UID:15231-1789498800-1789506000@gruene-pankow.de
SUMMARY:Sitzung des Kreisvorstands
DESCRIPTION:
URL:https://gruene-pankow.de/termin/sitzung-des-kreisvorstands-84/
LOCATION:Kreisgeschäftsstelle (großer Raum)\, Pappelallee 84\, Berlin-Prenzlauer Berg\, 10437
CATEGORIES:Kreisvorstand
END:VEVENT
BEGIN:VEVENT
DTSTART;TZID=Europe/Berlin:20260920T080000
DTEND;TZID=Europe/Berlin:20260920T180000
DTSTAMP:20260419T163157
CREATED:20251119T205721Z
LAST-MODIFIED:20251119T215815Z
UID:15233-1789891200-1789927200@gruene-pankow.de
SUMMARY:Berliner Wahlen 2026
DESCRIPTION:
URL:https://gruene-pankow.de/termin/berliner-wahlen-2026/
END:VEVENT
BEGIN:VEVENT
DTSTART;TZID=Europe/Berlin:20260920T173000
DTEND;TZID=Europe/Berlin:20260920T220000
DTSTAMP:20260419T163157
CREATED:20251119T205721Z
LAST-MODIFIED:20251119T205721Z
UID:15232-1789925400-1789941600@gruene-pankow.de
SUMMARY:Wahl-Abend zu den Berliner Wahlen 2026
DESCRIPTION:
URL:https://gruene-pankow.de/termin/wahl-abend-zu-den-berliner-wahlen-2026/
CATEGORIES:Kreisverband
END:VEVENT
BEGIN:VEVENT
DTSTART;TZID=Europe/Berlin:20260922T190000
DTEND;TZID=Europe/Berlin:20260922T194500
DTSTAMP:20260419T163157
CREATED:20260122T142035Z
LAST-MODIFIED:20260122T142035Z
UID:16286-1790103600-1790106300@gruene-pankow.de
SUMMARY:Neumitglieder-Treffen
DESCRIPTION:Du willst aktiv werden und Dich für Deinen Kiez oder Dein Thema engagieren? Du bist neu in der Partei oder gerade in den Bezirk gezogen? Du möchtest Dich einbringen und suchst Anschluss? Bei unserem Neumitglieder-Treffen kannst Du unseren Kreisverband kennenlernen und Dich vernetzen!
URL:https://gruene-pankow.de/termin/neumitglieder-treffen-12/
LOCATION:Kulturmarkthalle\, Hanns-Eisler-Straße 93\, Berlin-Prenzlauer Berg\, 10409
CATEGORIES:Neumitglieder
ATTACH;FMTTYPE=image/png:https://gruene-pankow.de/wp-content/uploads/2023/11/Neumitglieder-Treffen.png
END:VEVENT
BEGIN:VEVENT
DTSTART;TZID=Europe/Berlin:20260922T200000
DTEND;TZID=Europe/Berlin:20260922T220000
DTSTAMP:20260419T163157
CREATED:20251119T205745Z
LAST-MODIFIED:20260302T193038Z
UID:15235-1790107200-1790114400@gruene-pankow.de
SUMMARY:Mitgliederversammlung im September 2026: Wahl-Nachlese
DESCRIPTION:Wir blicken zurück auf unseren kraftvollen Wahlkampf und feiern\, was wir gemeinsam erreicht haben.
URL:https://gruene-pankow.de/termin/mitgliederversammlung-im-september-2026-wahl-nachlese/
LOCATION:Kulturmarkthalle\, Hanns-Eisler-Straße 93\, Berlin-Prenzlauer Berg\, 10409
CATEGORIES:Mitglieder
END:VEVENT
BEGIN:VEVENT
DTSTART;TZID=Europe/Berlin:20260925T080000
DTEND;TZID=Europe/Berlin:20260925T090000
DTSTAMP:20260419T163157
CREATED:20251119T205746Z
LAST-MODIFIED:20251121T085558Z
UID:15236-1790323200-1790326800@gruene-pankow.de
SUMMARY:Koordinationsrat
DESCRIPTION:
URL:https://gruene-pankow.de/termin/koordinationsrat-48/
LOCATION:Online
CATEGORIES:Kreisvorstand
END:VEVENT
BEGIN:VEVENT
DTSTART;TZID=Europe/Berlin:20260929T190000
DTEND;TZID=Europe/Berlin:20260929T210000
DTSTAMP:20260419T163157
CREATED:20251119T205746Z
LAST-MODIFIED:20251126T190655Z
UID:15237-1790708400-1790715600@gruene-pankow.de
SUMMARY:Sitzung des Kreisvorstands
DESCRIPTION:
URL:https://gruene-pankow.de/termin/sitzung-des-kreisvorstands-85/
LOCATION:Kreisgeschäftsstelle (großer Raum)\, Pappelallee 84\, Berlin-Prenzlauer Berg\, 10437
CATEGORIES:Kreisvorstand
END:VEVENT
END:VCALENDAR