BEGIN:VCALENDAR
VERSION:2.0
PRODID:-//BÜNDNIS 90/DIE GRÜNEN - ECPv6.15.20//NONSGML v1.0//EN
CALSCALE:GREGORIAN
METHOD:PUBLISH
X-WR-CALNAME:BÜNDNIS 90/DIE GRÜNEN
X-ORIGINAL-URL:https://gruene-pankow.de
X-WR-CALDESC:Veranstaltungen für BÜNDNIS 90/DIE GRÜNEN
REFRESH-INTERVAL;VALUE=DURATION:PT1H
X-Robots-Tag:noindex
X-PUBLISHED-TTL:PT1H
BEGIN:VTIMEZONE
TZID:Europe/Berlin
BEGIN:DAYLIGHT
TZOFFSETFROM:+0100
TZOFFSETTO:+0200
TZNAME:CEST
DTSTART:20250330T010000
END:DAYLIGHT
BEGIN:STANDARD
TZOFFSETFROM:+0200
TZOFFSETTO:+0100
TZNAME:CET
DTSTART:20251026T010000
END:STANDARD
BEGIN:DAYLIGHT
TZOFFSETFROM:+0100
TZOFFSETTO:+0200
TZNAME:CEST
DTSTART:20260329T010000
END:DAYLIGHT
BEGIN:STANDARD
TZOFFSETFROM:+0200
TZOFFSETTO:+0100
TZNAME:CET
DTSTART:20261025T010000
END:STANDARD
BEGIN:DAYLIGHT
TZOFFSETFROM:+0100
TZOFFSETTO:+0200
TZNAME:CEST
DTSTART:20270328T010000
END:DAYLIGHT
BEGIN:STANDARD
TZOFFSETFROM:+0200
TZOFFSETTO:+0100
TZNAME:CET
DTSTART:20271031T010000
END:STANDARD
END:VTIMEZONE
BEGIN:VEVENT
DTSTART;TZID=Europe/Berlin:20260801T120000
DTEND;TZID=Europe/Berlin:20260802T200000
DTSTAMP:20260419T144922
CREATED:20251119T205619Z
LAST-MODIFIED:20260302T182938Z
UID:15226-1785585600-1785700800@gruene-pankow.de
SUMMARY:Plakatier-Start zu den Berliner Wahlen 2026
DESCRIPTION:Am Plakatier-Wochenende treffen wir uns an vielen Orten im Bezirk\, um letzte Hand zur Vorbereitung anzulegen und schließlich loszuziehen mit Leitern\, Pappen und Kabelbindern – so wird der ganze Bezirk begrünt!
URL:https://gruene-pankow.de/termin/plakatier-start-zu-den-berliner-wahlen-2026/
CATEGORIES:Kreisverband,Mandatsträger*innen
END:VEVENT
BEGIN:VEVENT
DTSTART;TZID=Europe/Berlin:20260809T193000
DTEND;TZID=Europe/Berlin:20260809T203000
DTSTAMP:20260419T144922
CREATED:20260313T120157Z
LAST-MODIFIED:20260313T121436Z
UID:17176-1786303800-1786307400@gruene-pankow.de
SUMMARY:Sebastian Kascha fragt: Was stört Dich?
DESCRIPTION:Online-Sprechstunde mit unserem Direktkandidaten Sebastian Kascha für Pankows Nordosten. Komm vorbei unter gruene-pankow.de/triff-kascha.
URL:https://gruene-pankow.de/termin/sebastian-kascha-fragt-was-stoert-dich-4/
LOCATION:Online
CATEGORIES:Berlin,Mandatsträger*innen
ATTACH;FMTTYPE=image/png:https://gruene-pankow.de/wp-content/uploads/2025/11/Profil-Foto-Sebastian.png
END:VEVENT
BEGIN:VEVENT
DTSTART;VALUE=DATE:20260811
DTEND;VALUE=DATE:20260813
DTSTAMP:20260419T144922
CREATED:20251119T205619Z
LAST-MODIFIED:20251119T214423Z
UID:15227-1786417200-1786503599@gruene-pankow.de
SUMMARY:Sitzung des Kreisvorstands
DESCRIPTION:
URL:https://gruene-pankow.de/termin/sitzung-des-kreisvorstands-91/
LOCATION:Online
CATEGORIES:Kreisvorstand
END:VEVENT
BEGIN:VEVENT
DTSTART;TZID=Europe/Berlin:20260814T190000
DTEND;TZID=Europe/Berlin:20260814T203000
DTSTAMP:20260419T144922
CREATED:20260413T085702Z
LAST-MODIFIED:20260413T085702Z
UID:17491-1786734000-1786739400@gruene-pankow.de
SUMMARY:Stresst der Vermieter? Kostenlose Miet- und Energiekostenberatung
DESCRIPTION:Can Aru\, Friedrich Ehrhardt und Oliver Jütting – die Bündnisgrünen vor Ort aus Weißensee – beraten zusammen mit Fachleuten kostenlos zu Miete und Energiekosten. Wir haben immer einen Rechtsanwalt vor Ort! Egal\, ob es um überhöhte Miete oder Kündigungsdrohungen geht\, um unverständliche Heizkostenabrechnungen oder teure Strom- und Gasrechnungen – wir unterstützen ganz konkret: Wir prüfen Schreiben und Unterlagen und sprechen über nächste Schritte. \nDie Beratung findet immer am 2. und 4. Freitag im Monat statt.
URL:https://gruene-pankow.de/termin/stresst-der-vermieter-kostenlose-miet-und-energiekostenberatung-9/
LOCATION:Gemeindehaus der evangelischen Gemeinde Weißensee\, Mirbachplatz 2\, Berlin-Weißensee\, 13086
CATEGORIES:Berlin,Mandatsträger*innen
ATTACH;FMTTYPE=image/png:https://gruene-pankow.de/wp-content/uploads/2026/04/Stresst-der-Vermieter_Kandis.png
END:VEVENT
BEGIN:VEVENT
DTSTART;TZID=Europe/Berlin:20260817T190000
DTEND;TZID=Europe/Berlin:20260817T210000
DTSTAMP:20260419T144922
CREATED:20260303T192309Z
LAST-MODIFIED:20260303T192309Z
UID:16946-1786993200-1787000400@gruene-pankow.de
SUMMARY:AG Soziales und Gesundheit
DESCRIPTION:
URL:https://gruene-pankow.de/termin/ag-soziales-und-gesundheit-11/
LOCATION:Kiezbüro B5 (großer Raum)\, Berliner Straße 5\, Berlin-Pankow\, 13187
CATEGORIES:Arbeitsgemeinschaften
ATTACH;FMTTYPE=image/png:https://gruene-pankow.de/wp-content/uploads/2025/05/AG-Soziales-und-Gesundheit.png
END:VEVENT
BEGIN:VEVENT
DTSTART;TZID=Europe/Berlin:20260825T190000
DTEND;TZID=Europe/Berlin:20260825T194500
DTSTAMP:20260419T144922
CREATED:20260122T142018Z
LAST-MODIFIED:20260122T142018Z
UID:16284-1787684400-1787687100@gruene-pankow.de
SUMMARY:Neumitglieder-Treffen
DESCRIPTION:Du willst aktiv werden und Dich für Deinen Kiez oder Dein Thema engagieren? Du bist neu in der Partei oder gerade in den Bezirk gezogen? Du möchtest Dich einbringen und suchst Anschluss? Bei unserem Neumitglieder-Treffen kannst Du unseren Kreisverband kennenlernen und Dich vernetzen!
URL:https://gruene-pankow.de/termin/neumitglieder-treffen-11/
LOCATION:Kulturmarkthalle\, Hanns-Eisler-Straße 93\, Berlin-Prenzlauer Berg\, 10409
CATEGORIES:Neumitglieder
ATTACH;FMTTYPE=image/png:https://gruene-pankow.de/wp-content/uploads/2023/11/Neumitglieder-Treffen.png
END:VEVENT
BEGIN:VEVENT
DTSTART;TZID=Europe/Berlin:20260825T200000
DTEND;TZID=Europe/Berlin:20260825T220000
DTSTAMP:20260419T144922
CREATED:20251119T205619Z
LAST-MODIFIED:20260108T115152Z
UID:15228-1787688000-1787695200@gruene-pankow.de
SUMMARY:Mitgliederversammlung im August 2026: Willkommen zurück im Wahlkampf!
DESCRIPTION:Nach den Sommerferien starten wir wieder durch: Wahlkampf für Pankow!
URL:https://gruene-pankow.de/termin/mitgliederversammlung-im-august-2026-willkommen-zurueck-im-wahlkampf/
LOCATION:Kulturmarkthalle\, Hanns-Eisler-Straße 93\, Berlin-Prenzlauer Berg\, 10409
CATEGORIES:Mitglieder
ATTACH;FMTTYPE=image/png:https://gruene-pankow.de/wp-content/uploads/2023/11/Mitgliederversammlung.png
END:VEVENT
BEGIN:VEVENT
DTSTART;TZID=Europe/Berlin:20260828T080000
DTEND;TZID=Europe/Berlin:20260828T090000
DTSTAMP:20260419T144922
CREATED:20251119T205720Z
LAST-MODIFIED:20251121T085558Z
UID:15229-1787904000-1787907600@gruene-pankow.de
SUMMARY:Koordinationsrat
DESCRIPTION:
URL:https://gruene-pankow.de/termin/koordinationsrat-47/
LOCATION:Online
CATEGORIES:Kreisvorstand
END:VEVENT
BEGIN:VEVENT
DTSTART;TZID=Europe/Berlin:20260828T190000
DTEND;TZID=Europe/Berlin:20260828T203000
DTSTAMP:20260419T144922
CREATED:20260413T085724Z
LAST-MODIFIED:20260413T085724Z
UID:17493-1787943600-1787949000@gruene-pankow.de
SUMMARY:Stresst der Vermieter? Kostenlose Miet- und Energiekostenberatung
DESCRIPTION:Can Aru\, Friedrich Ehrhardt und Oliver Jütting – die Bündnisgrünen vor Ort aus Weißensee – beraten zusammen mit Fachleuten kostenlos zu Miete und Energiekosten. Wir haben immer einen Rechtsanwalt vor Ort! Egal\, ob es um überhöhte Miete oder Kündigungsdrohungen geht\, um unverständliche Heizkostenabrechnungen oder teure Strom- und Gasrechnungen – wir unterstützen ganz konkret: Wir prüfen Schreiben und Unterlagen und sprechen über nächste Schritte. \nDie Beratung findet immer am 2. und 4. Freitag im Monat statt.
URL:https://gruene-pankow.de/termin/stresst-der-vermieter-kostenlose-miet-und-energiekostenberatung-10/
LOCATION:Gemeindehaus der evangelischen Gemeinde Weißensee\, Mirbachplatz 2\, Berlin-Weißensee\, 13086
CATEGORIES:Berlin,Mandatsträger*innen
ATTACH;FMTTYPE=image/png:https://gruene-pankow.de/wp-content/uploads/2026/04/Stresst-der-Vermieter_Kandis.png
END:VEVENT
END:VCALENDAR