BEGIN:VCALENDAR
VERSION:2.0
PRODID:-//BÜNDNIS 90/DIE GRÜNEN - ECPv6.15.20//NONSGML v1.0//EN
CALSCALE:GREGORIAN
METHOD:PUBLISH
X-WR-CALNAME:BÜNDNIS 90/DIE GRÜNEN
X-ORIGINAL-URL:https://gruene-pankow.de
X-WR-CALDESC:Veranstaltungen für BÜNDNIS 90/DIE GRÜNEN
REFRESH-INTERVAL;VALUE=DURATION:PT1H
X-Robots-Tag:noindex
X-PUBLISHED-TTL:PT1H
BEGIN:VTIMEZONE
TZID:Europe/Berlin
BEGIN:DAYLIGHT
TZOFFSETFROM:+0100
TZOFFSETTO:+0200
TZNAME:CEST
DTSTART:20250330T010000
END:DAYLIGHT
BEGIN:STANDARD
TZOFFSETFROM:+0200
TZOFFSETTO:+0100
TZNAME:CET
DTSTART:20251026T010000
END:STANDARD
BEGIN:DAYLIGHT
TZOFFSETFROM:+0100
TZOFFSETTO:+0200
TZNAME:CEST
DTSTART:20260329T010000
END:DAYLIGHT
BEGIN:STANDARD
TZOFFSETFROM:+0200
TZOFFSETTO:+0100
TZNAME:CET
DTSTART:20261025T010000
END:STANDARD
BEGIN:DAYLIGHT
TZOFFSETFROM:+0100
TZOFFSETTO:+0200
TZNAME:CEST
DTSTART:20270328T010000
END:DAYLIGHT
BEGIN:STANDARD
TZOFFSETFROM:+0200
TZOFFSETTO:+0100
TZNAME:CET
DTSTART:20271031T010000
END:STANDARD
END:VTIMEZONE
BEGIN:VEVENT
DTSTART;TZID=Europe/Berlin:20260424T080000
DTEND;TZID=Europe/Berlin:20260424T090000
DTSTAMP:20260424T035908
CREATED:20251119T205149Z
LAST-MODIFIED:20251121T085559Z
UID:15207-1777017600-1777021200@gruene-pankow.de
SUMMARY:Koordinationsrat
DESCRIPTION:
URL:https://gruene-pankow.de/termin/koordinationsrat-44/
LOCATION:Online
CATEGORIES:Kreisvorstand
END:VEVENT
BEGIN:VEVENT
DTSTART;TZID=Europe/Berlin:20260424T123000
DTEND;TZID=Europe/Berlin:20260424T133000
DTSTAMP:20260424T035908
CREATED:20260423T112144Z
LAST-MODIFIED:20260423T112144Z
UID:17722-1777033800-1777037400@gruene-pankow.de
SUMMARY:Flaggenhissung: Internationaler Tag der lesbischen Sichtbarkeit
DESCRIPTION:Am 26. April ist der Tag der Lesbischen* Sichtbarkeit – bereits am Freitag\, dem 24. April 2026\, hisst die Pankower Bezirksbürgermeisterin Dr. Cordelia Koch gemeinsamen mit der Queerbeauftragten Jenny Bluhm sowie Vertreter*innen der Zivilgesellschaft vor dem Bürgeramt Prenzlauer Berg die Flagge der lesbischen Sichtbarkeit.
URL:https://gruene-pankow.de/termin/flaggenhissung-internationaler-tag-der-lesbischen-sichtbarkeit/
LOCATION:Bezirksamtsgelände Prenzlauer Berg\, Fröbelstraße 17\, Berlin-Prenzlauer Berg\, 10405
CATEGORIES:Bezirk,Mandatsträger*innen
ATTACH;FMTTYPE=image/png:https://gruene-pankow.de/wp-content/uploads/2026/03/Profil-Foto-Cordelia.png
END:VEVENT
BEGIN:VEVENT
DTSTART;TZID=Europe/Berlin:20260424T190000
DTEND;TZID=Europe/Berlin:20260424T203000
DTSTAMP:20260424T035908
CREATED:20260413T083204Z
LAST-MODIFIED:20260413T085431Z
UID:17470-1777057200-1777062600@gruene-pankow.de
SUMMARY:Stresst der Vermieter? Kostenlose Miet- und Energiekostenberatung
DESCRIPTION:Can Aru\, Friedrich Ehrhardt und Oliver Jütting – die Bündnisgrünen vor Ort aus Weißensee – beraten zusammen mit Fachleuten kostenlos zu Miete und Energiekosten. Wir haben immer einen Rechtsanwalt vor Ort! Egal\, ob es um überhöhte Miete oder Kündigungsdrohungen geht\, um unverständliche Heizkostenabrechnungen oder teure Strom- und Gasrechnungen – wir unterstützen ganz konkret: Wir prüfen Schreiben und Unterlagen und sprechen über nächste Schritte. \nDie Beratung findet immer am 2. und 4. Freitag im Monat statt.
URL:https://gruene-pankow.de/termin/stresst-der-vermieter-kostenlose-miet-und-energiekostenberatung/
LOCATION:Gemeindehaus der evangelischen Gemeinde Weißensee\, Mirbachplatz 2\, Berlin-Weißensee\, 13086
CATEGORIES:Berlin,Mandatsträger*innen
ATTACH;FMTTYPE=image/png:https://gruene-pankow.de/wp-content/uploads/2026/04/Stresst-der-Vermieter_Kandis.png
END:VEVENT
END:VCALENDAR