BEGIN:VCALENDAR
VERSION:2.0
PRODID:-//BÜNDNIS 90/DIE GRÜNEN - ECPv6.15.20//NONSGML v1.0//EN
CALSCALE:GREGORIAN
METHOD:PUBLISH
X-WR-CALNAME:BÜNDNIS 90/DIE GRÜNEN
X-ORIGINAL-URL:https://gruene-pankow.de
X-WR-CALDESC:Veranstaltungen für BÜNDNIS 90/DIE GRÜNEN
REFRESH-INTERVAL;VALUE=DURATION:PT1H
X-Robots-Tag:noindex
X-PUBLISHED-TTL:PT1H
BEGIN:VTIMEZONE
TZID:Europe/Berlin
BEGIN:DAYLIGHT
TZOFFSETFROM:+0100
TZOFFSETTO:+0200
TZNAME:CEST
DTSTART:20250330T010000
END:DAYLIGHT
BEGIN:STANDARD
TZOFFSETFROM:+0200
TZOFFSETTO:+0100
TZNAME:CET
DTSTART:20251026T010000
END:STANDARD
BEGIN:DAYLIGHT
TZOFFSETFROM:+0100
TZOFFSETTO:+0200
TZNAME:CEST
DTSTART:20260329T010000
END:DAYLIGHT
BEGIN:STANDARD
TZOFFSETFROM:+0200
TZOFFSETTO:+0100
TZNAME:CET
DTSTART:20261025T010000
END:STANDARD
BEGIN:DAYLIGHT
TZOFFSETFROM:+0100
TZOFFSETTO:+0200
TZNAME:CEST
DTSTART:20270328T010000
END:DAYLIGHT
BEGIN:STANDARD
TZOFFSETFROM:+0200
TZOFFSETTO:+0100
TZNAME:CET
DTSTART:20271031T010000
END:STANDARD
END:VTIMEZONE
BEGIN:VEVENT
DTSTART;TZID=Europe/Berlin:20260423T120000
DTEND;TZID=Europe/Berlin:20260423T130000
DTSTAMP:20260423T114816
CREATED:20260303T191954Z
LAST-MODIFIED:20260415T104530Z
UID:16931-1776945600-1776949200@gruene-pankow.de
SUMMARY:[ABGESAGT] Digitale Mittagspause: Sprich mit Julia Schneider über Aktuelles aus dem Bundestag
DESCRIPTION:Manche nennen es „Lunch and Learn“ – hier ist es ein „Lunch and discus“: Julia berichtet aus der Sitzungswoche im Bundestag und Ihr dürft alle Fragen stellen. \nMelde Dich bitte hier für die Zugangsdaten: julia.schneider.wk@bundestag.de. \nUnd wenn Du Fragen hast\, schicke die auch die gern an die genannte Emailadresse.
URL:https://gruene-pankow.de/termin/digitale-mittagspause-sprich-mit-julia-schneider-ueber-aktuelles-aus-dem-bundestag-2/
LOCATION:Online
CATEGORIES:Bund,Mandatsträger*innen
ATTACH;FMTTYPE=image/png:https://gruene-pankow.de/wp-content/uploads/2026/02/digitale-Mittagspause.png
END:VEVENT
BEGIN:VEVENT
DTSTART;TZID=Europe/Berlin:20260423T180000
DTEND;TZID=Europe/Berlin:20260423T200000
DTSTAMP:20260423T114816
CREATED:20260413T092929Z
LAST-MODIFIED:20260413T092929Z
UID:17503-1776967200-1776974400@gruene-pankow.de
SUMMARY:Lass die Zukunft einkehren – schlau heizen in Buch und Karow!
DESCRIPTION:Die Preise für Gas und Öl explodieren. Wie können wir Heizkosten sparen\, und welche Heizung ist die Richtige? Wie können wir mit effizienter Heiztechnologie unsere Geldbeutel schonen und zugleich zur Energiewende beitragen? Was sagen dazu Praktiker\, die unsere Heizungen oft besser kennen als wir selbst? \nBettina Jarasch\, bündnisgrüne Spitzenkandidatin für Berlin und Direktkandidatin für Buch und Karow\, lädt herzlich ein zur Informationsveranstaltung mit dem Schornsteinfegermeister Alain Rappsilber. Er steigt nicht nur auf Berliner Dächer und in die Heizungskeller. Er berät seine Kundinnen und Kunden auch seit vielen Jahren in Energiefragen.
URL:https://gruene-pankow.de/termin/lass-die-zukunft-einkehren-schlau-heizen-in-buch-und-karow/
LOCATION:Gemeindehof Karow\, Alt-Karow 8\, Berlin-Karow\, 13125
CATEGORIES:Berlin,Mandatsträger*innen
ATTACH;FMTTYPE=image/png:https://gruene-pankow.de/wp-content/uploads/2026/04/VA_Bettina_Waermewende-1080-x-1080-px-1.png
END:VEVENT
BEGIN:VEVENT
DTSTART;TZID=Europe/Berlin:20260423T193000
DTEND;TZID=Europe/Berlin:20260423T210000
DTSTAMP:20260423T114816
CREATED:20260220T145854Z
LAST-MODIFIED:20260220T154414Z
UID:16841-1776972600-1776978000@gruene-pankow.de
SUMMARY:Stadtteilgruppe Prenzlauer Berg Nordost: Sprecher*innen-Wahl
DESCRIPTION:Bei Interesse an einer Kandidatur sprecht uns an oder schreibt uns gerne unter prenzlauer-berg-no@gruene-pankow.de. Ihr könnt auch spontan in der Versammlung kandidieren. \nVorschlag zur Tagesordnung: \n\nRückblick auf das erste Jahr der SG 10\nAusblick: Kommende Aufgaben\nWahl der Sprecher*innen\nVerschiedenes\n\n 
URL:https://gruene-pankow.de/termin/stadtteilgruppe-prenzlauer-berg-nordost-sprecherinnen-wahl-2/
LOCATION:Kulturmarkthalle (Projektraum)\, Hanns-Eisler-Straße 93\, Berlin\, 10409
CATEGORIES:Stadtteilgruppen
ATTACH;FMTTYPE=image/png:https://gruene-pankow.de/wp-content/uploads/2023/12/SG-Prenzlauer-Berg-Nordost.png
ORGANIZER;CN="SG Prenzlauer Berg Nordost":MAILTO:prenzlauer-berg-no@gruene-pankow.de
END:VEVENT
BEGIN:VEVENT
DTSTART;TZID=Europe/Berlin:20260423T193000
DTEND;TZID=Europe/Berlin:20260423T213000
DTSTAMP:20260423T114816
CREATED:20260413T114633Z
LAST-MODIFIED:20260413T114645Z
UID:17523-1776972600-1776979800@gruene-pankow.de
SUMMARY:Team „Besserwerden“
DESCRIPTION:
URL:https://gruene-pankow.de/termin/team-besserwerden-2/
LOCATION:Kiezbüro B5 (kleiner Raum)\, Berliner Straße 5\, Berlin-Pankow\, 13187
CATEGORIES:Arbeitsgemeinschaften
END:VEVENT
END:VCALENDAR