BEGIN:VCALENDAR
VERSION:2.0
PRODID:-//BÜNDNIS 90/DIE GRÜNEN - ECPv6.15.20//NONSGML v1.0//EN
CALSCALE:GREGORIAN
METHOD:PUBLISH
X-WR-CALNAME:BÜNDNIS 90/DIE GRÜNEN
X-ORIGINAL-URL:https://gruene-pankow.de
X-WR-CALDESC:Veranstaltungen für BÜNDNIS 90/DIE GRÜNEN
REFRESH-INTERVAL;VALUE=DURATION:PT1H
X-Robots-Tag:noindex
X-PUBLISHED-TTL:PT1H
BEGIN:VTIMEZONE
TZID:Europe/Berlin
BEGIN:DAYLIGHT
TZOFFSETFROM:+0100
TZOFFSETTO:+0200
TZNAME:CEST
DTSTART:20250330T010000
END:DAYLIGHT
BEGIN:STANDARD
TZOFFSETFROM:+0200
TZOFFSETTO:+0100
TZNAME:CET
DTSTART:20251026T010000
END:STANDARD
BEGIN:DAYLIGHT
TZOFFSETFROM:+0100
TZOFFSETTO:+0200
TZNAME:CEST
DTSTART:20260329T010000
END:DAYLIGHT
BEGIN:STANDARD
TZOFFSETFROM:+0200
TZOFFSETTO:+0100
TZNAME:CET
DTSTART:20261025T010000
END:STANDARD
BEGIN:DAYLIGHT
TZOFFSETFROM:+0100
TZOFFSETTO:+0200
TZNAME:CEST
DTSTART:20270328T010000
END:DAYLIGHT
BEGIN:STANDARD
TZOFFSETFROM:+0200
TZOFFSETTO:+0100
TZNAME:CET
DTSTART:20271031T010000
END:STANDARD
END:VTIMEZONE
BEGIN:VEVENT
DTSTART;TZID=Europe/Berlin:20260422T173000
DTEND;TZID=Europe/Berlin:20260422T213000
DTSTAMP:20260422T022232
CREATED:20251215T105536Z
LAST-MODIFIED:20251215T105536Z
UID:15693-1776879000-1776893400@gruene-pankow.de
SUMMARY:38. Sitzung der Bezirksverordnetenversammlung Pankow
DESCRIPTION:Wir begleiten die Sitzung der Pankower Bezirksverordnetenversammlung – vor Ort\, im Live-Stream und im Chat. Über die Arbeit unserer Fraktion in der BVV kannst Du Dich hier informieren.
URL:https://gruene-pankow.de/termin/38-sitzung-der-bezirksverordnetenversammlung-pankow/
LOCATION:Bezirksamtsgelände Prenzlauer Berg\, BVV-Saal\, Fröbelstraße 17\, Berlin-Prenzlauer Berg\, 10405
CATEGORIES:Bezirk
ATTACH;FMTTYPE=image/png:https://gruene-pankow.de/wp-content/uploads/2025/09/BVV-Sitzung.png
END:VEVENT
BEGIN:VEVENT
DTSTART;TZID=Europe/Berlin:20260422T183000
DTEND;TZID=Europe/Berlin:20260422T193000
DTSTAMP:20260422T022232
CREATED:20260416T121609Z
LAST-MODIFIED:20260416T121609Z
UID:17575-1776882600-1776886200@gruene-pankow.de
SUMMARY:After-Work Cleanup im Brosepark
DESCRIPTION:Der Brosepark benötigt dringend ein Cleanup. Kommt zu unserer spontanen Nachbarschaftsinitiative und helft\, unseren hübschen kleinen Park vom Müll zu befreien. Im Anschluss sitzen wir noch zusammen bei einem Getränk und guten Gesprächen. \nTreffpunkt: Parkeingang Waldowstraße/Marthastraße \nP.S. Bitte Handschuhe selbst mitbringen! Müllzangen und Müllbeutel werden da sein.
URL:https://gruene-pankow.de/termin/after-work-cleanup-im-brosepark/
LOCATION:Brosepark\, Marthastraße\, Berlin-Niederschönhausen\, 13156
CATEGORIES:Kreisverband
ATTACH;FMTTYPE=image/jpeg:https://gruene-pankow.de/wp-content/uploads/2026/04/signal-2026-04-16-135950.jpg
END:VEVENT
BEGIN:VEVENT
DTSTART;TZID=Europe/Berlin:20260422T190000
DTEND;TZID=Europe/Berlin:20260422T210000
DTSTAMP:20260422T022232
CREATED:20260210T133332Z
LAST-MODIFIED:20260210T133332Z
UID:16649-1776884400-1776891600@gruene-pankow.de
SUMMARY:Aktiventreffen GRÜNE JUGEND Nord (Pankow und Reinickendorf)
DESCRIPTION:Du wohnst im Bezirk Reinickendorf oder Pankow\, bist schon aktiv oder willst aktiv werden? Dann komm zur GRÜNEN JUGEND Nord-Berlin. Zusammen wollen wir die Politik in Reinickendorf und Pankow mitverfolgen und gestalten. Über neue Gesichter freuen wir uns immer\, komm einfach vorbei! \nJeden Mittwoch um 19 Uhr sind unsere Aktiventreffen. Du bist interessiert und möchtest dabei sein? Schreibe uns auf Instagram @gjb_nord oder per Mail an nord@gj-berlin.de für den Ort! Wir freuen uns auf dich.
URL:https://gruene-pankow.de/termin/aktiventreffen-gruene-jugend-nord-pankow-und-reinickendorf-55/
LOCATION:Schreib auf Instagram @gjb_nord oder per Mail an nord@gj-berlin.de
CATEGORIES:Grüne Jugend
ATTACH;FMTTYPE=image/jpeg:https://gruene-pankow.de/wp-content/uploads/2024/12/signal-2024-12-09-193041-e1733997976543.jpeg
ORGANIZER;CN="GR%C3%9CNE JUGEND Nord":MAILTO:nord@gj-berlin.de
END:VEVENT
BEGIN:VEVENT
DTSTART;TZID=Europe/Berlin:20260422T190000
DTEND;TZID=Europe/Berlin:20260422T210000
DTSTAMP:20260422T022232
CREATED:20260217T192106Z
LAST-MODIFIED:20260218T135930Z
UID:16789-1776884400-1776891600@gruene-pankow.de
SUMMARY:Stadtteilgruppe Buch und Karow
DESCRIPTION:Du bist interessiert und möchtest dabei sein? Schreib uns bitte per Mail an buch-karow@gruene-pankow.de für den Ort! Wir freuen uns auf Dich.
URL:https://gruene-pankow.de/termin/stadtteilgruppe-buch-und-karow-8/
LOCATION:Schreib uns bitte per Mail an buch-karow@gruene-pankow.de
CATEGORIES:Stadtteilgruppen
ATTACH;FMTTYPE=image/png:https://gruene-pankow.de/wp-content/uploads/2024/09/SG-Buch-und-Karow.png
ORGANIZER;CN="SG Buch und Karow":MAILTO:buch-karow@gruene-pankow.de
END:VEVENT
BEGIN:VEVENT
DTSTART;TZID=Europe/Berlin:20260422T190000
DTEND;TZID=Europe/Berlin:20260422T210000
DTSTAMP:20260422T022232
CREATED:20260416T130432Z
LAST-MODIFIED:20260416T130432Z
UID:17588-1776884400-1776891600@gruene-pankow.de
SUMMARY:Stammtisch der AG Verkehr
DESCRIPTION:Unser erster Stammtisch\, daher ohne Tagesordnung\, denn wir wollen brainstormen: Welche der Mobilitätsthemen sollten besonders im Vordergrund stehen und wie verstehen die Menschen am besten\, dass es im September darauf ankommt OB sie abstimmen und WEM sie ihre Stimme geben? \nWenn ihr dazu eine Meinung habt\, seid Ihr bei uns garantiert nicht verkehrt. ALLE Menschen\, die in Berlin von A nach B kommen wollen sind von Verkehr betroffen (und blenden es leider zu oft aus).
URL:https://gruene-pankow.de/termin/stammtisch-der-ag-verkehr/
LOCATION:Café März\, Greifenhagener Str. 17\, Berlin-Prenzlauer Berg\, 10437
CATEGORIES:Arbeitsgemeinschaften
ATTACH;FMTTYPE=image/png:https://gruene-pankow.de/wp-content/uploads/2023/12/AG-Verkehr.png
END:VEVENT
END:VCALENDAR