BEGIN:VCALENDAR
VERSION:2.0
PRODID:-//BÜNDNIS 90/DIE GRÜNEN - ECPv6.15.20//NONSGML v1.0//EN
CALSCALE:GREGORIAN
METHOD:PUBLISH
X-WR-CALNAME:BÜNDNIS 90/DIE GRÜNEN
X-ORIGINAL-URL:https://gruene-pankow.de
X-WR-CALDESC:Veranstaltungen für BÜNDNIS 90/DIE GRÜNEN
REFRESH-INTERVAL;VALUE=DURATION:PT1H
X-Robots-Tag:noindex
X-PUBLISHED-TTL:PT1H
BEGIN:VTIMEZONE
TZID:Europe/Berlin
BEGIN:DAYLIGHT
TZOFFSETFROM:+0100
TZOFFSETTO:+0200
TZNAME:CEST
DTSTART:20250330T010000
END:DAYLIGHT
BEGIN:STANDARD
TZOFFSETFROM:+0200
TZOFFSETTO:+0100
TZNAME:CET
DTSTART:20251026T010000
END:STANDARD
BEGIN:DAYLIGHT
TZOFFSETFROM:+0100
TZOFFSETTO:+0200
TZNAME:CEST
DTSTART:20260329T010000
END:DAYLIGHT
BEGIN:STANDARD
TZOFFSETFROM:+0200
TZOFFSETTO:+0100
TZNAME:CET
DTSTART:20261025T010000
END:STANDARD
BEGIN:DAYLIGHT
TZOFFSETFROM:+0100
TZOFFSETTO:+0200
TZNAME:CEST
DTSTART:20270328T010000
END:DAYLIGHT
BEGIN:STANDARD
TZOFFSETFROM:+0200
TZOFFSETTO:+0100
TZNAME:CET
DTSTART:20271031T010000
END:STANDARD
END:VTIMEZONE
BEGIN:VEVENT
DTSTART;TZID=Europe/Berlin:20260421T180000
DTEND;TZID=Europe/Berlin:20260421T190000
DTSTAMP:20260421T021049
CREATED:20260414T084438Z
LAST-MODIFIED:20260414T084825Z
UID:17540-1776794400-1776798000@gruene-pankow.de
SUMMARY:Sprecher*innen der Stadtteilgruppen
DESCRIPTION:
URL:https://gruene-pankow.de/termin/sprecherinnen-der-stadtteilgruppen/
LOCATION:Kreisgeschäftsstelle (großer Raum)\, Pappelallee 84\, Berlin-Prenzlauer Berg\, 10437
CATEGORIES:Kreisvorstand
ATTACH;FMTTYPE=image/png:https://gruene-pankow.de/wp-content/uploads/2024/05/Stadtteilgruppen.png
END:VEVENT
BEGIN:VEVENT
DTSTART;TZID=Europe/Berlin:20260421T190000
DTEND;TZID=Europe/Berlin:20260421T190000
DTSTAMP:20260421T021049
CREATED:20251119T205149Z
LAST-MODIFIED:20260414T081540Z
UID:15206-1776798000-1776798000@gruene-pankow.de
SUMMARY:Sitzung des Kreisvorstands
DESCRIPTION:
URL:https://gruene-pankow.de/termin/sitzung-des-kreisvorstands-76/
LOCATION:Kreisgeschäftsstelle (kleiner Raum)\, Pappelallee 84\, Berlin-Prenzlauer Berg\, 10437
CATEGORIES:Kreisvorstand
ATTACH;FMTTYPE=image/png:https://gruene-pankow.de/wp-content/uploads/2023/11/Vorstandssitzung.png
END:VEVENT
BEGIN:VEVENT
DTSTART;TZID=Europe/Berlin:20260421T193000
DTEND;TZID=Europe/Berlin:20260421T210000
DTSTAMP:20260421T021049
CREATED:20251213T171249Z
LAST-MODIFIED:20260414T081652Z
UID:15642-1776799800-1776805200@gruene-pankow.de
SUMMARY:Stadtteilgruppe Prenzlauer Berg Nordwest mit Sprecher:innen-Wahlen
DESCRIPTION:Wir wählen die Sprecher:innen der SG08 neu und laden herzlich alle Mitglieder der Stadtteilgruppe dazu ein!
URL:https://gruene-pankow.de/termin/stadtteilgruppe-prenzlauer-berg-nordwest-13/
LOCATION:Kreisgeschäftsstelle (großer Raum)\, Pappelallee 84\, Berlin-Prenzlauer Berg\, 10437
CATEGORIES:Stadtteilgruppen
ATTACH;FMTTYPE=image/jpeg:https://gruene-pankow.de/wp-content/uploads/2024/02/SG-Prenzlauer-Berg-Nordwest.jpg
ORGANIZER;CN="SG Prenzlauer Berg Nordwest":MAILTO:prenzlauer-berg-nw@gruene-pankow.de
END:VEVENT
END:VCALENDAR