BEGIN:VCALENDAR
VERSION:2.0
PRODID:-//BÜNDNIS 90/DIE GRÜNEN - ECPv6.15.20//NONSGML v1.0//EN
CALSCALE:GREGORIAN
METHOD:PUBLISH
X-WR-CALNAME:BÜNDNIS 90/DIE GRÜNEN
X-ORIGINAL-URL:https://gruene-pankow.de
X-WR-CALDESC:Veranstaltungen für BÜNDNIS 90/DIE GRÜNEN
REFRESH-INTERVAL;VALUE=DURATION:PT1H
X-Robots-Tag:noindex
X-PUBLISHED-TTL:PT1H
BEGIN:VTIMEZONE
TZID:Europe/Berlin
BEGIN:DAYLIGHT
TZOFFSETFROM:+0100
TZOFFSETTO:+0200
TZNAME:CEST
DTSTART:20250330T010000
END:DAYLIGHT
BEGIN:STANDARD
TZOFFSETFROM:+0200
TZOFFSETTO:+0100
TZNAME:CET
DTSTART:20251026T010000
END:STANDARD
BEGIN:DAYLIGHT
TZOFFSETFROM:+0100
TZOFFSETTO:+0200
TZNAME:CEST
DTSTART:20260329T010000
END:DAYLIGHT
BEGIN:STANDARD
TZOFFSETFROM:+0200
TZOFFSETTO:+0100
TZNAME:CET
DTSTART:20261025T010000
END:STANDARD
BEGIN:DAYLIGHT
TZOFFSETFROM:+0100
TZOFFSETTO:+0200
TZNAME:CEST
DTSTART:20270328T010000
END:DAYLIGHT
BEGIN:STANDARD
TZOFFSETFROM:+0200
TZOFFSETTO:+0100
TZNAME:CET
DTSTART:20271031T010000
END:STANDARD
END:VTIMEZONE
BEGIN:VEVENT
DTSTART;TZID=Europe/Berlin:20260420T170000
DTEND;TZID=Europe/Berlin:20260420T190000
DTSTAMP:20260420T024337
CREATED:20260413T115304Z
LAST-MODIFIED:20260413T115304Z
UID:17526-1776704400-1776711600@gruene-pankow.de
SUMMARY:Sprechstunde Cordelia Koch
DESCRIPTION:Cordelia Koch bietet als Bezirksbürgermeisterin erneut eine Sprechstunde an. Dazu trifft man sie auf dem Pankower Anger. Zur Vorbereitung des Gesprächs ist eine Anmeldung inklusive einer kurzen Schilderung des Anliegens erforderlich: buergermeisterin@ba-pankow.berlin.de.
URL:https://gruene-pankow.de/termin/sprechstunde-cordelia-koch-6/
LOCATION:Pankower Anger\, Breite Straße\, Berlin-Pankow\, 13187
CATEGORIES:Bezirk,Mandatsträger*innen
ATTACH;FMTTYPE=image/png:https://gruene-pankow.de/wp-content/uploads/2026/03/Profil-Foto-Cordelia.png
END:VEVENT
BEGIN:VEVENT
DTSTART;TZID=Europe/Berlin:20260420T190000
DTEND;TZID=Europe/Berlin:20260420T210000
DTSTAMP:20260420T024337
CREATED:20251209T120700Z
LAST-MODIFIED:20251209T120853Z
UID:15588-1776711600-1776718800@gruene-pankow.de
SUMMARY:Pankows Oldies: Treffen im April
DESCRIPTION:Interessierte\, auch Jüngere\, sind herzlich eingeladen! Pankow soll altersfreundlich werden – das ist gut für alle.
URL:https://gruene-pankow.de/termin/pankows-oldies-treffen-im-april/
LOCATION:Kiezbüro B5 (kleiner Raum)\, Berliner Straße 5\, Berlin-Pankow\, 13187
CATEGORIES:Arbeitsgemeinschaften
ATTACH;FMTTYPE=image/png:https://gruene-pankow.de/wp-content/uploads/2023/11/Pankows-Oldies.png
END:VEVENT
BEGIN:VEVENT
DTSTART;TZID=Europe/Berlin:20260420T190000
DTEND;TZID=Europe/Berlin:20260420T210000
DTSTAMP:20260420T024337
CREATED:20260303T192059Z
LAST-MODIFIED:20260303T192059Z
UID:16937-1776711600-1776718800@gruene-pankow.de
SUMMARY:AG Soziales und Gesundheit
DESCRIPTION:
URL:https://gruene-pankow.de/termin/ag-soziales-und-gesundheit-8/
LOCATION:Kiezbüro B5 (großer Raum)\, Berliner Straße 5\, Berlin-Pankow\, 13187
CATEGORIES:Arbeitsgemeinschaften
ATTACH;FMTTYPE=image/png:https://gruene-pankow.de/wp-content/uploads/2025/05/AG-Soziales-und-Gesundheit.png
END:VEVENT
BEGIN:VEVENT
DTSTART;TZID=Europe/Berlin:20260420T193000
DTEND;TZID=Europe/Berlin:20260420T213000
DTSTAMP:20260420T024337
CREATED:20260413T062839Z
LAST-MODIFIED:20260413T062839Z
UID:17419-1776713400-1776720600@gruene-pankow.de
SUMMARY:AG Ost mit Nord-DiKas: Bettina\, Sebastian\, Fritz
DESCRIPTION:Die AG Ost Pankow unterstützt dort\, wo es wenige Bündnisgrüne gibt. Angefangen in unserem schönen Bezirk. Beim Treffen heute berichten unsere Direktkandidierenden aus den nördlichen Pankower Wahlkreisen von ihren Wahlkampfideen und freuen sich über Input und WoMen Power bei der Umsetzung. \nBettina Jarasch für Wahlkreis 1 (Buch und Karow)\, Sebastian Kascha für Wahlkreis 2 (Rosenthal\, Französisch Buchholz) und Friedrich (Fritz) Ehrhardt für Wahlkreis 4 (Weißensee Nord\, Blankenburg).
URL:https://gruene-pankow.de/termin/ag-ost-mit-nord-dikas-bettina-sebastian-fritz/
LOCATION:Kreisgeschäftsstelle (großer Raum)\, Pappelallee 84\, Berlin-Prenzlauer Berg\, 10437
CATEGORIES:Arbeitsgemeinschaften
ATTACH;FMTTYPE=image/jpeg:https://gruene-pankow.de/wp-content/uploads/2026/03/Fritz_Bettina_Sebastian.jpg
END:VEVENT
END:VCALENDAR